BEGIN:VCALENDAR
VERSION:2.0
PRODID:-//First Presbyterian Church - ECPv6.15.20//NONSGML v1.0//EN
CALSCALE:GREGORIAN
METHOD:PUBLISH
X-ORIGINAL-URL:https://fpcjackson.org
X-WR-CALDESC:Events for First Presbyterian Church
REFRESH-INTERVAL;VALUE=DURATION:PT1H
X-Robots-Tag:noindex
X-PUBLISHED-TTL:PT1H
BEGIN:VTIMEZONE
TZID:America/Chicago
BEGIN:DAYLIGHT
TZOFFSETFROM:-0600
TZOFFSETTO:-0500
TZNAME:CDT
DTSTART:20260308T080000
END:DAYLIGHT
BEGIN:STANDARD
TZOFFSETFROM:-0500
TZOFFSETTO:-0600
TZNAME:CST
DTSTART:20261101T070000
END:STANDARD
BEGIN:DAYLIGHT
TZOFFSETFROM:-0600
TZOFFSETTO:-0500
TZNAME:CDT
DTSTART:20270314T080000
END:DAYLIGHT
BEGIN:STANDARD
TZOFFSETFROM:-0500
TZOFFSETTO:-0600
TZNAME:CST
DTSTART:20271107T070000
END:STANDARD
BEGIN:DAYLIGHT
TZOFFSETFROM:-0600
TZOFFSETTO:-0500
TZNAME:CDT
DTSTART:20280312T080000
END:DAYLIGHT
BEGIN:STANDARD
TZOFFSETFROM:-0500
TZOFFSETTO:-0600
TZNAME:CST
DTSTART:20281105T070000
END:STANDARD
BEGIN:DAYLIGHT
TZOFFSETFROM:-0600
TZOFFSETTO:-0500
TZNAME:CDT
DTSTART:20290311T080000
END:DAYLIGHT
BEGIN:STANDARD
TZOFFSETFROM:-0500
TZOFFSETTO:-0600
TZNAME:CST
DTSTART:20291104T070000
END:STANDARD
END:VTIMEZONE
BEGIN:VEVENT
DTSTART;TZID=America/Chicago:20270621T150000
DTEND;TZID=America/Chicago:20270621T163000
DTSTAMP:20260425T062953
CREATED:20250521T161143Z
LAST-MODIFIED:20251218T222804Z
UID:10009292-1813590000-1813595400@fpcjackson.org
SUMMARY:Oasis at Mission First FPC Tutoring Team
DESCRIPTION:Meets Mondays during the school year \n3-4:30 p.m. at Peyton’s House (417 West Ash Street) \nFPC Team Leader: Ashley Meena – 601-573-3389 – ashleymeena@aol.com \nAssist in the weekly elementary-aged\, after-school tutoring program. Your love matters! Contact Ashley to be added to the team communications.
URL:https://fpcjackson.org/event/oasis-at-mission-first-fpc-tutoring-team/2027-06-21/
LOCATION:Peyton’s House\, 417 West Ash Street\, Jackson\, 39203\, United States
CATEGORIES:Outreach
END:VEVENT
BEGIN:VEVENT
DTSTART;TZID=America/Chicago:20270628T150000
DTEND;TZID=America/Chicago:20270628T163000
DTSTAMP:20260425T062953
CREATED:20250521T161143Z
LAST-MODIFIED:20251218T222804Z
UID:10009293-1814194800-1814200200@fpcjackson.org
SUMMARY:Oasis at Mission First FPC Tutoring Team
DESCRIPTION:Meets Mondays during the school year \n3-4:30 p.m. at Peyton’s House (417 West Ash Street) \nFPC Team Leader: Ashley Meena – 601-573-3389 – ashleymeena@aol.com \nAssist in the weekly elementary-aged\, after-school tutoring program. Your love matters! Contact Ashley to be added to the team communications.
URL:https://fpcjackson.org/event/oasis-at-mission-first-fpc-tutoring-team/2027-06-28/
LOCATION:Peyton’s House\, 417 West Ash Street\, Jackson\, 39203\, United States
CATEGORIES:Outreach
END:VEVENT
BEGIN:VEVENT
DTSTART;TZID=America/Chicago:20270705T150000
DTEND;TZID=America/Chicago:20270705T163000
DTSTAMP:20260425T062953
CREATED:20250521T161143Z
LAST-MODIFIED:20251218T222804Z
UID:10009294-1814799600-1814805000@fpcjackson.org
SUMMARY:Oasis at Mission First FPC Tutoring Team
DESCRIPTION:Meets Mondays during the school year \n3-4:30 p.m. at Peyton’s House (417 West Ash Street) \nFPC Team Leader: Ashley Meena – 601-573-3389 – ashleymeena@aol.com \nAssist in the weekly elementary-aged\, after-school tutoring program. Your love matters! Contact Ashley to be added to the team communications.
URL:https://fpcjackson.org/event/oasis-at-mission-first-fpc-tutoring-team/2027-07-05/
LOCATION:Peyton’s House\, 417 West Ash Street\, Jackson\, 39203\, United States
CATEGORIES:Outreach
END:VEVENT
BEGIN:VEVENT
DTSTART;TZID=America/Chicago:20270712T150000
DTEND;TZID=America/Chicago:20270712T163000
DTSTAMP:20260425T062953
CREATED:20250521T161143Z
LAST-MODIFIED:20251218T222804Z
UID:10009295-1815404400-1815409800@fpcjackson.org
SUMMARY:Oasis at Mission First FPC Tutoring Team
DESCRIPTION:Meets Mondays during the school year \n3-4:30 p.m. at Peyton’s House (417 West Ash Street) \nFPC Team Leader: Ashley Meena – 601-573-3389 – ashleymeena@aol.com \nAssist in the weekly elementary-aged\, after-school tutoring program. Your love matters! Contact Ashley to be added to the team communications.
URL:https://fpcjackson.org/event/oasis-at-mission-first-fpc-tutoring-team/2027-07-12/
LOCATION:Peyton’s House\, 417 West Ash Street\, Jackson\, 39203\, United States
CATEGORIES:Outreach
END:VEVENT
BEGIN:VEVENT
DTSTART;TZID=America/Chicago:20270719T150000
DTEND;TZID=America/Chicago:20270719T163000
DTSTAMP:20260425T062953
CREATED:20250521T161143Z
LAST-MODIFIED:20251218T222804Z
UID:10009296-1816009200-1816014600@fpcjackson.org
SUMMARY:Oasis at Mission First FPC Tutoring Team
DESCRIPTION:Meets Mondays during the school year \n3-4:30 p.m. at Peyton’s House (417 West Ash Street) \nFPC Team Leader: Ashley Meena – 601-573-3389 – ashleymeena@aol.com \nAssist in the weekly elementary-aged\, after-school tutoring program. Your love matters! Contact Ashley to be added to the team communications.
URL:https://fpcjackson.org/event/oasis-at-mission-first-fpc-tutoring-team/2027-07-19/
LOCATION:Peyton’s House\, 417 West Ash Street\, Jackson\, 39203\, United States
CATEGORIES:Outreach
END:VEVENT
BEGIN:VEVENT
DTSTART;TZID=America/Chicago:20270726T150000
DTEND;TZID=America/Chicago:20270726T163000
DTSTAMP:20260425T062953
CREATED:20250521T161143Z
LAST-MODIFIED:20251218T222804Z
UID:10009297-1816614000-1816619400@fpcjackson.org
SUMMARY:Oasis at Mission First FPC Tutoring Team
DESCRIPTION:Meets Mondays during the school year \n3-4:30 p.m. at Peyton’s House (417 West Ash Street) \nFPC Team Leader: Ashley Meena – 601-573-3389 – ashleymeena@aol.com \nAssist in the weekly elementary-aged\, after-school tutoring program. Your love matters! Contact Ashley to be added to the team communications.
URL:https://fpcjackson.org/event/oasis-at-mission-first-fpc-tutoring-team/2027-07-26/
LOCATION:Peyton’s House\, 417 West Ash Street\, Jackson\, 39203\, United States
CATEGORIES:Outreach
END:VEVENT
BEGIN:VEVENT
DTSTART;TZID=America/Chicago:20270802T150000
DTEND;TZID=America/Chicago:20270802T163000
DTSTAMP:20260425T062953
CREATED:20250521T161143Z
LAST-MODIFIED:20251218T222804Z
UID:10009298-1817218800-1817224200@fpcjackson.org
SUMMARY:Oasis at Mission First FPC Tutoring Team
DESCRIPTION:Meets Mondays during the school year \n3-4:30 p.m. at Peyton’s House (417 West Ash Street) \nFPC Team Leader: Ashley Meena – 601-573-3389 – ashleymeena@aol.com \nAssist in the weekly elementary-aged\, after-school tutoring program. Your love matters! Contact Ashley to be added to the team communications.
URL:https://fpcjackson.org/event/oasis-at-mission-first-fpc-tutoring-team/2027-08-02/
LOCATION:Peyton’s House\, 417 West Ash Street\, Jackson\, 39203\, United States
CATEGORIES:Outreach
END:VEVENT
BEGIN:VEVENT
DTSTART;TZID=America/Chicago:20270809T150000
DTEND;TZID=America/Chicago:20270809T163000
DTSTAMP:20260425T062953
CREATED:20250521T161143Z
LAST-MODIFIED:20251218T222804Z
UID:10009299-1817823600-1817829000@fpcjackson.org
SUMMARY:Oasis at Mission First FPC Tutoring Team
DESCRIPTION:Meets Mondays during the school year \n3-4:30 p.m. at Peyton’s House (417 West Ash Street) \nFPC Team Leader: Ashley Meena – 601-573-3389 – ashleymeena@aol.com \nAssist in the weekly elementary-aged\, after-school tutoring program. Your love matters! Contact Ashley to be added to the team communications.
URL:https://fpcjackson.org/event/oasis-at-mission-first-fpc-tutoring-team/2027-08-09/
LOCATION:Peyton’s House\, 417 West Ash Street\, Jackson\, 39203\, United States
CATEGORIES:Outreach
END:VEVENT
BEGIN:VEVENT
DTSTART;TZID=America/Chicago:20270816T150000
DTEND;TZID=America/Chicago:20270816T163000
DTSTAMP:20260425T062953
CREATED:20250521T161143Z
LAST-MODIFIED:20251218T222804Z
UID:10009300-1818428400-1818433800@fpcjackson.org
SUMMARY:Oasis at Mission First FPC Tutoring Team
DESCRIPTION:Meets Mondays during the school year \n3-4:30 p.m. at Peyton’s House (417 West Ash Street) \nFPC Team Leader: Ashley Meena – 601-573-3389 – ashleymeena@aol.com \nAssist in the weekly elementary-aged\, after-school tutoring program. Your love matters! Contact Ashley to be added to the team communications.
URL:https://fpcjackson.org/event/oasis-at-mission-first-fpc-tutoring-team/2027-08-16/
LOCATION:Peyton’s House\, 417 West Ash Street\, Jackson\, 39203\, United States
CATEGORIES:Outreach
END:VEVENT
BEGIN:VEVENT
DTSTART;TZID=America/Chicago:20270823T150000
DTEND;TZID=America/Chicago:20270823T163000
DTSTAMP:20260425T062953
CREATED:20250521T161143Z
LAST-MODIFIED:20251218T222804Z
UID:10009301-1819033200-1819038600@fpcjackson.org
SUMMARY:Oasis at Mission First FPC Tutoring Team
DESCRIPTION:Meets Mondays during the school year \n3-4:30 p.m. at Peyton’s House (417 West Ash Street) \nFPC Team Leader: Ashley Meena – 601-573-3389 – ashleymeena@aol.com \nAssist in the weekly elementary-aged\, after-school tutoring program. Your love matters! Contact Ashley to be added to the team communications.
URL:https://fpcjackson.org/event/oasis-at-mission-first-fpc-tutoring-team/2027-08-23/
LOCATION:Peyton’s House\, 417 West Ash Street\, Jackson\, 39203\, United States
CATEGORIES:Outreach
END:VEVENT
BEGIN:VEVENT
DTSTART;TZID=America/Chicago:20270830T150000
DTEND;TZID=America/Chicago:20270830T163000
DTSTAMP:20260425T062953
CREATED:20250521T161143Z
LAST-MODIFIED:20251218T222804Z
UID:10009302-1819638000-1819643400@fpcjackson.org
SUMMARY:Oasis at Mission First FPC Tutoring Team
DESCRIPTION:Meets Mondays during the school year \n3-4:30 p.m. at Peyton’s House (417 West Ash Street) \nFPC Team Leader: Ashley Meena – 601-573-3389 – ashleymeena@aol.com \nAssist in the weekly elementary-aged\, after-school tutoring program. Your love matters! Contact Ashley to be added to the team communications.
URL:https://fpcjackson.org/event/oasis-at-mission-first-fpc-tutoring-team/2027-08-30/
LOCATION:Peyton’s House\, 417 West Ash Street\, Jackson\, 39203\, United States
CATEGORIES:Outreach
END:VEVENT
BEGIN:VEVENT
DTSTART;TZID=America/Chicago:20270906T150000
DTEND;TZID=America/Chicago:20270906T163000
DTSTAMP:20260425T062953
CREATED:20250521T161143Z
LAST-MODIFIED:20251218T222804Z
UID:10009303-1820242800-1820248200@fpcjackson.org
SUMMARY:Oasis at Mission First FPC Tutoring Team
DESCRIPTION:Meets Mondays during the school year \n3-4:30 p.m. at Peyton’s House (417 West Ash Street) \nFPC Team Leader: Ashley Meena – 601-573-3389 – ashleymeena@aol.com \nAssist in the weekly elementary-aged\, after-school tutoring program. Your love matters! Contact Ashley to be added to the team communications.
URL:https://fpcjackson.org/event/oasis-at-mission-first-fpc-tutoring-team/2027-09-06/
LOCATION:Peyton’s House\, 417 West Ash Street\, Jackson\, 39203\, United States
CATEGORIES:Outreach
END:VEVENT
BEGIN:VEVENT
DTSTART;TZID=America/Chicago:20270913T150000
DTEND;TZID=America/Chicago:20270913T163000
DTSTAMP:20260425T062953
CREATED:20250521T161143Z
LAST-MODIFIED:20251218T222804Z
UID:10009304-1820847600-1820853000@fpcjackson.org
SUMMARY:Oasis at Mission First FPC Tutoring Team
DESCRIPTION:Meets Mondays during the school year \n3-4:30 p.m. at Peyton’s House (417 West Ash Street) \nFPC Team Leader: Ashley Meena – 601-573-3389 – ashleymeena@aol.com \nAssist in the weekly elementary-aged\, after-school tutoring program. Your love matters! Contact Ashley to be added to the team communications.
URL:https://fpcjackson.org/event/oasis-at-mission-first-fpc-tutoring-team/2027-09-13/
LOCATION:Peyton’s House\, 417 West Ash Street\, Jackson\, 39203\, United States
CATEGORIES:Outreach
END:VEVENT
BEGIN:VEVENT
DTSTART;TZID=America/Chicago:20270920T150000
DTEND;TZID=America/Chicago:20270920T163000
DTSTAMP:20260425T062953
CREATED:20250521T161143Z
LAST-MODIFIED:20251218T222804Z
UID:10009305-1821452400-1821457800@fpcjackson.org
SUMMARY:Oasis at Mission First FPC Tutoring Team
DESCRIPTION:Meets Mondays during the school year \n3-4:30 p.m. at Peyton’s House (417 West Ash Street) \nFPC Team Leader: Ashley Meena – 601-573-3389 – ashleymeena@aol.com \nAssist in the weekly elementary-aged\, after-school tutoring program. Your love matters! Contact Ashley to be added to the team communications.
URL:https://fpcjackson.org/event/oasis-at-mission-first-fpc-tutoring-team/2027-09-20/
LOCATION:Peyton’s House\, 417 West Ash Street\, Jackson\, 39203\, United States
CATEGORIES:Outreach
END:VEVENT
BEGIN:VEVENT
DTSTART;TZID=America/Chicago:20270927T150000
DTEND;TZID=America/Chicago:20270927T163000
DTSTAMP:20260425T062953
CREATED:20250521T161143Z
LAST-MODIFIED:20251218T222804Z
UID:10009306-1822057200-1822062600@fpcjackson.org
SUMMARY:Oasis at Mission First FPC Tutoring Team
DESCRIPTION:Meets Mondays during the school year \n3-4:30 p.m. at Peyton’s House (417 West Ash Street) \nFPC Team Leader: Ashley Meena – 601-573-3389 – ashleymeena@aol.com \nAssist in the weekly elementary-aged\, after-school tutoring program. Your love matters! Contact Ashley to be added to the team communications.
URL:https://fpcjackson.org/event/oasis-at-mission-first-fpc-tutoring-team/2027-09-27/
LOCATION:Peyton’s House\, 417 West Ash Street\, Jackson\, 39203\, United States
CATEGORIES:Outreach
END:VEVENT
BEGIN:VEVENT
DTSTART;TZID=America/Chicago:20271004T150000
DTEND;TZID=America/Chicago:20271004T163000
DTSTAMP:20260425T062953
CREATED:20250521T161143Z
LAST-MODIFIED:20251218T222804Z
UID:10009307-1822662000-1822667400@fpcjackson.org
SUMMARY:Oasis at Mission First FPC Tutoring Team
DESCRIPTION:Meets Mondays during the school year \n3-4:30 p.m. at Peyton’s House (417 West Ash Street) \nFPC Team Leader: Ashley Meena – 601-573-3389 – ashleymeena@aol.com \nAssist in the weekly elementary-aged\, after-school tutoring program. Your love matters! Contact Ashley to be added to the team communications.
URL:https://fpcjackson.org/event/oasis-at-mission-first-fpc-tutoring-team/2027-10-04/
LOCATION:Peyton’s House\, 417 West Ash Street\, Jackson\, 39203\, United States
CATEGORIES:Outreach
END:VEVENT
BEGIN:VEVENT
DTSTART;TZID=America/Chicago:20271011T150000
DTEND;TZID=America/Chicago:20271011T163000
DTSTAMP:20260425T062953
CREATED:20250521T161143Z
LAST-MODIFIED:20251218T222804Z
UID:10009308-1823266800-1823272200@fpcjackson.org
SUMMARY:Oasis at Mission First FPC Tutoring Team
DESCRIPTION:Meets Mondays during the school year \n3-4:30 p.m. at Peyton’s House (417 West Ash Street) \nFPC Team Leader: Ashley Meena – 601-573-3389 – ashleymeena@aol.com \nAssist in the weekly elementary-aged\, after-school tutoring program. Your love matters! Contact Ashley to be added to the team communications.
URL:https://fpcjackson.org/event/oasis-at-mission-first-fpc-tutoring-team/2027-10-11/
LOCATION:Peyton’s House\, 417 West Ash Street\, Jackson\, 39203\, United States
CATEGORIES:Outreach
END:VEVENT
BEGIN:VEVENT
DTSTART;TZID=America/Chicago:20271018T150000
DTEND;TZID=America/Chicago:20271018T163000
DTSTAMP:20260425T062953
CREATED:20250521T161143Z
LAST-MODIFIED:20251218T222804Z
UID:10009309-1823871600-1823877000@fpcjackson.org
SUMMARY:Oasis at Mission First FPC Tutoring Team
DESCRIPTION:Meets Mondays during the school year \n3-4:30 p.m. at Peyton’s House (417 West Ash Street) \nFPC Team Leader: Ashley Meena – 601-573-3389 – ashleymeena@aol.com \nAssist in the weekly elementary-aged\, after-school tutoring program. Your love matters! Contact Ashley to be added to the team communications.
URL:https://fpcjackson.org/event/oasis-at-mission-first-fpc-tutoring-team/2027-10-18/
LOCATION:Peyton’s House\, 417 West Ash Street\, Jackson\, 39203\, United States
CATEGORIES:Outreach
END:VEVENT
BEGIN:VEVENT
DTSTART;TZID=America/Chicago:20271025T150000
DTEND;TZID=America/Chicago:20271025T163000
DTSTAMP:20260425T062953
CREATED:20250521T161143Z
LAST-MODIFIED:20251218T222804Z
UID:10009310-1824476400-1824481800@fpcjackson.org
SUMMARY:Oasis at Mission First FPC Tutoring Team
DESCRIPTION:Meets Mondays during the school year \n3-4:30 p.m. at Peyton’s House (417 West Ash Street) \nFPC Team Leader: Ashley Meena – 601-573-3389 – ashleymeena@aol.com \nAssist in the weekly elementary-aged\, after-school tutoring program. Your love matters! Contact Ashley to be added to the team communications.
URL:https://fpcjackson.org/event/oasis-at-mission-first-fpc-tutoring-team/2027-10-25/
LOCATION:Peyton’s House\, 417 West Ash Street\, Jackson\, 39203\, United States
CATEGORIES:Outreach
END:VEVENT
BEGIN:VEVENT
DTSTART;TZID=America/Chicago:20271101T150000
DTEND;TZID=America/Chicago:20271101T163000
DTSTAMP:20260425T062953
CREATED:20250521T161143Z
LAST-MODIFIED:20251218T222804Z
UID:10009311-1825081200-1825086600@fpcjackson.org
SUMMARY:Oasis at Mission First FPC Tutoring Team
DESCRIPTION:Meets Mondays during the school year \n3-4:30 p.m. at Peyton’s House (417 West Ash Street) \nFPC Team Leader: Ashley Meena – 601-573-3389 – ashleymeena@aol.com \nAssist in the weekly elementary-aged\, after-school tutoring program. Your love matters! Contact Ashley to be added to the team communications.
URL:https://fpcjackson.org/event/oasis-at-mission-first-fpc-tutoring-team/2027-11-01/
LOCATION:Peyton’s House\, 417 West Ash Street\, Jackson\, 39203\, United States
CATEGORIES:Outreach
END:VEVENT
BEGIN:VEVENT
DTSTART;TZID=America/Chicago:20271108T150000
DTEND;TZID=America/Chicago:20271108T163000
DTSTAMP:20260425T062953
CREATED:20250521T161143Z
LAST-MODIFIED:20251218T222804Z
UID:10009312-1825686000-1825691400@fpcjackson.org
SUMMARY:Oasis at Mission First FPC Tutoring Team
DESCRIPTION:Meets Mondays during the school year \n3-4:30 p.m. at Peyton’s House (417 West Ash Street) \nFPC Team Leader: Ashley Meena – 601-573-3389 – ashleymeena@aol.com \nAssist in the weekly elementary-aged\, after-school tutoring program. Your love matters! Contact Ashley to be added to the team communications.
URL:https://fpcjackson.org/event/oasis-at-mission-first-fpc-tutoring-team/2027-11-08/
LOCATION:Peyton’s House\, 417 West Ash Street\, Jackson\, 39203\, United States
CATEGORIES:Outreach
END:VEVENT
BEGIN:VEVENT
DTSTART;TZID=America/Chicago:20271115T150000
DTEND;TZID=America/Chicago:20271115T163000
DTSTAMP:20260425T062953
CREATED:20250521T161143Z
LAST-MODIFIED:20251218T222804Z
UID:10009313-1826290800-1826296200@fpcjackson.org
SUMMARY:Oasis at Mission First FPC Tutoring Team
DESCRIPTION:Meets Mondays during the school year \n3-4:30 p.m. at Peyton’s House (417 West Ash Street) \nFPC Team Leader: Ashley Meena – 601-573-3389 – ashleymeena@aol.com \nAssist in the weekly elementary-aged\, after-school tutoring program. Your love matters! Contact Ashley to be added to the team communications.
URL:https://fpcjackson.org/event/oasis-at-mission-first-fpc-tutoring-team/2027-11-15/
LOCATION:Peyton’s House\, 417 West Ash Street\, Jackson\, 39203\, United States
CATEGORIES:Outreach
END:VEVENT
BEGIN:VEVENT
DTSTART;TZID=America/Chicago:20271122T150000
DTEND;TZID=America/Chicago:20271122T163000
DTSTAMP:20260425T062953
CREATED:20250521T161143Z
LAST-MODIFIED:20251218T222804Z
UID:10009314-1826895600-1826901000@fpcjackson.org
SUMMARY:Oasis at Mission First FPC Tutoring Team
DESCRIPTION:Meets Mondays during the school year \n3-4:30 p.m. at Peyton’s House (417 West Ash Street) \nFPC Team Leader: Ashley Meena – 601-573-3389 – ashleymeena@aol.com \nAssist in the weekly elementary-aged\, after-school tutoring program. Your love matters! Contact Ashley to be added to the team communications.
URL:https://fpcjackson.org/event/oasis-at-mission-first-fpc-tutoring-team/2027-11-22/
LOCATION:Peyton’s House\, 417 West Ash Street\, Jackson\, 39203\, United States
CATEGORIES:Outreach
END:VEVENT
BEGIN:VEVENT
DTSTART;TZID=America/Chicago:20271129T150000
DTEND;TZID=America/Chicago:20271129T163000
DTSTAMP:20260425T062953
CREATED:20250521T161143Z
LAST-MODIFIED:20251218T222804Z
UID:10009315-1827500400-1827505800@fpcjackson.org
SUMMARY:Oasis at Mission First FPC Tutoring Team
DESCRIPTION:Meets Mondays during the school year \n3-4:30 p.m. at Peyton’s House (417 West Ash Street) \nFPC Team Leader: Ashley Meena – 601-573-3389 – ashleymeena@aol.com \nAssist in the weekly elementary-aged\, after-school tutoring program. Your love matters! Contact Ashley to be added to the team communications.
URL:https://fpcjackson.org/event/oasis-at-mission-first-fpc-tutoring-team/2027-11-29/
LOCATION:Peyton’s House\, 417 West Ash Street\, Jackson\, 39203\, United States
CATEGORIES:Outreach
END:VEVENT
BEGIN:VEVENT
DTSTART;TZID=America/Chicago:20271206T150000
DTEND;TZID=America/Chicago:20271206T163000
DTSTAMP:20260425T062953
CREATED:20250521T161143Z
LAST-MODIFIED:20251218T222804Z
UID:10009316-1828105200-1828110600@fpcjackson.org
SUMMARY:Oasis at Mission First FPC Tutoring Team
DESCRIPTION:Meets Mondays during the school year \n3-4:30 p.m. at Peyton’s House (417 West Ash Street) \nFPC Team Leader: Ashley Meena – 601-573-3389 – ashleymeena@aol.com \nAssist in the weekly elementary-aged\, after-school tutoring program. Your love matters! Contact Ashley to be added to the team communications.
URL:https://fpcjackson.org/event/oasis-at-mission-first-fpc-tutoring-team/2027-12-06/
LOCATION:Peyton’s House\, 417 West Ash Street\, Jackson\, 39203\, United States
CATEGORIES:Outreach
END:VEVENT
BEGIN:VEVENT
DTSTART;TZID=America/Chicago:20271213T150000
DTEND;TZID=America/Chicago:20271213T163000
DTSTAMP:20260425T062953
CREATED:20250521T161143Z
LAST-MODIFIED:20251218T222804Z
UID:10009317-1828710000-1828715400@fpcjackson.org
SUMMARY:Oasis at Mission First FPC Tutoring Team
DESCRIPTION:Meets Mondays during the school year \n3-4:30 p.m. at Peyton’s House (417 West Ash Street) \nFPC Team Leader: Ashley Meena – 601-573-3389 – ashleymeena@aol.com \nAssist in the weekly elementary-aged\, after-school tutoring program. Your love matters! Contact Ashley to be added to the team communications.
URL:https://fpcjackson.org/event/oasis-at-mission-first-fpc-tutoring-team/2027-12-13/
LOCATION:Peyton’s House\, 417 West Ash Street\, Jackson\, 39203\, United States
CATEGORIES:Outreach
END:VEVENT
BEGIN:VEVENT
DTSTART;TZID=America/Chicago:20271220T150000
DTEND;TZID=America/Chicago:20271220T163000
DTSTAMP:20260425T062953
CREATED:20250521T161143Z
LAST-MODIFIED:20251218T222804Z
UID:10009318-1829314800-1829320200@fpcjackson.org
SUMMARY:Oasis at Mission First FPC Tutoring Team
DESCRIPTION:Meets Mondays during the school year \n3-4:30 p.m. at Peyton’s House (417 West Ash Street) \nFPC Team Leader: Ashley Meena – 601-573-3389 – ashleymeena@aol.com \nAssist in the weekly elementary-aged\, after-school tutoring program. Your love matters! Contact Ashley to be added to the team communications.
URL:https://fpcjackson.org/event/oasis-at-mission-first-fpc-tutoring-team/2027-12-20/
LOCATION:Peyton’s House\, 417 West Ash Street\, Jackson\, 39203\, United States
CATEGORIES:Outreach
END:VEVENT
BEGIN:VEVENT
DTSTART;TZID=America/Chicago:20271227T150000
DTEND;TZID=America/Chicago:20271227T163000
DTSTAMP:20260425T062953
CREATED:20250521T161143Z
LAST-MODIFIED:20251218T222804Z
UID:10009319-1829919600-1829925000@fpcjackson.org
SUMMARY:Oasis at Mission First FPC Tutoring Team
DESCRIPTION:Meets Mondays during the school year \n3-4:30 p.m. at Peyton’s House (417 West Ash Street) \nFPC Team Leader: Ashley Meena – 601-573-3389 – ashleymeena@aol.com \nAssist in the weekly elementary-aged\, after-school tutoring program. Your love matters! Contact Ashley to be added to the team communications.
URL:https://fpcjackson.org/event/oasis-at-mission-first-fpc-tutoring-team/2027-12-27/
LOCATION:Peyton’s House\, 417 West Ash Street\, Jackson\, 39203\, United States
CATEGORIES:Outreach
END:VEVENT
BEGIN:VEVENT
DTSTART;TZID=America/Chicago:20280103T150000
DTEND;TZID=America/Chicago:20280103T163000
DTSTAMP:20260425T062953
CREATED:20250521T161143Z
LAST-MODIFIED:20251218T222804Z
UID:10009320-1830524400-1830529800@fpcjackson.org
SUMMARY:Oasis at Mission First FPC Tutoring Team
DESCRIPTION:Meets Mondays during the school year \n3-4:30 p.m. at Peyton’s House (417 West Ash Street) \nFPC Team Leader: Ashley Meena – 601-573-3389 – ashleymeena@aol.com \nAssist in the weekly elementary-aged\, after-school tutoring program. Your love matters! Contact Ashley to be added to the team communications.
URL:https://fpcjackson.org/event/oasis-at-mission-first-fpc-tutoring-team/2028-01-03/
LOCATION:Peyton’s House\, 417 West Ash Street\, Jackson\, 39203\, United States
CATEGORIES:Outreach
END:VEVENT
BEGIN:VEVENT
DTSTART;TZID=America/Chicago:20280110T150000
DTEND;TZID=America/Chicago:20280110T163000
DTSTAMP:20260425T062953
CREATED:20250521T161143Z
LAST-MODIFIED:20251218T222804Z
UID:10009321-1831129200-1831134600@fpcjackson.org
SUMMARY:Oasis at Mission First FPC Tutoring Team
DESCRIPTION:Meets Mondays during the school year \n3-4:30 p.m. at Peyton’s House (417 West Ash Street) \nFPC Team Leader: Ashley Meena – 601-573-3389 – ashleymeena@aol.com \nAssist in the weekly elementary-aged\, after-school tutoring program. Your love matters! Contact Ashley to be added to the team communications.
URL:https://fpcjackson.org/event/oasis-at-mission-first-fpc-tutoring-team/2028-01-10/
LOCATION:Peyton’s House\, 417 West Ash Street\, Jackson\, 39203\, United States
CATEGORIES:Outreach
END:VEVENT
END:VCALENDAR