BEGIN:VCALENDAR
VERSION:2.0
PRODID:-//First Presbyterian Church - ECPv6.15.20//NONSGML v1.0//EN
CALSCALE:GREGORIAN
METHOD:PUBLISH
X-ORIGINAL-URL:https://fpcjackson.org
X-WR-CALDESC:Events for First Presbyterian Church
REFRESH-INTERVAL;VALUE=DURATION:PT1H
X-Robots-Tag:noindex
X-PUBLISHED-TTL:PT1H
BEGIN:VTIMEZONE
TZID:America/Chicago
BEGIN:DAYLIGHT
TZOFFSETFROM:-0600
TZOFFSETTO:-0500
TZNAME:CDT
DTSTART:20260308T080000
END:DAYLIGHT
BEGIN:STANDARD
TZOFFSETFROM:-0500
TZOFFSETTO:-0600
TZNAME:CST
DTSTART:20261101T070000
END:STANDARD
BEGIN:DAYLIGHT
TZOFFSETFROM:-0600
TZOFFSETTO:-0500
TZNAME:CDT
DTSTART:20270314T080000
END:DAYLIGHT
BEGIN:STANDARD
TZOFFSETFROM:-0500
TZOFFSETTO:-0600
TZNAME:CST
DTSTART:20271107T070000
END:STANDARD
BEGIN:DAYLIGHT
TZOFFSETFROM:-0600
TZOFFSETTO:-0500
TZNAME:CDT
DTSTART:20280312T080000
END:DAYLIGHT
BEGIN:STANDARD
TZOFFSETFROM:-0500
TZOFFSETTO:-0600
TZNAME:CST
DTSTART:20281105T070000
END:STANDARD
END:VTIMEZONE
BEGIN:VEVENT
DTSTART;TZID=America/Chicago:20270201T150000
DTEND;TZID=America/Chicago:20270201T163000
DTSTAMP:20260425T135228
CREATED:20250521T161143Z
LAST-MODIFIED:20251218T222804Z
UID:10009272-1801494000-1801499400@fpcjackson.org
SUMMARY:Oasis at Mission First FPC Tutoring Team
DESCRIPTION:Meets Mondays during the school year \n3-4:30 p.m. at Peyton’s House (417 West Ash Street) \nFPC Team Leader: Ashley Meena – 601-573-3389 – ashleymeena@aol.com \nAssist in the weekly elementary-aged\, after-school tutoring program. Your love matters! Contact Ashley to be added to the team communications.
URL:https://fpcjackson.org/event/oasis-at-mission-first-fpc-tutoring-team/2027-02-01/
LOCATION:Peyton’s House\, 417 West Ash Street\, Jackson\, 39203\, United States
CATEGORIES:Outreach
END:VEVENT
BEGIN:VEVENT
DTSTART;TZID=America/Chicago:20270208T150000
DTEND;TZID=America/Chicago:20270208T163000
DTSTAMP:20260425T135228
CREATED:20250521T161143Z
LAST-MODIFIED:20251218T222804Z
UID:10009273-1802098800-1802104200@fpcjackson.org
SUMMARY:Oasis at Mission First FPC Tutoring Team
DESCRIPTION:Meets Mondays during the school year \n3-4:30 p.m. at Peyton’s House (417 West Ash Street) \nFPC Team Leader: Ashley Meena – 601-573-3389 – ashleymeena@aol.com \nAssist in the weekly elementary-aged\, after-school tutoring program. Your love matters! Contact Ashley to be added to the team communications.
URL:https://fpcjackson.org/event/oasis-at-mission-first-fpc-tutoring-team/2027-02-08/
LOCATION:Peyton’s House\, 417 West Ash Street\, Jackson\, 39203\, United States
CATEGORIES:Outreach
END:VEVENT
BEGIN:VEVENT
DTSTART;TZID=America/Chicago:20270215T150000
DTEND;TZID=America/Chicago:20270215T163000
DTSTAMP:20260425T135228
CREATED:20250521T161143Z
LAST-MODIFIED:20251218T222804Z
UID:10009274-1802703600-1802709000@fpcjackson.org
SUMMARY:Oasis at Mission First FPC Tutoring Team
DESCRIPTION:Meets Mondays during the school year \n3-4:30 p.m. at Peyton’s House (417 West Ash Street) \nFPC Team Leader: Ashley Meena – 601-573-3389 – ashleymeena@aol.com \nAssist in the weekly elementary-aged\, after-school tutoring program. Your love matters! Contact Ashley to be added to the team communications.
URL:https://fpcjackson.org/event/oasis-at-mission-first-fpc-tutoring-team/2027-02-15/
LOCATION:Peyton’s House\, 417 West Ash Street\, Jackson\, 39203\, United States
CATEGORIES:Outreach
END:VEVENT
BEGIN:VEVENT
DTSTART;TZID=America/Chicago:20270222T150000
DTEND;TZID=America/Chicago:20270222T163000
DTSTAMP:20260425T135228
CREATED:20250521T161143Z
LAST-MODIFIED:20251218T222804Z
UID:10009275-1803308400-1803313800@fpcjackson.org
SUMMARY:Oasis at Mission First FPC Tutoring Team
DESCRIPTION:Meets Mondays during the school year \n3-4:30 p.m. at Peyton’s House (417 West Ash Street) \nFPC Team Leader: Ashley Meena – 601-573-3389 – ashleymeena@aol.com \nAssist in the weekly elementary-aged\, after-school tutoring program. Your love matters! Contact Ashley to be added to the team communications.
URL:https://fpcjackson.org/event/oasis-at-mission-first-fpc-tutoring-team/2027-02-22/
LOCATION:Peyton’s House\, 417 West Ash Street\, Jackson\, 39203\, United States
CATEGORIES:Outreach
END:VEVENT
BEGIN:VEVENT
DTSTART;TZID=America/Chicago:20270301T150000
DTEND;TZID=America/Chicago:20270301T163000
DTSTAMP:20260425T135228
CREATED:20250521T161143Z
LAST-MODIFIED:20251218T222804Z
UID:10009276-1803913200-1803918600@fpcjackson.org
SUMMARY:Oasis at Mission First FPC Tutoring Team
DESCRIPTION:Meets Mondays during the school year \n3-4:30 p.m. at Peyton’s House (417 West Ash Street) \nFPC Team Leader: Ashley Meena – 601-573-3389 – ashleymeena@aol.com \nAssist in the weekly elementary-aged\, after-school tutoring program. Your love matters! Contact Ashley to be added to the team communications.
URL:https://fpcjackson.org/event/oasis-at-mission-first-fpc-tutoring-team/2027-03-01/
LOCATION:Peyton’s House\, 417 West Ash Street\, Jackson\, 39203\, United States
CATEGORIES:Outreach
END:VEVENT
BEGIN:VEVENT
DTSTART;TZID=America/Chicago:20270308T150000
DTEND;TZID=America/Chicago:20270308T163000
DTSTAMP:20260425T135228
CREATED:20250521T161143Z
LAST-MODIFIED:20251218T222804Z
UID:10009277-1804518000-1804523400@fpcjackson.org
SUMMARY:Oasis at Mission First FPC Tutoring Team
DESCRIPTION:Meets Mondays during the school year \n3-4:30 p.m. at Peyton’s House (417 West Ash Street) \nFPC Team Leader: Ashley Meena – 601-573-3389 – ashleymeena@aol.com \nAssist in the weekly elementary-aged\, after-school tutoring program. Your love matters! Contact Ashley to be added to the team communications.
URL:https://fpcjackson.org/event/oasis-at-mission-first-fpc-tutoring-team/2027-03-08/
LOCATION:Peyton’s House\, 417 West Ash Street\, Jackson\, 39203\, United States
CATEGORIES:Outreach
END:VEVENT
BEGIN:VEVENT
DTSTART;TZID=America/Chicago:20270315T150000
DTEND;TZID=America/Chicago:20270315T163000
DTSTAMP:20260425T135228
CREATED:20250521T161143Z
LAST-MODIFIED:20251218T222804Z
UID:10009278-1805122800-1805128200@fpcjackson.org
SUMMARY:Oasis at Mission First FPC Tutoring Team
DESCRIPTION:Meets Mondays during the school year \n3-4:30 p.m. at Peyton’s House (417 West Ash Street) \nFPC Team Leader: Ashley Meena – 601-573-3389 – ashleymeena@aol.com \nAssist in the weekly elementary-aged\, after-school tutoring program. Your love matters! Contact Ashley to be added to the team communications.
URL:https://fpcjackson.org/event/oasis-at-mission-first-fpc-tutoring-team/2027-03-15/
LOCATION:Peyton’s House\, 417 West Ash Street\, Jackson\, 39203\, United States
CATEGORIES:Outreach
END:VEVENT
BEGIN:VEVENT
DTSTART;TZID=America/Chicago:20270322T150000
DTEND;TZID=America/Chicago:20270322T163000
DTSTAMP:20260425T135228
CREATED:20250521T161143Z
LAST-MODIFIED:20251218T222804Z
UID:10009279-1805727600-1805733000@fpcjackson.org
SUMMARY:Oasis at Mission First FPC Tutoring Team
DESCRIPTION:Meets Mondays during the school year \n3-4:30 p.m. at Peyton’s House (417 West Ash Street) \nFPC Team Leader: Ashley Meena – 601-573-3389 – ashleymeena@aol.com \nAssist in the weekly elementary-aged\, after-school tutoring program. Your love matters! Contact Ashley to be added to the team communications.
URL:https://fpcjackson.org/event/oasis-at-mission-first-fpc-tutoring-team/2027-03-22/
LOCATION:Peyton’s House\, 417 West Ash Street\, Jackson\, 39203\, United States
CATEGORIES:Outreach
END:VEVENT
BEGIN:VEVENT
DTSTART;TZID=America/Chicago:20270329T150000
DTEND;TZID=America/Chicago:20270329T163000
DTSTAMP:20260425T135228
CREATED:20250521T161143Z
LAST-MODIFIED:20251218T222804Z
UID:10009280-1806332400-1806337800@fpcjackson.org
SUMMARY:Oasis at Mission First FPC Tutoring Team
DESCRIPTION:Meets Mondays during the school year \n3-4:30 p.m. at Peyton’s House (417 West Ash Street) \nFPC Team Leader: Ashley Meena – 601-573-3389 – ashleymeena@aol.com \nAssist in the weekly elementary-aged\, after-school tutoring program. Your love matters! Contact Ashley to be added to the team communications.
URL:https://fpcjackson.org/event/oasis-at-mission-first-fpc-tutoring-team/2027-03-29/
LOCATION:Peyton’s House\, 417 West Ash Street\, Jackson\, 39203\, United States
CATEGORIES:Outreach
END:VEVENT
BEGIN:VEVENT
DTSTART;TZID=America/Chicago:20270405T150000
DTEND;TZID=America/Chicago:20270405T163000
DTSTAMP:20260425T135228
CREATED:20250521T161143Z
LAST-MODIFIED:20251218T222804Z
UID:10009281-1806937200-1806942600@fpcjackson.org
SUMMARY:Oasis at Mission First FPC Tutoring Team
DESCRIPTION:Meets Mondays during the school year \n3-4:30 p.m. at Peyton’s House (417 West Ash Street) \nFPC Team Leader: Ashley Meena – 601-573-3389 – ashleymeena@aol.com \nAssist in the weekly elementary-aged\, after-school tutoring program. Your love matters! Contact Ashley to be added to the team communications.
URL:https://fpcjackson.org/event/oasis-at-mission-first-fpc-tutoring-team/2027-04-05/
LOCATION:Peyton’s House\, 417 West Ash Street\, Jackson\, 39203\, United States
CATEGORIES:Outreach
END:VEVENT
BEGIN:VEVENT
DTSTART;TZID=America/Chicago:20270412T150000
DTEND;TZID=America/Chicago:20270412T163000
DTSTAMP:20260425T135228
CREATED:20250521T161143Z
LAST-MODIFIED:20251218T222804Z
UID:10009282-1807542000-1807547400@fpcjackson.org
SUMMARY:Oasis at Mission First FPC Tutoring Team
DESCRIPTION:Meets Mondays during the school year \n3-4:30 p.m. at Peyton’s House (417 West Ash Street) \nFPC Team Leader: Ashley Meena – 601-573-3389 – ashleymeena@aol.com \nAssist in the weekly elementary-aged\, after-school tutoring program. Your love matters! Contact Ashley to be added to the team communications.
URL:https://fpcjackson.org/event/oasis-at-mission-first-fpc-tutoring-team/2027-04-12/
LOCATION:Peyton’s House\, 417 West Ash Street\, Jackson\, 39203\, United States
CATEGORIES:Outreach
END:VEVENT
BEGIN:VEVENT
DTSTART;TZID=America/Chicago:20270419T150000
DTEND;TZID=America/Chicago:20270419T163000
DTSTAMP:20260425T135228
CREATED:20250521T161143Z
LAST-MODIFIED:20251218T222804Z
UID:10009283-1808146800-1808152200@fpcjackson.org
SUMMARY:Oasis at Mission First FPC Tutoring Team
DESCRIPTION:Meets Mondays during the school year \n3-4:30 p.m. at Peyton’s House (417 West Ash Street) \nFPC Team Leader: Ashley Meena – 601-573-3389 – ashleymeena@aol.com \nAssist in the weekly elementary-aged\, after-school tutoring program. Your love matters! Contact Ashley to be added to the team communications.
URL:https://fpcjackson.org/event/oasis-at-mission-first-fpc-tutoring-team/2027-04-19/
LOCATION:Peyton’s House\, 417 West Ash Street\, Jackson\, 39203\, United States
CATEGORIES:Outreach
END:VEVENT
BEGIN:VEVENT
DTSTART;TZID=America/Chicago:20270426T150000
DTEND;TZID=America/Chicago:20270426T163000
DTSTAMP:20260425T135228
CREATED:20250521T161143Z
LAST-MODIFIED:20251218T222804Z
UID:10009284-1808751600-1808757000@fpcjackson.org
SUMMARY:Oasis at Mission First FPC Tutoring Team
DESCRIPTION:Meets Mondays during the school year \n3-4:30 p.m. at Peyton’s House (417 West Ash Street) \nFPC Team Leader: Ashley Meena – 601-573-3389 – ashleymeena@aol.com \nAssist in the weekly elementary-aged\, after-school tutoring program. Your love matters! Contact Ashley to be added to the team communications.
URL:https://fpcjackson.org/event/oasis-at-mission-first-fpc-tutoring-team/2027-04-26/
LOCATION:Peyton’s House\, 417 West Ash Street\, Jackson\, 39203\, United States
CATEGORIES:Outreach
END:VEVENT
BEGIN:VEVENT
DTSTART;TZID=America/Chicago:20270503T150000
DTEND;TZID=America/Chicago:20270503T163000
DTSTAMP:20260425T135228
CREATED:20250521T161143Z
LAST-MODIFIED:20251218T222804Z
UID:10009285-1809356400-1809361800@fpcjackson.org
SUMMARY:Oasis at Mission First FPC Tutoring Team
DESCRIPTION:Meets Mondays during the school year \n3-4:30 p.m. at Peyton’s House (417 West Ash Street) \nFPC Team Leader: Ashley Meena – 601-573-3389 – ashleymeena@aol.com \nAssist in the weekly elementary-aged\, after-school tutoring program. Your love matters! Contact Ashley to be added to the team communications.
URL:https://fpcjackson.org/event/oasis-at-mission-first-fpc-tutoring-team/2027-05-03/
LOCATION:Peyton’s House\, 417 West Ash Street\, Jackson\, 39203\, United States
CATEGORIES:Outreach
END:VEVENT
BEGIN:VEVENT
DTSTART;TZID=America/Chicago:20270510T150000
DTEND;TZID=America/Chicago:20270510T163000
DTSTAMP:20260425T135228
CREATED:20250521T161143Z
LAST-MODIFIED:20251218T222804Z
UID:10009286-1809961200-1809966600@fpcjackson.org
SUMMARY:Oasis at Mission First FPC Tutoring Team
DESCRIPTION:Meets Mondays during the school year \n3-4:30 p.m. at Peyton’s House (417 West Ash Street) \nFPC Team Leader: Ashley Meena – 601-573-3389 – ashleymeena@aol.com \nAssist in the weekly elementary-aged\, after-school tutoring program. Your love matters! Contact Ashley to be added to the team communications.
URL:https://fpcjackson.org/event/oasis-at-mission-first-fpc-tutoring-team/2027-05-10/
LOCATION:Peyton’s House\, 417 West Ash Street\, Jackson\, 39203\, United States
CATEGORIES:Outreach
END:VEVENT
BEGIN:VEVENT
DTSTART;TZID=America/Chicago:20270517T150000
DTEND;TZID=America/Chicago:20270517T163000
DTSTAMP:20260425T135228
CREATED:20250521T161143Z
LAST-MODIFIED:20251218T222804Z
UID:10009287-1810566000-1810571400@fpcjackson.org
SUMMARY:Oasis at Mission First FPC Tutoring Team
DESCRIPTION:Meets Mondays during the school year \n3-4:30 p.m. at Peyton’s House (417 West Ash Street) \nFPC Team Leader: Ashley Meena – 601-573-3389 – ashleymeena@aol.com \nAssist in the weekly elementary-aged\, after-school tutoring program. Your love matters! Contact Ashley to be added to the team communications.
URL:https://fpcjackson.org/event/oasis-at-mission-first-fpc-tutoring-team/2027-05-17/
LOCATION:Peyton’s House\, 417 West Ash Street\, Jackson\, 39203\, United States
CATEGORIES:Outreach
END:VEVENT
BEGIN:VEVENT
DTSTART;TZID=America/Chicago:20270524T150000
DTEND;TZID=America/Chicago:20270524T163000
DTSTAMP:20260425T135228
CREATED:20250521T161143Z
LAST-MODIFIED:20251218T222804Z
UID:10009288-1811170800-1811176200@fpcjackson.org
SUMMARY:Oasis at Mission First FPC Tutoring Team
DESCRIPTION:Meets Mondays during the school year \n3-4:30 p.m. at Peyton’s House (417 West Ash Street) \nFPC Team Leader: Ashley Meena – 601-573-3389 – ashleymeena@aol.com \nAssist in the weekly elementary-aged\, after-school tutoring program. Your love matters! Contact Ashley to be added to the team communications.
URL:https://fpcjackson.org/event/oasis-at-mission-first-fpc-tutoring-team/2027-05-24/
LOCATION:Peyton’s House\, 417 West Ash Street\, Jackson\, 39203\, United States
CATEGORIES:Outreach
END:VEVENT
BEGIN:VEVENT
DTSTART;TZID=America/Chicago:20270531T150000
DTEND;TZID=America/Chicago:20270531T163000
DTSTAMP:20260425T135228
CREATED:20250521T161143Z
LAST-MODIFIED:20251218T222804Z
UID:10009289-1811775600-1811781000@fpcjackson.org
SUMMARY:Oasis at Mission First FPC Tutoring Team
DESCRIPTION:Meets Mondays during the school year \n3-4:30 p.m. at Peyton’s House (417 West Ash Street) \nFPC Team Leader: Ashley Meena – 601-573-3389 – ashleymeena@aol.com \nAssist in the weekly elementary-aged\, after-school tutoring program. Your love matters! Contact Ashley to be added to the team communications.
URL:https://fpcjackson.org/event/oasis-at-mission-first-fpc-tutoring-team/2027-05-31/
LOCATION:Peyton’s House\, 417 West Ash Street\, Jackson\, 39203\, United States
CATEGORIES:Outreach
END:VEVENT
BEGIN:VEVENT
DTSTART;TZID=America/Chicago:20270607T150000
DTEND;TZID=America/Chicago:20270607T163000
DTSTAMP:20260425T135228
CREATED:20250521T161143Z
LAST-MODIFIED:20251218T222804Z
UID:10009290-1812380400-1812385800@fpcjackson.org
SUMMARY:Oasis at Mission First FPC Tutoring Team
DESCRIPTION:Meets Mondays during the school year \n3-4:30 p.m. at Peyton’s House (417 West Ash Street) \nFPC Team Leader: Ashley Meena – 601-573-3389 – ashleymeena@aol.com \nAssist in the weekly elementary-aged\, after-school tutoring program. Your love matters! Contact Ashley to be added to the team communications.
URL:https://fpcjackson.org/event/oasis-at-mission-first-fpc-tutoring-team/2027-06-07/
LOCATION:Peyton’s House\, 417 West Ash Street\, Jackson\, 39203\, United States
CATEGORIES:Outreach
END:VEVENT
BEGIN:VEVENT
DTSTART;TZID=America/Chicago:20270614T150000
DTEND;TZID=America/Chicago:20270614T163000
DTSTAMP:20260425T135228
CREATED:20250521T161143Z
LAST-MODIFIED:20251218T222804Z
UID:10009291-1812985200-1812990600@fpcjackson.org
SUMMARY:Oasis at Mission First FPC Tutoring Team
DESCRIPTION:Meets Mondays during the school year \n3-4:30 p.m. at Peyton’s House (417 West Ash Street) \nFPC Team Leader: Ashley Meena – 601-573-3389 – ashleymeena@aol.com \nAssist in the weekly elementary-aged\, after-school tutoring program. Your love matters! Contact Ashley to be added to the team communications.
URL:https://fpcjackson.org/event/oasis-at-mission-first-fpc-tutoring-team/2027-06-14/
LOCATION:Peyton’s House\, 417 West Ash Street\, Jackson\, 39203\, United States
CATEGORIES:Outreach
END:VEVENT
BEGIN:VEVENT
DTSTART;TZID=America/Chicago:20270621T150000
DTEND;TZID=America/Chicago:20270621T163000
DTSTAMP:20260425T135228
CREATED:20250521T161143Z
LAST-MODIFIED:20251218T222804Z
UID:10009292-1813590000-1813595400@fpcjackson.org
SUMMARY:Oasis at Mission First FPC Tutoring Team
DESCRIPTION:Meets Mondays during the school year \n3-4:30 p.m. at Peyton’s House (417 West Ash Street) \nFPC Team Leader: Ashley Meena – 601-573-3389 – ashleymeena@aol.com \nAssist in the weekly elementary-aged\, after-school tutoring program. Your love matters! Contact Ashley to be added to the team communications.
URL:https://fpcjackson.org/event/oasis-at-mission-first-fpc-tutoring-team/2027-06-21/
LOCATION:Peyton’s House\, 417 West Ash Street\, Jackson\, 39203\, United States
CATEGORIES:Outreach
END:VEVENT
BEGIN:VEVENT
DTSTART;TZID=America/Chicago:20270628T150000
DTEND;TZID=America/Chicago:20270628T163000
DTSTAMP:20260425T135228
CREATED:20250521T161143Z
LAST-MODIFIED:20251218T222804Z
UID:10009293-1814194800-1814200200@fpcjackson.org
SUMMARY:Oasis at Mission First FPC Tutoring Team
DESCRIPTION:Meets Mondays during the school year \n3-4:30 p.m. at Peyton’s House (417 West Ash Street) \nFPC Team Leader: Ashley Meena – 601-573-3389 – ashleymeena@aol.com \nAssist in the weekly elementary-aged\, after-school tutoring program. Your love matters! Contact Ashley to be added to the team communications.
URL:https://fpcjackson.org/event/oasis-at-mission-first-fpc-tutoring-team/2027-06-28/
LOCATION:Peyton’s House\, 417 West Ash Street\, Jackson\, 39203\, United States
CATEGORIES:Outreach
END:VEVENT
BEGIN:VEVENT
DTSTART;TZID=America/Chicago:20270705T150000
DTEND;TZID=America/Chicago:20270705T163000
DTSTAMP:20260425T135228
CREATED:20250521T161143Z
LAST-MODIFIED:20251218T222804Z
UID:10009294-1814799600-1814805000@fpcjackson.org
SUMMARY:Oasis at Mission First FPC Tutoring Team
DESCRIPTION:Meets Mondays during the school year \n3-4:30 p.m. at Peyton’s House (417 West Ash Street) \nFPC Team Leader: Ashley Meena – 601-573-3389 – ashleymeena@aol.com \nAssist in the weekly elementary-aged\, after-school tutoring program. Your love matters! Contact Ashley to be added to the team communications.
URL:https://fpcjackson.org/event/oasis-at-mission-first-fpc-tutoring-team/2027-07-05/
LOCATION:Peyton’s House\, 417 West Ash Street\, Jackson\, 39203\, United States
CATEGORIES:Outreach
END:VEVENT
BEGIN:VEVENT
DTSTART;TZID=America/Chicago:20270712T150000
DTEND;TZID=America/Chicago:20270712T163000
DTSTAMP:20260425T135228
CREATED:20250521T161143Z
LAST-MODIFIED:20251218T222804Z
UID:10009295-1815404400-1815409800@fpcjackson.org
SUMMARY:Oasis at Mission First FPC Tutoring Team
DESCRIPTION:Meets Mondays during the school year \n3-4:30 p.m. at Peyton’s House (417 West Ash Street) \nFPC Team Leader: Ashley Meena – 601-573-3389 – ashleymeena@aol.com \nAssist in the weekly elementary-aged\, after-school tutoring program. Your love matters! Contact Ashley to be added to the team communications.
URL:https://fpcjackson.org/event/oasis-at-mission-first-fpc-tutoring-team/2027-07-12/
LOCATION:Peyton’s House\, 417 West Ash Street\, Jackson\, 39203\, United States
CATEGORIES:Outreach
END:VEVENT
BEGIN:VEVENT
DTSTART;TZID=America/Chicago:20270719T150000
DTEND;TZID=America/Chicago:20270719T163000
DTSTAMP:20260425T135228
CREATED:20250521T161143Z
LAST-MODIFIED:20251218T222804Z
UID:10009296-1816009200-1816014600@fpcjackson.org
SUMMARY:Oasis at Mission First FPC Tutoring Team
DESCRIPTION:Meets Mondays during the school year \n3-4:30 p.m. at Peyton’s House (417 West Ash Street) \nFPC Team Leader: Ashley Meena – 601-573-3389 – ashleymeena@aol.com \nAssist in the weekly elementary-aged\, after-school tutoring program. Your love matters! Contact Ashley to be added to the team communications.
URL:https://fpcjackson.org/event/oasis-at-mission-first-fpc-tutoring-team/2027-07-19/
LOCATION:Peyton’s House\, 417 West Ash Street\, Jackson\, 39203\, United States
CATEGORIES:Outreach
END:VEVENT
BEGIN:VEVENT
DTSTART;TZID=America/Chicago:20270726T150000
DTEND;TZID=America/Chicago:20270726T163000
DTSTAMP:20260425T135228
CREATED:20250521T161143Z
LAST-MODIFIED:20251218T222804Z
UID:10009297-1816614000-1816619400@fpcjackson.org
SUMMARY:Oasis at Mission First FPC Tutoring Team
DESCRIPTION:Meets Mondays during the school year \n3-4:30 p.m. at Peyton’s House (417 West Ash Street) \nFPC Team Leader: Ashley Meena – 601-573-3389 – ashleymeena@aol.com \nAssist in the weekly elementary-aged\, after-school tutoring program. Your love matters! Contact Ashley to be added to the team communications.
URL:https://fpcjackson.org/event/oasis-at-mission-first-fpc-tutoring-team/2027-07-26/
LOCATION:Peyton’s House\, 417 West Ash Street\, Jackson\, 39203\, United States
CATEGORIES:Outreach
END:VEVENT
BEGIN:VEVENT
DTSTART;TZID=America/Chicago:20270802T150000
DTEND;TZID=America/Chicago:20270802T163000
DTSTAMP:20260425T135228
CREATED:20250521T161143Z
LAST-MODIFIED:20251218T222804Z
UID:10009298-1817218800-1817224200@fpcjackson.org
SUMMARY:Oasis at Mission First FPC Tutoring Team
DESCRIPTION:Meets Mondays during the school year \n3-4:30 p.m. at Peyton’s House (417 West Ash Street) \nFPC Team Leader: Ashley Meena – 601-573-3389 – ashleymeena@aol.com \nAssist in the weekly elementary-aged\, after-school tutoring program. Your love matters! Contact Ashley to be added to the team communications.
URL:https://fpcjackson.org/event/oasis-at-mission-first-fpc-tutoring-team/2027-08-02/
LOCATION:Peyton’s House\, 417 West Ash Street\, Jackson\, 39203\, United States
CATEGORIES:Outreach
END:VEVENT
BEGIN:VEVENT
DTSTART;TZID=America/Chicago:20270809T150000
DTEND;TZID=America/Chicago:20270809T163000
DTSTAMP:20260425T135228
CREATED:20250521T161143Z
LAST-MODIFIED:20251218T222804Z
UID:10009299-1817823600-1817829000@fpcjackson.org
SUMMARY:Oasis at Mission First FPC Tutoring Team
DESCRIPTION:Meets Mondays during the school year \n3-4:30 p.m. at Peyton’s House (417 West Ash Street) \nFPC Team Leader: Ashley Meena – 601-573-3389 – ashleymeena@aol.com \nAssist in the weekly elementary-aged\, after-school tutoring program. Your love matters! Contact Ashley to be added to the team communications.
URL:https://fpcjackson.org/event/oasis-at-mission-first-fpc-tutoring-team/2027-08-09/
LOCATION:Peyton’s House\, 417 West Ash Street\, Jackson\, 39203\, United States
CATEGORIES:Outreach
END:VEVENT
BEGIN:VEVENT
DTSTART;TZID=America/Chicago:20270816T150000
DTEND;TZID=America/Chicago:20270816T163000
DTSTAMP:20260425T135228
CREATED:20250521T161143Z
LAST-MODIFIED:20251218T222804Z
UID:10009300-1818428400-1818433800@fpcjackson.org
SUMMARY:Oasis at Mission First FPC Tutoring Team
DESCRIPTION:Meets Mondays during the school year \n3-4:30 p.m. at Peyton’s House (417 West Ash Street) \nFPC Team Leader: Ashley Meena – 601-573-3389 – ashleymeena@aol.com \nAssist in the weekly elementary-aged\, after-school tutoring program. Your love matters! Contact Ashley to be added to the team communications.
URL:https://fpcjackson.org/event/oasis-at-mission-first-fpc-tutoring-team/2027-08-16/
LOCATION:Peyton’s House\, 417 West Ash Street\, Jackson\, 39203\, United States
CATEGORIES:Outreach
END:VEVENT
BEGIN:VEVENT
DTSTART;TZID=America/Chicago:20270823T150000
DTEND;TZID=America/Chicago:20270823T163000
DTSTAMP:20260425T135228
CREATED:20250521T161143Z
LAST-MODIFIED:20251218T222804Z
UID:10009301-1819033200-1819038600@fpcjackson.org
SUMMARY:Oasis at Mission First FPC Tutoring Team
DESCRIPTION:Meets Mondays during the school year \n3-4:30 p.m. at Peyton’s House (417 West Ash Street) \nFPC Team Leader: Ashley Meena – 601-573-3389 – ashleymeena@aol.com \nAssist in the weekly elementary-aged\, after-school tutoring program. Your love matters! Contact Ashley to be added to the team communications.
URL:https://fpcjackson.org/event/oasis-at-mission-first-fpc-tutoring-team/2027-08-23/
LOCATION:Peyton’s House\, 417 West Ash Street\, Jackson\, 39203\, United States
CATEGORIES:Outreach
END:VEVENT
END:VCALENDAR