BEGIN:VCALENDAR
VERSION:2.0
PRODID:-//First Presbyterian Church - ECPv6.15.20//NONSGML v1.0//EN
CALSCALE:GREGORIAN
METHOD:PUBLISH
X-WR-CALNAME:First Presbyterian Church
X-ORIGINAL-URL:https://fpcjackson.org
X-WR-CALDESC:Events for First Presbyterian Church
REFRESH-INTERVAL;VALUE=DURATION:PT1H
X-Robots-Tag:noindex
X-PUBLISHED-TTL:PT1H
BEGIN:VTIMEZONE
TZID:America/Chicago
BEGIN:DAYLIGHT
TZOFFSETFROM:-0600
TZOFFSETTO:-0500
TZNAME:CDT
DTSTART:20250309T080000
END:DAYLIGHT
BEGIN:STANDARD
TZOFFSETFROM:-0500
TZOFFSETTO:-0600
TZNAME:CST
DTSTART:20251102T070000
END:STANDARD
BEGIN:DAYLIGHT
TZOFFSETFROM:-0600
TZOFFSETTO:-0500
TZNAME:CDT
DTSTART:20260308T080000
END:DAYLIGHT
BEGIN:STANDARD
TZOFFSETFROM:-0500
TZOFFSETTO:-0600
TZNAME:CST
DTSTART:20261101T070000
END:STANDARD
BEGIN:DAYLIGHT
TZOFFSETFROM:-0600
TZOFFSETTO:-0500
TZNAME:CDT
DTSTART:20270314T080000
END:DAYLIGHT
BEGIN:STANDARD
TZOFFSETFROM:-0500
TZOFFSETTO:-0600
TZNAME:CST
DTSTART:20271107T070000
END:STANDARD
BEGIN:DAYLIGHT
TZOFFSETFROM:-0600
TZOFFSETTO:-0500
TZNAME:CDT
DTSTART:20280312T080000
END:DAYLIGHT
BEGIN:STANDARD
TZOFFSETFROM:-0500
TZOFFSETTO:-0600
TZNAME:CST
DTSTART:20281105T070000
END:STANDARD
END:VTIMEZONE
BEGIN:VEVENT
DTSTART;TZID=America/Chicago:20260914T150000
DTEND;TZID=America/Chicago:20260914T163000
DTSTAMP:20260425T162122
CREATED:20250521T161143Z
LAST-MODIFIED:20251218T222804Z
UID:10009252-1789398000-1789403400@fpcjackson.org
SUMMARY:Oasis at Mission First FPC Tutoring Team
DESCRIPTION:Meets Mondays during the school year \n3-4:30 p.m. at Peyton’s House (417 West Ash Street) \nFPC Team Leader: Ashley Meena – 601-573-3389 – ashleymeena@aol.com \nAssist in the weekly elementary-aged\, after-school tutoring program. Your love matters! Contact Ashley to be added to the team communications.
URL:https://fpcjackson.org/event/oasis-at-mission-first-fpc-tutoring-team/2026-09-14/
LOCATION:Peyton’s House\, 417 West Ash Street\, Jackson\, 39203\, United States
CATEGORIES:Outreach
END:VEVENT
BEGIN:VEVENT
DTSTART;TZID=America/Chicago:20260921T150000
DTEND;TZID=America/Chicago:20260921T163000
DTSTAMP:20260425T162122
CREATED:20250521T161143Z
LAST-MODIFIED:20251218T222804Z
UID:10009253-1790002800-1790008200@fpcjackson.org
SUMMARY:Oasis at Mission First FPC Tutoring Team
DESCRIPTION:Meets Mondays during the school year \n3-4:30 p.m. at Peyton’s House (417 West Ash Street) \nFPC Team Leader: Ashley Meena – 601-573-3389 – ashleymeena@aol.com \nAssist in the weekly elementary-aged\, after-school tutoring program. Your love matters! Contact Ashley to be added to the team communications.
URL:https://fpcjackson.org/event/oasis-at-mission-first-fpc-tutoring-team/2026-09-21/
LOCATION:Peyton’s House\, 417 West Ash Street\, Jackson\, 39203\, United States
CATEGORIES:Outreach
END:VEVENT
BEGIN:VEVENT
DTSTART;TZID=America/Chicago:20260928T150000
DTEND;TZID=America/Chicago:20260928T163000
DTSTAMP:20260425T162122
CREATED:20250521T161143Z
LAST-MODIFIED:20251218T222804Z
UID:10009254-1790607600-1790613000@fpcjackson.org
SUMMARY:Oasis at Mission First FPC Tutoring Team
DESCRIPTION:Meets Mondays during the school year \n3-4:30 p.m. at Peyton’s House (417 West Ash Street) \nFPC Team Leader: Ashley Meena – 601-573-3389 – ashleymeena@aol.com \nAssist in the weekly elementary-aged\, after-school tutoring program. Your love matters! Contact Ashley to be added to the team communications.
URL:https://fpcjackson.org/event/oasis-at-mission-first-fpc-tutoring-team/2026-09-28/
LOCATION:Peyton’s House\, 417 West Ash Street\, Jackson\, 39203\, United States
CATEGORIES:Outreach
END:VEVENT
BEGIN:VEVENT
DTSTART;TZID=America/Chicago:20261005T150000
DTEND;TZID=America/Chicago:20261005T163000
DTSTAMP:20260425T162122
CREATED:20250521T161143Z
LAST-MODIFIED:20251218T222804Z
UID:10009255-1791212400-1791217800@fpcjackson.org
SUMMARY:Oasis at Mission First FPC Tutoring Team
DESCRIPTION:Meets Mondays during the school year \n3-4:30 p.m. at Peyton’s House (417 West Ash Street) \nFPC Team Leader: Ashley Meena – 601-573-3389 – ashleymeena@aol.com \nAssist in the weekly elementary-aged\, after-school tutoring program. Your love matters! Contact Ashley to be added to the team communications.
URL:https://fpcjackson.org/event/oasis-at-mission-first-fpc-tutoring-team/2026-10-05/
LOCATION:Peyton’s House\, 417 West Ash Street\, Jackson\, 39203\, United States
CATEGORIES:Outreach
END:VEVENT
BEGIN:VEVENT
DTSTART;TZID=America/Chicago:20261012T150000
DTEND;TZID=America/Chicago:20261012T163000
DTSTAMP:20260425T162122
CREATED:20250521T161143Z
LAST-MODIFIED:20251218T222804Z
UID:10009256-1791817200-1791822600@fpcjackson.org
SUMMARY:Oasis at Mission First FPC Tutoring Team
DESCRIPTION:Meets Mondays during the school year \n3-4:30 p.m. at Peyton’s House (417 West Ash Street) \nFPC Team Leader: Ashley Meena – 601-573-3389 – ashleymeena@aol.com \nAssist in the weekly elementary-aged\, after-school tutoring program. Your love matters! Contact Ashley to be added to the team communications.
URL:https://fpcjackson.org/event/oasis-at-mission-first-fpc-tutoring-team/2026-10-12/
LOCATION:Peyton’s House\, 417 West Ash Street\, Jackson\, 39203\, United States
CATEGORIES:Outreach
END:VEVENT
BEGIN:VEVENT
DTSTART;TZID=America/Chicago:20261019T150000
DTEND;TZID=America/Chicago:20261019T163000
DTSTAMP:20260425T162123
CREATED:20250521T161143Z
LAST-MODIFIED:20251218T222804Z
UID:10009257-1792422000-1792427400@fpcjackson.org
SUMMARY:Oasis at Mission First FPC Tutoring Team
DESCRIPTION:Meets Mondays during the school year \n3-4:30 p.m. at Peyton’s House (417 West Ash Street) \nFPC Team Leader: Ashley Meena – 601-573-3389 – ashleymeena@aol.com \nAssist in the weekly elementary-aged\, after-school tutoring program. Your love matters! Contact Ashley to be added to the team communications.
URL:https://fpcjackson.org/event/oasis-at-mission-first-fpc-tutoring-team/2026-10-19/
LOCATION:Peyton’s House\, 417 West Ash Street\, Jackson\, 39203\, United States
CATEGORIES:Outreach
END:VEVENT
BEGIN:VEVENT
DTSTART;TZID=America/Chicago:20261026T150000
DTEND;TZID=America/Chicago:20261026T163000
DTSTAMP:20260425T162123
CREATED:20250521T161143Z
LAST-MODIFIED:20251218T222804Z
UID:10009258-1793026800-1793032200@fpcjackson.org
SUMMARY:Oasis at Mission First FPC Tutoring Team
DESCRIPTION:Meets Mondays during the school year \n3-4:30 p.m. at Peyton’s House (417 West Ash Street) \nFPC Team Leader: Ashley Meena – 601-573-3389 – ashleymeena@aol.com \nAssist in the weekly elementary-aged\, after-school tutoring program. Your love matters! Contact Ashley to be added to the team communications.
URL:https://fpcjackson.org/event/oasis-at-mission-first-fpc-tutoring-team/2026-10-26/
LOCATION:Peyton’s House\, 417 West Ash Street\, Jackson\, 39203\, United States
CATEGORIES:Outreach
END:VEVENT
BEGIN:VEVENT
DTSTART;TZID=America/Chicago:20261102T150000
DTEND;TZID=America/Chicago:20261102T163000
DTSTAMP:20260425T162123
CREATED:20250521T161143Z
LAST-MODIFIED:20251218T222804Z
UID:10009259-1793631600-1793637000@fpcjackson.org
SUMMARY:Oasis at Mission First FPC Tutoring Team
DESCRIPTION:Meets Mondays during the school year \n3-4:30 p.m. at Peyton’s House (417 West Ash Street) \nFPC Team Leader: Ashley Meena – 601-573-3389 – ashleymeena@aol.com \nAssist in the weekly elementary-aged\, after-school tutoring program. Your love matters! Contact Ashley to be added to the team communications.
URL:https://fpcjackson.org/event/oasis-at-mission-first-fpc-tutoring-team/2026-11-02/
LOCATION:Peyton’s House\, 417 West Ash Street\, Jackson\, 39203\, United States
CATEGORIES:Outreach
END:VEVENT
BEGIN:VEVENT
DTSTART;TZID=America/Chicago:20261109T150000
DTEND;TZID=America/Chicago:20261109T163000
DTSTAMP:20260425T162123
CREATED:20250521T161143Z
LAST-MODIFIED:20251218T222804Z
UID:10009260-1794236400-1794241800@fpcjackson.org
SUMMARY:Oasis at Mission First FPC Tutoring Team
DESCRIPTION:Meets Mondays during the school year \n3-4:30 p.m. at Peyton’s House (417 West Ash Street) \nFPC Team Leader: Ashley Meena – 601-573-3389 – ashleymeena@aol.com \nAssist in the weekly elementary-aged\, after-school tutoring program. Your love matters! Contact Ashley to be added to the team communications.
URL:https://fpcjackson.org/event/oasis-at-mission-first-fpc-tutoring-team/2026-11-09/
LOCATION:Peyton’s House\, 417 West Ash Street\, Jackson\, 39203\, United States
CATEGORIES:Outreach
END:VEVENT
BEGIN:VEVENT
DTSTART;TZID=America/Chicago:20261116T150000
DTEND;TZID=America/Chicago:20261116T163000
DTSTAMP:20260425T162123
CREATED:20250521T161143Z
LAST-MODIFIED:20251218T222804Z
UID:10009261-1794841200-1794846600@fpcjackson.org
SUMMARY:Oasis at Mission First FPC Tutoring Team
DESCRIPTION:Meets Mondays during the school year \n3-4:30 p.m. at Peyton’s House (417 West Ash Street) \nFPC Team Leader: Ashley Meena – 601-573-3389 – ashleymeena@aol.com \nAssist in the weekly elementary-aged\, after-school tutoring program. Your love matters! Contact Ashley to be added to the team communications.
URL:https://fpcjackson.org/event/oasis-at-mission-first-fpc-tutoring-team/2026-11-16/
LOCATION:Peyton’s House\, 417 West Ash Street\, Jackson\, 39203\, United States
CATEGORIES:Outreach
END:VEVENT
BEGIN:VEVENT
DTSTART;TZID=America/Chicago:20261123T150000
DTEND;TZID=America/Chicago:20261123T163000
DTSTAMP:20260425T162123
CREATED:20250521T161143Z
LAST-MODIFIED:20251218T222804Z
UID:10009262-1795446000-1795451400@fpcjackson.org
SUMMARY:Oasis at Mission First FPC Tutoring Team
DESCRIPTION:Meets Mondays during the school year \n3-4:30 p.m. at Peyton’s House (417 West Ash Street) \nFPC Team Leader: Ashley Meena – 601-573-3389 – ashleymeena@aol.com \nAssist in the weekly elementary-aged\, after-school tutoring program. Your love matters! Contact Ashley to be added to the team communications.
URL:https://fpcjackson.org/event/oasis-at-mission-first-fpc-tutoring-team/2026-11-23/
LOCATION:Peyton’s House\, 417 West Ash Street\, Jackson\, 39203\, United States
CATEGORIES:Outreach
END:VEVENT
BEGIN:VEVENT
DTSTART;TZID=America/Chicago:20261130T150000
DTEND;TZID=America/Chicago:20261130T163000
DTSTAMP:20260425T162123
CREATED:20250521T161143Z
LAST-MODIFIED:20251218T222804Z
UID:10009263-1796050800-1796056200@fpcjackson.org
SUMMARY:Oasis at Mission First FPC Tutoring Team
DESCRIPTION:Meets Mondays during the school year \n3-4:30 p.m. at Peyton’s House (417 West Ash Street) \nFPC Team Leader: Ashley Meena – 601-573-3389 – ashleymeena@aol.com \nAssist in the weekly elementary-aged\, after-school tutoring program. Your love matters! Contact Ashley to be added to the team communications.
URL:https://fpcjackson.org/event/oasis-at-mission-first-fpc-tutoring-team/2026-11-30/
LOCATION:Peyton’s House\, 417 West Ash Street\, Jackson\, 39203\, United States
CATEGORIES:Outreach
END:VEVENT
BEGIN:VEVENT
DTSTART;TZID=America/Chicago:20261207T150000
DTEND;TZID=America/Chicago:20261207T163000
DTSTAMP:20260425T162123
CREATED:20250521T161143Z
LAST-MODIFIED:20251218T222804Z
UID:10009264-1796655600-1796661000@fpcjackson.org
SUMMARY:Oasis at Mission First FPC Tutoring Team
DESCRIPTION:Meets Mondays during the school year \n3-4:30 p.m. at Peyton’s House (417 West Ash Street) \nFPC Team Leader: Ashley Meena – 601-573-3389 – ashleymeena@aol.com \nAssist in the weekly elementary-aged\, after-school tutoring program. Your love matters! Contact Ashley to be added to the team communications.
URL:https://fpcjackson.org/event/oasis-at-mission-first-fpc-tutoring-team/2026-12-07/
LOCATION:Peyton’s House\, 417 West Ash Street\, Jackson\, 39203\, United States
CATEGORIES:Outreach
END:VEVENT
BEGIN:VEVENT
DTSTART;TZID=America/Chicago:20261214T150000
DTEND;TZID=America/Chicago:20261214T163000
DTSTAMP:20260425T162123
CREATED:20250521T161143Z
LAST-MODIFIED:20251218T222804Z
UID:10009265-1797260400-1797265800@fpcjackson.org
SUMMARY:Oasis at Mission First FPC Tutoring Team
DESCRIPTION:Meets Mondays during the school year \n3-4:30 p.m. at Peyton’s House (417 West Ash Street) \nFPC Team Leader: Ashley Meena – 601-573-3389 – ashleymeena@aol.com \nAssist in the weekly elementary-aged\, after-school tutoring program. Your love matters! Contact Ashley to be added to the team communications.
URL:https://fpcjackson.org/event/oasis-at-mission-first-fpc-tutoring-team/2026-12-14/
LOCATION:Peyton’s House\, 417 West Ash Street\, Jackson\, 39203\, United States
CATEGORIES:Outreach
END:VEVENT
BEGIN:VEVENT
DTSTART;TZID=America/Chicago:20261221T150000
DTEND;TZID=America/Chicago:20261221T163000
DTSTAMP:20260425T162123
CREATED:20250521T161143Z
LAST-MODIFIED:20251218T222804Z
UID:10009266-1797865200-1797870600@fpcjackson.org
SUMMARY:Oasis at Mission First FPC Tutoring Team
DESCRIPTION:Meets Mondays during the school year \n3-4:30 p.m. at Peyton’s House (417 West Ash Street) \nFPC Team Leader: Ashley Meena – 601-573-3389 – ashleymeena@aol.com \nAssist in the weekly elementary-aged\, after-school tutoring program. Your love matters! Contact Ashley to be added to the team communications.
URL:https://fpcjackson.org/event/oasis-at-mission-first-fpc-tutoring-team/2026-12-21/
LOCATION:Peyton’s House\, 417 West Ash Street\, Jackson\, 39203\, United States
CATEGORIES:Outreach
END:VEVENT
BEGIN:VEVENT
DTSTART;TZID=America/Chicago:20261228T150000
DTEND;TZID=America/Chicago:20261228T163000
DTSTAMP:20260425T162123
CREATED:20250521T161143Z
LAST-MODIFIED:20251218T222804Z
UID:10009267-1798470000-1798475400@fpcjackson.org
SUMMARY:Oasis at Mission First FPC Tutoring Team
DESCRIPTION:Meets Mondays during the school year \n3-4:30 p.m. at Peyton’s House (417 West Ash Street) \nFPC Team Leader: Ashley Meena – 601-573-3389 – ashleymeena@aol.com \nAssist in the weekly elementary-aged\, after-school tutoring program. Your love matters! Contact Ashley to be added to the team communications.
URL:https://fpcjackson.org/event/oasis-at-mission-first-fpc-tutoring-team/2026-12-28/
LOCATION:Peyton’s House\, 417 West Ash Street\, Jackson\, 39203\, United States
CATEGORIES:Outreach
END:VEVENT
BEGIN:VEVENT
DTSTART;TZID=America/Chicago:20270104T150000
DTEND;TZID=America/Chicago:20270104T163000
DTSTAMP:20260425T162123
CREATED:20250521T161143Z
LAST-MODIFIED:20251218T222804Z
UID:10009268-1799074800-1799080200@fpcjackson.org
SUMMARY:Oasis at Mission First FPC Tutoring Team
DESCRIPTION:Meets Mondays during the school year \n3-4:30 p.m. at Peyton’s House (417 West Ash Street) \nFPC Team Leader: Ashley Meena – 601-573-3389 – ashleymeena@aol.com \nAssist in the weekly elementary-aged\, after-school tutoring program. Your love matters! Contact Ashley to be added to the team communications.
URL:https://fpcjackson.org/event/oasis-at-mission-first-fpc-tutoring-team/2027-01-04/
LOCATION:Peyton’s House\, 417 West Ash Street\, Jackson\, 39203\, United States
CATEGORIES:Outreach
END:VEVENT
BEGIN:VEVENT
DTSTART;TZID=America/Chicago:20270111T150000
DTEND;TZID=America/Chicago:20270111T163000
DTSTAMP:20260425T162123
CREATED:20250521T161143Z
LAST-MODIFIED:20251218T222804Z
UID:10009269-1799679600-1799685000@fpcjackson.org
SUMMARY:Oasis at Mission First FPC Tutoring Team
DESCRIPTION:Meets Mondays during the school year \n3-4:30 p.m. at Peyton’s House (417 West Ash Street) \nFPC Team Leader: Ashley Meena – 601-573-3389 – ashleymeena@aol.com \nAssist in the weekly elementary-aged\, after-school tutoring program. Your love matters! Contact Ashley to be added to the team communications.
URL:https://fpcjackson.org/event/oasis-at-mission-first-fpc-tutoring-team/2027-01-11/
LOCATION:Peyton’s House\, 417 West Ash Street\, Jackson\, 39203\, United States
CATEGORIES:Outreach
END:VEVENT
BEGIN:VEVENT
DTSTART;TZID=America/Chicago:20270118T150000
DTEND;TZID=America/Chicago:20270118T163000
DTSTAMP:20260425T162123
CREATED:20250521T161143Z
LAST-MODIFIED:20251218T222804Z
UID:10009270-1800284400-1800289800@fpcjackson.org
SUMMARY:Oasis at Mission First FPC Tutoring Team
DESCRIPTION:Meets Mondays during the school year \n3-4:30 p.m. at Peyton’s House (417 West Ash Street) \nFPC Team Leader: Ashley Meena – 601-573-3389 – ashleymeena@aol.com \nAssist in the weekly elementary-aged\, after-school tutoring program. Your love matters! Contact Ashley to be added to the team communications.
URL:https://fpcjackson.org/event/oasis-at-mission-first-fpc-tutoring-team/2027-01-18/
LOCATION:Peyton’s House\, 417 West Ash Street\, Jackson\, 39203\, United States
CATEGORIES:Outreach
END:VEVENT
BEGIN:VEVENT
DTSTART;TZID=America/Chicago:20270125T150000
DTEND;TZID=America/Chicago:20270125T163000
DTSTAMP:20260425T162123
CREATED:20250521T161143Z
LAST-MODIFIED:20251218T222804Z
UID:10009271-1800889200-1800894600@fpcjackson.org
SUMMARY:Oasis at Mission First FPC Tutoring Team
DESCRIPTION:Meets Mondays during the school year \n3-4:30 p.m. at Peyton’s House (417 West Ash Street) \nFPC Team Leader: Ashley Meena – 601-573-3389 – ashleymeena@aol.com \nAssist in the weekly elementary-aged\, after-school tutoring program. Your love matters! Contact Ashley to be added to the team communications.
URL:https://fpcjackson.org/event/oasis-at-mission-first-fpc-tutoring-team/2027-01-25/
LOCATION:Peyton’s House\, 417 West Ash Street\, Jackson\, 39203\, United States
CATEGORIES:Outreach
END:VEVENT
BEGIN:VEVENT
DTSTART;TZID=America/Chicago:20270201T150000
DTEND;TZID=America/Chicago:20270201T163000
DTSTAMP:20260425T162123
CREATED:20250521T161143Z
LAST-MODIFIED:20251218T222804Z
UID:10009272-1801494000-1801499400@fpcjackson.org
SUMMARY:Oasis at Mission First FPC Tutoring Team
DESCRIPTION:Meets Mondays during the school year \n3-4:30 p.m. at Peyton’s House (417 West Ash Street) \nFPC Team Leader: Ashley Meena – 601-573-3389 – ashleymeena@aol.com \nAssist in the weekly elementary-aged\, after-school tutoring program. Your love matters! Contact Ashley to be added to the team communications.
URL:https://fpcjackson.org/event/oasis-at-mission-first-fpc-tutoring-team/2027-02-01/
LOCATION:Peyton’s House\, 417 West Ash Street\, Jackson\, 39203\, United States
CATEGORIES:Outreach
END:VEVENT
BEGIN:VEVENT
DTSTART;TZID=America/Chicago:20270208T150000
DTEND;TZID=America/Chicago:20270208T163000
DTSTAMP:20260425T162123
CREATED:20250521T161143Z
LAST-MODIFIED:20251218T222804Z
UID:10009273-1802098800-1802104200@fpcjackson.org
SUMMARY:Oasis at Mission First FPC Tutoring Team
DESCRIPTION:Meets Mondays during the school year \n3-4:30 p.m. at Peyton’s House (417 West Ash Street) \nFPC Team Leader: Ashley Meena – 601-573-3389 – ashleymeena@aol.com \nAssist in the weekly elementary-aged\, after-school tutoring program. Your love matters! Contact Ashley to be added to the team communications.
URL:https://fpcjackson.org/event/oasis-at-mission-first-fpc-tutoring-team/2027-02-08/
LOCATION:Peyton’s House\, 417 West Ash Street\, Jackson\, 39203\, United States
CATEGORIES:Outreach
END:VEVENT
BEGIN:VEVENT
DTSTART;TZID=America/Chicago:20270215T150000
DTEND;TZID=America/Chicago:20270215T163000
DTSTAMP:20260425T162123
CREATED:20250521T161143Z
LAST-MODIFIED:20251218T222804Z
UID:10009274-1802703600-1802709000@fpcjackson.org
SUMMARY:Oasis at Mission First FPC Tutoring Team
DESCRIPTION:Meets Mondays during the school year \n3-4:30 p.m. at Peyton’s House (417 West Ash Street) \nFPC Team Leader: Ashley Meena – 601-573-3389 – ashleymeena@aol.com \nAssist in the weekly elementary-aged\, after-school tutoring program. Your love matters! Contact Ashley to be added to the team communications.
URL:https://fpcjackson.org/event/oasis-at-mission-first-fpc-tutoring-team/2027-02-15/
LOCATION:Peyton’s House\, 417 West Ash Street\, Jackson\, 39203\, United States
CATEGORIES:Outreach
END:VEVENT
BEGIN:VEVENT
DTSTART;TZID=America/Chicago:20270222T150000
DTEND;TZID=America/Chicago:20270222T163000
DTSTAMP:20260425T162123
CREATED:20250521T161143Z
LAST-MODIFIED:20251218T222804Z
UID:10009275-1803308400-1803313800@fpcjackson.org
SUMMARY:Oasis at Mission First FPC Tutoring Team
DESCRIPTION:Meets Mondays during the school year \n3-4:30 p.m. at Peyton’s House (417 West Ash Street) \nFPC Team Leader: Ashley Meena – 601-573-3389 – ashleymeena@aol.com \nAssist in the weekly elementary-aged\, after-school tutoring program. Your love matters! Contact Ashley to be added to the team communications.
URL:https://fpcjackson.org/event/oasis-at-mission-first-fpc-tutoring-team/2027-02-22/
LOCATION:Peyton’s House\, 417 West Ash Street\, Jackson\, 39203\, United States
CATEGORIES:Outreach
END:VEVENT
BEGIN:VEVENT
DTSTART;TZID=America/Chicago:20270301T150000
DTEND;TZID=America/Chicago:20270301T163000
DTSTAMP:20260425T162123
CREATED:20250521T161143Z
LAST-MODIFIED:20251218T222804Z
UID:10009276-1803913200-1803918600@fpcjackson.org
SUMMARY:Oasis at Mission First FPC Tutoring Team
DESCRIPTION:Meets Mondays during the school year \n3-4:30 p.m. at Peyton’s House (417 West Ash Street) \nFPC Team Leader: Ashley Meena – 601-573-3389 – ashleymeena@aol.com \nAssist in the weekly elementary-aged\, after-school tutoring program. Your love matters! Contact Ashley to be added to the team communications.
URL:https://fpcjackson.org/event/oasis-at-mission-first-fpc-tutoring-team/2027-03-01/
LOCATION:Peyton’s House\, 417 West Ash Street\, Jackson\, 39203\, United States
CATEGORIES:Outreach
END:VEVENT
BEGIN:VEVENT
DTSTART;TZID=America/Chicago:20270308T150000
DTEND;TZID=America/Chicago:20270308T163000
DTSTAMP:20260425T162123
CREATED:20250521T161143Z
LAST-MODIFIED:20251218T222804Z
UID:10009277-1804518000-1804523400@fpcjackson.org
SUMMARY:Oasis at Mission First FPC Tutoring Team
DESCRIPTION:Meets Mondays during the school year \n3-4:30 p.m. at Peyton’s House (417 West Ash Street) \nFPC Team Leader: Ashley Meena – 601-573-3389 – ashleymeena@aol.com \nAssist in the weekly elementary-aged\, after-school tutoring program. Your love matters! Contact Ashley to be added to the team communications.
URL:https://fpcjackson.org/event/oasis-at-mission-first-fpc-tutoring-team/2027-03-08/
LOCATION:Peyton’s House\, 417 West Ash Street\, Jackson\, 39203\, United States
CATEGORIES:Outreach
END:VEVENT
BEGIN:VEVENT
DTSTART;TZID=America/Chicago:20270315T150000
DTEND;TZID=America/Chicago:20270315T163000
DTSTAMP:20260425T162123
CREATED:20250521T161143Z
LAST-MODIFIED:20251218T222804Z
UID:10009278-1805122800-1805128200@fpcjackson.org
SUMMARY:Oasis at Mission First FPC Tutoring Team
DESCRIPTION:Meets Mondays during the school year \n3-4:30 p.m. at Peyton’s House (417 West Ash Street) \nFPC Team Leader: Ashley Meena – 601-573-3389 – ashleymeena@aol.com \nAssist in the weekly elementary-aged\, after-school tutoring program. Your love matters! Contact Ashley to be added to the team communications.
URL:https://fpcjackson.org/event/oasis-at-mission-first-fpc-tutoring-team/2027-03-15/
LOCATION:Peyton’s House\, 417 West Ash Street\, Jackson\, 39203\, United States
CATEGORIES:Outreach
END:VEVENT
BEGIN:VEVENT
DTSTART;TZID=America/Chicago:20270322T150000
DTEND;TZID=America/Chicago:20270322T163000
DTSTAMP:20260425T162123
CREATED:20250521T161143Z
LAST-MODIFIED:20251218T222804Z
UID:10009279-1805727600-1805733000@fpcjackson.org
SUMMARY:Oasis at Mission First FPC Tutoring Team
DESCRIPTION:Meets Mondays during the school year \n3-4:30 p.m. at Peyton’s House (417 West Ash Street) \nFPC Team Leader: Ashley Meena – 601-573-3389 – ashleymeena@aol.com \nAssist in the weekly elementary-aged\, after-school tutoring program. Your love matters! Contact Ashley to be added to the team communications.
URL:https://fpcjackson.org/event/oasis-at-mission-first-fpc-tutoring-team/2027-03-22/
LOCATION:Peyton’s House\, 417 West Ash Street\, Jackson\, 39203\, United States
CATEGORIES:Outreach
END:VEVENT
BEGIN:VEVENT
DTSTART;TZID=America/Chicago:20270329T150000
DTEND;TZID=America/Chicago:20270329T163000
DTSTAMP:20260425T162123
CREATED:20250521T161143Z
LAST-MODIFIED:20251218T222804Z
UID:10009280-1806332400-1806337800@fpcjackson.org
SUMMARY:Oasis at Mission First FPC Tutoring Team
DESCRIPTION:Meets Mondays during the school year \n3-4:30 p.m. at Peyton’s House (417 West Ash Street) \nFPC Team Leader: Ashley Meena – 601-573-3389 – ashleymeena@aol.com \nAssist in the weekly elementary-aged\, after-school tutoring program. Your love matters! Contact Ashley to be added to the team communications.
URL:https://fpcjackson.org/event/oasis-at-mission-first-fpc-tutoring-team/2027-03-29/
LOCATION:Peyton’s House\, 417 West Ash Street\, Jackson\, 39203\, United States
CATEGORIES:Outreach
END:VEVENT
BEGIN:VEVENT
DTSTART;TZID=America/Chicago:20270405T150000
DTEND;TZID=America/Chicago:20270405T163000
DTSTAMP:20260425T162123
CREATED:20250521T161143Z
LAST-MODIFIED:20251218T222804Z
UID:10009281-1806937200-1806942600@fpcjackson.org
SUMMARY:Oasis at Mission First FPC Tutoring Team
DESCRIPTION:Meets Mondays during the school year \n3-4:30 p.m. at Peyton’s House (417 West Ash Street) \nFPC Team Leader: Ashley Meena – 601-573-3389 – ashleymeena@aol.com \nAssist in the weekly elementary-aged\, after-school tutoring program. Your love matters! Contact Ashley to be added to the team communications.
URL:https://fpcjackson.org/event/oasis-at-mission-first-fpc-tutoring-team/2027-04-05/
LOCATION:Peyton’s House\, 417 West Ash Street\, Jackson\, 39203\, United States
CATEGORIES:Outreach
END:VEVENT
END:VCALENDAR