BEGIN:VCALENDAR
VERSION:2.0
PRODID:-//First Presbyterian Church - ECPv6.15.20//NONSGML v1.0//EN
CALSCALE:GREGORIAN
METHOD:PUBLISH
X-ORIGINAL-URL:https://fpcjackson.org
X-WR-CALDESC:Events for First Presbyterian Church
REFRESH-INTERVAL;VALUE=DURATION:PT1H
X-Robots-Tag:noindex
X-PUBLISHED-TTL:PT1H
BEGIN:VTIMEZONE
TZID:America/Chicago
BEGIN:DAYLIGHT
TZOFFSETFROM:-0600
TZOFFSETTO:-0500
TZNAME:CDT
DTSTART:20250309T080000
END:DAYLIGHT
BEGIN:STANDARD
TZOFFSETFROM:-0500
TZOFFSETTO:-0600
TZNAME:CST
DTSTART:20251102T070000
END:STANDARD
BEGIN:DAYLIGHT
TZOFFSETFROM:-0600
TZOFFSETTO:-0500
TZNAME:CDT
DTSTART:20260308T080000
END:DAYLIGHT
BEGIN:STANDARD
TZOFFSETFROM:-0500
TZOFFSETTO:-0600
TZNAME:CST
DTSTART:20261101T070000
END:STANDARD
BEGIN:DAYLIGHT
TZOFFSETFROM:-0600
TZOFFSETTO:-0500
TZNAME:CDT
DTSTART:20270314T080000
END:DAYLIGHT
BEGIN:STANDARD
TZOFFSETFROM:-0500
TZOFFSETTO:-0600
TZNAME:CST
DTSTART:20271107T070000
END:STANDARD
END:VTIMEZONE
BEGIN:VEVENT
DTSTART;TZID=America/Chicago:20260705T094500
DTEND;TZID=America/Chicago:20260705T104500
DTSTAMP:20260425T084500
CREATED:20220916T133350Z
LAST-MODIFIED:20260306T155638Z
UID:10006152-1783244700-1783248300@fpcjackson.org
SUMMARY:Young Adults Sunday School
DESCRIPTION:
URL:https://fpcjackson.org/event/young-adults-sunday-school/2026-07-05/
LOCATION:Patterson Hall\, 1390 North State Street\, Jackson\, MS\, 39202\, United States
CATEGORIES:Sunday School
END:VEVENT
BEGIN:VEVENT
DTSTART;TZID=America/Chicago:20260707T120000
DTEND;TZID=America/Chicago:20260707T130000
DTSTAMP:20260425T084500
CREATED:20250311T180926Z
LAST-MODIFIED:20260417T164419Z
UID:10008961-1783425600-1783429200@fpcjackson.org
SUMMARY:Weekday Prayer
DESCRIPTION:Spurgeon said that the prayer meeting is the engine room of the church. Please join us to intercede for the needs of the church and our community at this weekly prayer meeting each Tuesday during the lunch hour. \nThe meeting will be informal and will focus solely on prayer. Bring your lunch and join us for all\, or only a part\, as your schedule allows.
URL:https://fpcjackson.org/event/weekday-prayer/2026-07-07/
LOCATION:Patterson Hall\, 1390 North State Street\, Jackson\, MS\, 39202\, United States
ATTACH;FMTTYPE=image/png:https://fpcjackson.org/wp-content/uploads/2025/03/Week-Day-Prayer.png
END:VEVENT
BEGIN:VEVENT
DTSTART;TZID=America/Chicago:20260707T184500
DTEND;TZID=America/Chicago:20260707T200000
DTSTAMP:20260425T084500
CREATED:20250521T163601Z
LAST-MODIFIED:20260306T160327Z
UID:10009798-1783449900-1783454400@fpcjackson.org
SUMMARY:FPC Internationals Class
DESCRIPTION:Meets Tuesdays at 6:45-8 p.m. on the FPC Campus – Patterson Hall or Via Zoom \nFPC Team Leader: Steve Edwards 601-668-7422 – alice5176@aol.com \nWithout leaving Jackson (or your home if you’d like to Zoom) you can answer God’s calling to love our international neighbors by helping them with their English. By the power of Holy Spirit we are praying that as has happened in past years\, many will become a part of God’s family for eternity. Contact Steve to learn more\, or just show up on Tuesday evenings in Patterson Hall.
URL:https://fpcjackson.org/event/fpc-internationals-class/2026-07-07/
LOCATION:Patterson Hall\, 1390 North State Street\, Jackson\, MS\, 39202\, United States
CATEGORIES:Outreach
ATTACH;FMTTYPE=image/png:https://fpcjackson.org/wp-content/uploads/2025/05/Internationals-Class-scaled.png
END:VEVENT
BEGIN:VEVENT
DTSTART;TZID=America/Chicago:20260711T073000
DTEND;TZID=America/Chicago:20260711T083000
DTSTAMP:20260425T084500
CREATED:20260109T191328Z
LAST-MODIFIED:20260109T191328Z
UID:10020039-1783755000-1783758600@fpcjackson.org
SUMMARY:Men's Prayer Breakfast
DESCRIPTION:The Men’s Prayer Breakfast has been meeting at First Pres on Saturday mornings for the last 40 years. It is a rich time of fellowship for the men who participate. Our prayer time encompasses the needs of our church family and stretches across the world. Every church has its nerve centers\, and the Saturday Morning Men’s Prayer Breakfast is one of the strongest ones here at First Pres. We meet every Saturday morning in Patterson Hall from 7:30-8:30 AM. Several men arrive early to prepare a full Southern breakfast. Cost for the breakfast is $1 – the best $1 breakfast in Jackson!
URL:https://fpcjackson.org/event/mens-prayer-breakfast/2026-07-11/
LOCATION:Patterson Hall\, 1390 North State Street\, Jackson\, MS\, 39202\, United States
CATEGORIES:Men
END:VEVENT
BEGIN:VEVENT
DTSTART;TZID=America/Chicago:20260712T094500
DTEND;TZID=America/Chicago:20260712T104500
DTSTAMP:20260425T084500
CREATED:20220916T133350Z
LAST-MODIFIED:20260306T155638Z
UID:10006153-1783849500-1783853100@fpcjackson.org
SUMMARY:Young Adults Sunday School
DESCRIPTION:
URL:https://fpcjackson.org/event/young-adults-sunday-school/2026-07-12/
LOCATION:Patterson Hall\, 1390 North State Street\, Jackson\, MS\, 39202\, United States
CATEGORIES:Sunday School
END:VEVENT
BEGIN:VEVENT
DTSTART;TZID=America/Chicago:20260714T120000
DTEND;TZID=America/Chicago:20260714T130000
DTSTAMP:20260425T084500
CREATED:20250311T180926Z
LAST-MODIFIED:20260417T164419Z
UID:10008962-1784030400-1784034000@fpcjackson.org
SUMMARY:Weekday Prayer
DESCRIPTION:Spurgeon said that the prayer meeting is the engine room of the church. Please join us to intercede for the needs of the church and our community at this weekly prayer meeting each Tuesday during the lunch hour. \nThe meeting will be informal and will focus solely on prayer. Bring your lunch and join us for all\, or only a part\, as your schedule allows.
URL:https://fpcjackson.org/event/weekday-prayer/2026-07-14/
LOCATION:Patterson Hall\, 1390 North State Street\, Jackson\, MS\, 39202\, United States
ATTACH;FMTTYPE=image/png:https://fpcjackson.org/wp-content/uploads/2025/03/Week-Day-Prayer.png
END:VEVENT
BEGIN:VEVENT
DTSTART;TZID=America/Chicago:20260714T184500
DTEND;TZID=America/Chicago:20260714T200000
DTSTAMP:20260425T084500
CREATED:20250521T163601Z
LAST-MODIFIED:20260306T160327Z
UID:10009799-1784054700-1784059200@fpcjackson.org
SUMMARY:FPC Internationals Class
DESCRIPTION:Meets Tuesdays at 6:45-8 p.m. on the FPC Campus – Patterson Hall or Via Zoom \nFPC Team Leader: Steve Edwards 601-668-7422 – alice5176@aol.com \nWithout leaving Jackson (or your home if you’d like to Zoom) you can answer God’s calling to love our international neighbors by helping them with their English. By the power of Holy Spirit we are praying that as has happened in past years\, many will become a part of God’s family for eternity. Contact Steve to learn more\, or just show up on Tuesday evenings in Patterson Hall.
URL:https://fpcjackson.org/event/fpc-internationals-class/2026-07-14/
LOCATION:Patterson Hall\, 1390 North State Street\, Jackson\, MS\, 39202\, United States
CATEGORIES:Outreach
ATTACH;FMTTYPE=image/png:https://fpcjackson.org/wp-content/uploads/2025/05/Internationals-Class-scaled.png
END:VEVENT
BEGIN:VEVENT
DTSTART;TZID=America/Chicago:20260718T073000
DTEND;TZID=America/Chicago:20260718T083000
DTSTAMP:20260425T084500
CREATED:20260109T191328Z
LAST-MODIFIED:20260109T191328Z
UID:10020040-1784359800-1784363400@fpcjackson.org
SUMMARY:Men's Prayer Breakfast
DESCRIPTION:The Men’s Prayer Breakfast has been meeting at First Pres on Saturday mornings for the last 40 years. It is a rich time of fellowship for the men who participate. Our prayer time encompasses the needs of our church family and stretches across the world. Every church has its nerve centers\, and the Saturday Morning Men’s Prayer Breakfast is one of the strongest ones here at First Pres. We meet every Saturday morning in Patterson Hall from 7:30-8:30 AM. Several men arrive early to prepare a full Southern breakfast. Cost for the breakfast is $1 – the best $1 breakfast in Jackson!
URL:https://fpcjackson.org/event/mens-prayer-breakfast/2026-07-18/
LOCATION:Patterson Hall\, 1390 North State Street\, Jackson\, MS\, 39202\, United States
CATEGORIES:Men
END:VEVENT
BEGIN:VEVENT
DTSTART;TZID=America/Chicago:20260719T094500
DTEND;TZID=America/Chicago:20260719T104500
DTSTAMP:20260425T084500
CREATED:20220916T133350Z
LAST-MODIFIED:20260306T155638Z
UID:10006154-1784454300-1784457900@fpcjackson.org
SUMMARY:Young Adults Sunday School
DESCRIPTION:
URL:https://fpcjackson.org/event/young-adults-sunday-school/2026-07-19/
LOCATION:Patterson Hall\, 1390 North State Street\, Jackson\, MS\, 39202\, United States
CATEGORIES:Sunday School
END:VEVENT
BEGIN:VEVENT
DTSTART;TZID=America/Chicago:20260721T120000
DTEND;TZID=America/Chicago:20260721T130000
DTSTAMP:20260425T084500
CREATED:20250311T180926Z
LAST-MODIFIED:20260417T164419Z
UID:10008963-1784635200-1784638800@fpcjackson.org
SUMMARY:Weekday Prayer
DESCRIPTION:Spurgeon said that the prayer meeting is the engine room of the church. Please join us to intercede for the needs of the church and our community at this weekly prayer meeting each Tuesday during the lunch hour. \nThe meeting will be informal and will focus solely on prayer. Bring your lunch and join us for all\, or only a part\, as your schedule allows.
URL:https://fpcjackson.org/event/weekday-prayer/2026-07-21/
LOCATION:Patterson Hall\, 1390 North State Street\, Jackson\, MS\, 39202\, United States
ATTACH;FMTTYPE=image/png:https://fpcjackson.org/wp-content/uploads/2025/03/Week-Day-Prayer.png
END:VEVENT
BEGIN:VEVENT
DTSTART;TZID=America/Chicago:20260721T184500
DTEND;TZID=America/Chicago:20260721T200000
DTSTAMP:20260425T084500
CREATED:20250521T163601Z
LAST-MODIFIED:20260306T160327Z
UID:10009800-1784659500-1784664000@fpcjackson.org
SUMMARY:FPC Internationals Class
DESCRIPTION:Meets Tuesdays at 6:45-8 p.m. on the FPC Campus – Patterson Hall or Via Zoom \nFPC Team Leader: Steve Edwards 601-668-7422 – alice5176@aol.com \nWithout leaving Jackson (or your home if you’d like to Zoom) you can answer God’s calling to love our international neighbors by helping them with their English. By the power of Holy Spirit we are praying that as has happened in past years\, many will become a part of God’s family for eternity. Contact Steve to learn more\, or just show up on Tuesday evenings in Patterson Hall.
URL:https://fpcjackson.org/event/fpc-internationals-class/2026-07-21/
LOCATION:Patterson Hall\, 1390 North State Street\, Jackson\, MS\, 39202\, United States
CATEGORIES:Outreach
ATTACH;FMTTYPE=image/png:https://fpcjackson.org/wp-content/uploads/2025/05/Internationals-Class-scaled.png
END:VEVENT
BEGIN:VEVENT
DTSTART;TZID=America/Chicago:20260725T073000
DTEND;TZID=America/Chicago:20260725T083000
DTSTAMP:20260425T084500
CREATED:20260109T191328Z
LAST-MODIFIED:20260109T191328Z
UID:10020041-1784964600-1784968200@fpcjackson.org
SUMMARY:Men's Prayer Breakfast
DESCRIPTION:The Men’s Prayer Breakfast has been meeting at First Pres on Saturday mornings for the last 40 years. It is a rich time of fellowship for the men who participate. Our prayer time encompasses the needs of our church family and stretches across the world. Every church has its nerve centers\, and the Saturday Morning Men’s Prayer Breakfast is one of the strongest ones here at First Pres. We meet every Saturday morning in Patterson Hall from 7:30-8:30 AM. Several men arrive early to prepare a full Southern breakfast. Cost for the breakfast is $1 – the best $1 breakfast in Jackson!
URL:https://fpcjackson.org/event/mens-prayer-breakfast/2026-07-25/
LOCATION:Patterson Hall\, 1390 North State Street\, Jackson\, MS\, 39202\, United States
CATEGORIES:Men
END:VEVENT
BEGIN:VEVENT
DTSTART;TZID=America/Chicago:20260726T094500
DTEND;TZID=America/Chicago:20260726T104500
DTSTAMP:20260425T084500
CREATED:20220916T133350Z
LAST-MODIFIED:20260306T155638Z
UID:10006155-1785059100-1785062700@fpcjackson.org
SUMMARY:Young Adults Sunday School
DESCRIPTION:
URL:https://fpcjackson.org/event/young-adults-sunday-school/2026-07-26/
LOCATION:Patterson Hall\, 1390 North State Street\, Jackson\, MS\, 39202\, United States
CATEGORIES:Sunday School
END:VEVENT
BEGIN:VEVENT
DTSTART;TZID=America/Chicago:20260728T120000
DTEND;TZID=America/Chicago:20260728T130000
DTSTAMP:20260425T084500
CREATED:20250311T180926Z
LAST-MODIFIED:20260417T164419Z
UID:10008964-1785240000-1785243600@fpcjackson.org
SUMMARY:Weekday Prayer
DESCRIPTION:Spurgeon said that the prayer meeting is the engine room of the church. Please join us to intercede for the needs of the church and our community at this weekly prayer meeting each Tuesday during the lunch hour. \nThe meeting will be informal and will focus solely on prayer. Bring your lunch and join us for all\, or only a part\, as your schedule allows.
URL:https://fpcjackson.org/event/weekday-prayer/2026-07-28/
LOCATION:Patterson Hall\, 1390 North State Street\, Jackson\, MS\, 39202\, United States
ATTACH;FMTTYPE=image/png:https://fpcjackson.org/wp-content/uploads/2025/03/Week-Day-Prayer.png
END:VEVENT
BEGIN:VEVENT
DTSTART;TZID=America/Chicago:20260728T184500
DTEND;TZID=America/Chicago:20260728T200000
DTSTAMP:20260425T084500
CREATED:20250521T163601Z
LAST-MODIFIED:20260306T160327Z
UID:10009801-1785264300-1785268800@fpcjackson.org
SUMMARY:FPC Internationals Class
DESCRIPTION:Meets Tuesdays at 6:45-8 p.m. on the FPC Campus – Patterson Hall or Via Zoom \nFPC Team Leader: Steve Edwards 601-668-7422 – alice5176@aol.com \nWithout leaving Jackson (or your home if you’d like to Zoom) you can answer God’s calling to love our international neighbors by helping them with their English. By the power of Holy Spirit we are praying that as has happened in past years\, many will become a part of God’s family for eternity. Contact Steve to learn more\, or just show up on Tuesday evenings in Patterson Hall.
URL:https://fpcjackson.org/event/fpc-internationals-class/2026-07-28/
LOCATION:Patterson Hall\, 1390 North State Street\, Jackson\, MS\, 39202\, United States
CATEGORIES:Outreach
ATTACH;FMTTYPE=image/png:https://fpcjackson.org/wp-content/uploads/2025/05/Internationals-Class-scaled.png
END:VEVENT
BEGIN:VEVENT
DTSTART;TZID=America/Chicago:20260801T073000
DTEND;TZID=America/Chicago:20260801T083000
DTSTAMP:20260425T084500
CREATED:20260109T191328Z
LAST-MODIFIED:20260109T191328Z
UID:10020042-1785569400-1785573000@fpcjackson.org
SUMMARY:Men's Prayer Breakfast
DESCRIPTION:The Men’s Prayer Breakfast has been meeting at First Pres on Saturday mornings for the last 40 years. It is a rich time of fellowship for the men who participate. Our prayer time encompasses the needs of our church family and stretches across the world. Every church has its nerve centers\, and the Saturday Morning Men’s Prayer Breakfast is one of the strongest ones here at First Pres. We meet every Saturday morning in Patterson Hall from 7:30-8:30 AM. Several men arrive early to prepare a full Southern breakfast. Cost for the breakfast is $1 – the best $1 breakfast in Jackson!
URL:https://fpcjackson.org/event/mens-prayer-breakfast/2026-08-01/
LOCATION:Patterson Hall\, 1390 North State Street\, Jackson\, MS\, 39202\, United States
CATEGORIES:Men
END:VEVENT
BEGIN:VEVENT
DTSTART;TZID=America/Chicago:20260802T094500
DTEND;TZID=America/Chicago:20260802T104500
DTSTAMP:20260425T084500
CREATED:20220916T133350Z
LAST-MODIFIED:20260306T155638Z
UID:10006156-1785663900-1785667500@fpcjackson.org
SUMMARY:Young Adults Sunday School
DESCRIPTION:
URL:https://fpcjackson.org/event/young-adults-sunday-school/2026-08-02/
LOCATION:Patterson Hall\, 1390 North State Street\, Jackson\, MS\, 39202\, United States
CATEGORIES:Sunday School
END:VEVENT
BEGIN:VEVENT
DTSTART;TZID=America/Chicago:20260804T120000
DTEND;TZID=America/Chicago:20260804T130000
DTSTAMP:20260425T084500
CREATED:20250311T180926Z
LAST-MODIFIED:20260417T164419Z
UID:10008965-1785844800-1785848400@fpcjackson.org
SUMMARY:Weekday Prayer
DESCRIPTION:Spurgeon said that the prayer meeting is the engine room of the church. Please join us to intercede for the needs of the church and our community at this weekly prayer meeting each Tuesday during the lunch hour. \nThe meeting will be informal and will focus solely on prayer. Bring your lunch and join us for all\, or only a part\, as your schedule allows.
URL:https://fpcjackson.org/event/weekday-prayer/2026-08-04/
LOCATION:Patterson Hall\, 1390 North State Street\, Jackson\, MS\, 39202\, United States
ATTACH;FMTTYPE=image/png:https://fpcjackson.org/wp-content/uploads/2025/03/Week-Day-Prayer.png
END:VEVENT
BEGIN:VEVENT
DTSTART;TZID=America/Chicago:20260804T184500
DTEND;TZID=America/Chicago:20260804T200000
DTSTAMP:20260425T084500
CREATED:20250521T163601Z
LAST-MODIFIED:20260306T160327Z
UID:10009802-1785869100-1785873600@fpcjackson.org
SUMMARY:FPC Internationals Class
DESCRIPTION:Meets Tuesdays at 6:45-8 p.m. on the FPC Campus – Patterson Hall or Via Zoom \nFPC Team Leader: Steve Edwards 601-668-7422 – alice5176@aol.com \nWithout leaving Jackson (or your home if you’d like to Zoom) you can answer God’s calling to love our international neighbors by helping them with their English. By the power of Holy Spirit we are praying that as has happened in past years\, many will become a part of God’s family for eternity. Contact Steve to learn more\, or just show up on Tuesday evenings in Patterson Hall.
URL:https://fpcjackson.org/event/fpc-internationals-class/2026-08-04/
LOCATION:Patterson Hall\, 1390 North State Street\, Jackson\, MS\, 39202\, United States
CATEGORIES:Outreach
ATTACH;FMTTYPE=image/png:https://fpcjackson.org/wp-content/uploads/2025/05/Internationals-Class-scaled.png
END:VEVENT
BEGIN:VEVENT
DTSTART;TZID=America/Chicago:20260808T073000
DTEND;TZID=America/Chicago:20260808T083000
DTSTAMP:20260425T084500
CREATED:20260109T191328Z
LAST-MODIFIED:20260109T191328Z
UID:10020043-1786174200-1786177800@fpcjackson.org
SUMMARY:Men's Prayer Breakfast
DESCRIPTION:The Men’s Prayer Breakfast has been meeting at First Pres on Saturday mornings for the last 40 years. It is a rich time of fellowship for the men who participate. Our prayer time encompasses the needs of our church family and stretches across the world. Every church has its nerve centers\, and the Saturday Morning Men’s Prayer Breakfast is one of the strongest ones here at First Pres. We meet every Saturday morning in Patterson Hall from 7:30-8:30 AM. Several men arrive early to prepare a full Southern breakfast. Cost for the breakfast is $1 – the best $1 breakfast in Jackson!
URL:https://fpcjackson.org/event/mens-prayer-breakfast/2026-08-08/
LOCATION:Patterson Hall\, 1390 North State Street\, Jackson\, MS\, 39202\, United States
CATEGORIES:Men
END:VEVENT
BEGIN:VEVENT
DTSTART;TZID=America/Chicago:20260809T094500
DTEND;TZID=America/Chicago:20260809T104500
DTSTAMP:20260425T084500
CREATED:20220916T133350Z
LAST-MODIFIED:20260306T155638Z
UID:10006157-1786268700-1786272300@fpcjackson.org
SUMMARY:Young Adults Sunday School
DESCRIPTION:
URL:https://fpcjackson.org/event/young-adults-sunday-school/2026-08-09/
LOCATION:Patterson Hall\, 1390 North State Street\, Jackson\, MS\, 39202\, United States
CATEGORIES:Sunday School
END:VEVENT
BEGIN:VEVENT
DTSTART;TZID=America/Chicago:20260811T120000
DTEND;TZID=America/Chicago:20260811T130000
DTSTAMP:20260425T084500
CREATED:20250311T180926Z
LAST-MODIFIED:20260417T164419Z
UID:10008966-1786449600-1786453200@fpcjackson.org
SUMMARY:Weekday Prayer
DESCRIPTION:Spurgeon said that the prayer meeting is the engine room of the church. Please join us to intercede for the needs of the church and our community at this weekly prayer meeting each Tuesday during the lunch hour. \nThe meeting will be informal and will focus solely on prayer. Bring your lunch and join us for all\, or only a part\, as your schedule allows.
URL:https://fpcjackson.org/event/weekday-prayer/2026-08-11/
LOCATION:Patterson Hall\, 1390 North State Street\, Jackson\, MS\, 39202\, United States
ATTACH;FMTTYPE=image/png:https://fpcjackson.org/wp-content/uploads/2025/03/Week-Day-Prayer.png
END:VEVENT
BEGIN:VEVENT
DTSTART;TZID=America/Chicago:20260811T184500
DTEND;TZID=America/Chicago:20260811T200000
DTSTAMP:20260425T084500
CREATED:20250521T163601Z
LAST-MODIFIED:20260306T160327Z
UID:10009803-1786473900-1786478400@fpcjackson.org
SUMMARY:FPC Internationals Class
DESCRIPTION:Meets Tuesdays at 6:45-8 p.m. on the FPC Campus – Patterson Hall or Via Zoom \nFPC Team Leader: Steve Edwards 601-668-7422 – alice5176@aol.com \nWithout leaving Jackson (or your home if you’d like to Zoom) you can answer God’s calling to love our international neighbors by helping them with their English. By the power of Holy Spirit we are praying that as has happened in past years\, many will become a part of God’s family for eternity. Contact Steve to learn more\, or just show up on Tuesday evenings in Patterson Hall.
URL:https://fpcjackson.org/event/fpc-internationals-class/2026-08-11/
LOCATION:Patterson Hall\, 1390 North State Street\, Jackson\, MS\, 39202\, United States
CATEGORIES:Outreach
ATTACH;FMTTYPE=image/png:https://fpcjackson.org/wp-content/uploads/2025/05/Internationals-Class-scaled.png
END:VEVENT
BEGIN:VEVENT
DTSTART;TZID=America/Chicago:20260815T073000
DTEND;TZID=America/Chicago:20260815T083000
DTSTAMP:20260425T084500
CREATED:20260109T191328Z
LAST-MODIFIED:20260109T191328Z
UID:10020044-1786779000-1786782600@fpcjackson.org
SUMMARY:Men's Prayer Breakfast
DESCRIPTION:The Men’s Prayer Breakfast has been meeting at First Pres on Saturday mornings for the last 40 years. It is a rich time of fellowship for the men who participate. Our prayer time encompasses the needs of our church family and stretches across the world. Every church has its nerve centers\, and the Saturday Morning Men’s Prayer Breakfast is one of the strongest ones here at First Pres. We meet every Saturday morning in Patterson Hall from 7:30-8:30 AM. Several men arrive early to prepare a full Southern breakfast. Cost for the breakfast is $1 – the best $1 breakfast in Jackson!
URL:https://fpcjackson.org/event/mens-prayer-breakfast/2026-08-15/
LOCATION:Patterson Hall\, 1390 North State Street\, Jackson\, MS\, 39202\, United States
CATEGORIES:Men
END:VEVENT
BEGIN:VEVENT
DTSTART;TZID=America/Chicago:20260816T094500
DTEND;TZID=America/Chicago:20260816T104500
DTSTAMP:20260425T084500
CREATED:20220916T133350Z
LAST-MODIFIED:20260306T155638Z
UID:10006158-1786873500-1786877100@fpcjackson.org
SUMMARY:Young Adults Sunday School
DESCRIPTION:
URL:https://fpcjackson.org/event/young-adults-sunday-school/2026-08-16/
LOCATION:Patterson Hall\, 1390 North State Street\, Jackson\, MS\, 39202\, United States
CATEGORIES:Sunday School
END:VEVENT
BEGIN:VEVENT
DTSTART;TZID=America/Chicago:20260818T120000
DTEND;TZID=America/Chicago:20260818T130000
DTSTAMP:20260425T084500
CREATED:20250311T180926Z
LAST-MODIFIED:20260417T164419Z
UID:10008967-1787054400-1787058000@fpcjackson.org
SUMMARY:Weekday Prayer
DESCRIPTION:Spurgeon said that the prayer meeting is the engine room of the church. Please join us to intercede for the needs of the church and our community at this weekly prayer meeting each Tuesday during the lunch hour. \nThe meeting will be informal and will focus solely on prayer. Bring your lunch and join us for all\, or only a part\, as your schedule allows.
URL:https://fpcjackson.org/event/weekday-prayer/2026-08-18/
LOCATION:Patterson Hall\, 1390 North State Street\, Jackson\, MS\, 39202\, United States
ATTACH;FMTTYPE=image/png:https://fpcjackson.org/wp-content/uploads/2025/03/Week-Day-Prayer.png
END:VEVENT
BEGIN:VEVENT
DTSTART;TZID=America/Chicago:20260818T184500
DTEND;TZID=America/Chicago:20260818T200000
DTSTAMP:20260425T084500
CREATED:20250521T163601Z
LAST-MODIFIED:20260306T160327Z
UID:10009804-1787078700-1787083200@fpcjackson.org
SUMMARY:FPC Internationals Class
DESCRIPTION:Meets Tuesdays at 6:45-8 p.m. on the FPC Campus – Patterson Hall or Via Zoom \nFPC Team Leader: Steve Edwards 601-668-7422 – alice5176@aol.com \nWithout leaving Jackson (or your home if you’d like to Zoom) you can answer God’s calling to love our international neighbors by helping them with their English. By the power of Holy Spirit we are praying that as has happened in past years\, many will become a part of God’s family for eternity. Contact Steve to learn more\, or just show up on Tuesday evenings in Patterson Hall.
URL:https://fpcjackson.org/event/fpc-internationals-class/2026-08-18/
LOCATION:Patterson Hall\, 1390 North State Street\, Jackson\, MS\, 39202\, United States
CATEGORIES:Outreach
ATTACH;FMTTYPE=image/png:https://fpcjackson.org/wp-content/uploads/2025/05/Internationals-Class-scaled.png
END:VEVENT
BEGIN:VEVENT
DTSTART;TZID=America/Chicago:20260822T073000
DTEND;TZID=America/Chicago:20260822T083000
DTSTAMP:20260425T084500
CREATED:20260109T191328Z
LAST-MODIFIED:20260109T191328Z
UID:10020045-1787383800-1787387400@fpcjackson.org
SUMMARY:Men's Prayer Breakfast
DESCRIPTION:The Men’s Prayer Breakfast has been meeting at First Pres on Saturday mornings for the last 40 years. It is a rich time of fellowship for the men who participate. Our prayer time encompasses the needs of our church family and stretches across the world. Every church has its nerve centers\, and the Saturday Morning Men’s Prayer Breakfast is one of the strongest ones here at First Pres. We meet every Saturday morning in Patterson Hall from 7:30-8:30 AM. Several men arrive early to prepare a full Southern breakfast. Cost for the breakfast is $1 – the best $1 breakfast in Jackson!
URL:https://fpcjackson.org/event/mens-prayer-breakfast/2026-08-22/
LOCATION:Patterson Hall\, 1390 North State Street\, Jackson\, MS\, 39202\, United States
CATEGORIES:Men
END:VEVENT
BEGIN:VEVENT
DTSTART;TZID=America/Chicago:20260823T094500
DTEND;TZID=America/Chicago:20260823T104500
DTSTAMP:20260425T084500
CREATED:20220916T133350Z
LAST-MODIFIED:20260306T155638Z
UID:10006159-1787478300-1787481900@fpcjackson.org
SUMMARY:Young Adults Sunday School
DESCRIPTION:
URL:https://fpcjackson.org/event/young-adults-sunday-school/2026-08-23/
LOCATION:Patterson Hall\, 1390 North State Street\, Jackson\, MS\, 39202\, United States
CATEGORIES:Sunday School
END:VEVENT
BEGIN:VEVENT
DTSTART;TZID=America/Chicago:20260825T120000
DTEND;TZID=America/Chicago:20260825T130000
DTSTAMP:20260425T084500
CREATED:20250311T180926Z
LAST-MODIFIED:20260417T164419Z
UID:10008968-1787659200-1787662800@fpcjackson.org
SUMMARY:Weekday Prayer
DESCRIPTION:Spurgeon said that the prayer meeting is the engine room of the church. Please join us to intercede for the needs of the church and our community at this weekly prayer meeting each Tuesday during the lunch hour. \nThe meeting will be informal and will focus solely on prayer. Bring your lunch and join us for all\, or only a part\, as your schedule allows.
URL:https://fpcjackson.org/event/weekday-prayer/2026-08-25/
LOCATION:Patterson Hall\, 1390 North State Street\, Jackson\, MS\, 39202\, United States
ATTACH;FMTTYPE=image/png:https://fpcjackson.org/wp-content/uploads/2025/03/Week-Day-Prayer.png
END:VEVENT
END:VCALENDAR