BEGIN:VCALENDAR
VERSION:2.0
PRODID:-//First Presbyterian Church - ECPv6.15.20//NONSGML v1.0//EN
CALSCALE:GREGORIAN
METHOD:PUBLISH
X-ORIGINAL-URL:https://fpcjackson.org
X-WR-CALDESC:Events for First Presbyterian Church
REFRESH-INTERVAL;VALUE=DURATION:PT1H
X-Robots-Tag:noindex
X-PUBLISHED-TTL:PT1H
BEGIN:VTIMEZONE
TZID:America/Chicago
BEGIN:DAYLIGHT
TZOFFSETFROM:-0600
TZOFFSETTO:-0500
TZNAME:CDT
DTSTART:20260308T080000
END:DAYLIGHT
BEGIN:STANDARD
TZOFFSETFROM:-0500
TZOFFSETTO:-0600
TZNAME:CST
DTSTART:20261101T070000
END:STANDARD
BEGIN:DAYLIGHT
TZOFFSETFROM:-0600
TZOFFSETTO:-0500
TZNAME:CDT
DTSTART:20270314T080000
END:DAYLIGHT
BEGIN:STANDARD
TZOFFSETFROM:-0500
TZOFFSETTO:-0600
TZNAME:CST
DTSTART:20271107T070000
END:STANDARD
BEGIN:DAYLIGHT
TZOFFSETFROM:-0600
TZOFFSETTO:-0500
TZNAME:CDT
DTSTART:20280312T080000
END:DAYLIGHT
BEGIN:STANDARD
TZOFFSETFROM:-0500
TZOFFSETTO:-0600
TZNAME:CST
DTSTART:20281105T070000
END:STANDARD
BEGIN:DAYLIGHT
TZOFFSETFROM:-0600
TZOFFSETTO:-0500
TZNAME:CDT
DTSTART:20290311T080000
END:DAYLIGHT
BEGIN:STANDARD
TZOFFSETFROM:-0500
TZOFFSETTO:-0600
TZNAME:CST
DTSTART:20291104T070000
END:STANDARD
END:VTIMEZONE
BEGIN:VEVENT
DTSTART;TZID=America/Chicago:20270623T170000
DTEND;TZID=America/Chicago:20270623T180000
DTSTAMP:20260424T100347
CREATED:20241204T214004Z
LAST-MODIFIED:20260306T160516Z
UID:10001356-1813770000-1813773600@fpcjackson.org
SUMMARY:Midweek Dinner
DESCRIPTION:Adults $8\nChildren $4\nFamily Max $25\nCollege Free – Midweek Dinner is free for any college student involved in one of our Midweek programs. Any other college student can eat for $4.
URL:https://fpcjackson.org/event/midweek-dinner-2/2027-06-23/
LOCATION:Miller Hall\, 1390 North State Street\, Jackson\, MS\, 39202\, United States
CATEGORIES:Midweek
END:VEVENT
BEGIN:VEVENT
DTSTART;TZID=America/Chicago:20270630T170000
DTEND;TZID=America/Chicago:20270630T180000
DTSTAMP:20260424T100347
CREATED:20241204T214004Z
LAST-MODIFIED:20260306T160516Z
UID:10001357-1814374800-1814378400@fpcjackson.org
SUMMARY:Midweek Dinner
DESCRIPTION:Adults $8\nChildren $4\nFamily Max $25\nCollege Free – Midweek Dinner is free for any college student involved in one of our Midweek programs. Any other college student can eat for $4.
URL:https://fpcjackson.org/event/midweek-dinner-2/2027-06-30/
LOCATION:Miller Hall\, 1390 North State Street\, Jackson\, MS\, 39202\, United States
CATEGORIES:Midweek
END:VEVENT
BEGIN:VEVENT
DTSTART;TZID=America/Chicago:20270707T170000
DTEND;TZID=America/Chicago:20270707T180000
DTSTAMP:20260424T100347
CREATED:20241204T214004Z
LAST-MODIFIED:20260306T160516Z
UID:10001358-1814979600-1814983200@fpcjackson.org
SUMMARY:Midweek Dinner
DESCRIPTION:Adults $8\nChildren $4\nFamily Max $25\nCollege Free – Midweek Dinner is free for any college student involved in one of our Midweek programs. Any other college student can eat for $4.
URL:https://fpcjackson.org/event/midweek-dinner-2/2027-07-07/
LOCATION:Miller Hall\, 1390 North State Street\, Jackson\, MS\, 39202\, United States
CATEGORIES:Midweek
END:VEVENT
BEGIN:VEVENT
DTSTART;TZID=America/Chicago:20270714T170000
DTEND;TZID=America/Chicago:20270714T180000
DTSTAMP:20260424T100347
CREATED:20241204T214004Z
LAST-MODIFIED:20260306T160516Z
UID:10001359-1815584400-1815588000@fpcjackson.org
SUMMARY:Midweek Dinner
DESCRIPTION:Adults $8\nChildren $4\nFamily Max $25\nCollege Free – Midweek Dinner is free for any college student involved in one of our Midweek programs. Any other college student can eat for $4.
URL:https://fpcjackson.org/event/midweek-dinner-2/2027-07-14/
LOCATION:Miller Hall\, 1390 North State Street\, Jackson\, MS\, 39202\, United States
CATEGORIES:Midweek
END:VEVENT
BEGIN:VEVENT
DTSTART;TZID=America/Chicago:20270721T170000
DTEND;TZID=America/Chicago:20270721T180000
DTSTAMP:20260424T100347
CREATED:20241204T214004Z
LAST-MODIFIED:20260306T160516Z
UID:10001360-1816189200-1816192800@fpcjackson.org
SUMMARY:Midweek Dinner
DESCRIPTION:Adults $8\nChildren $4\nFamily Max $25\nCollege Free – Midweek Dinner is free for any college student involved in one of our Midweek programs. Any other college student can eat for $4.
URL:https://fpcjackson.org/event/midweek-dinner-2/2027-07-21/
LOCATION:Miller Hall\, 1390 North State Street\, Jackson\, MS\, 39202\, United States
CATEGORIES:Midweek
END:VEVENT
BEGIN:VEVENT
DTSTART;TZID=America/Chicago:20270728T170000
DTEND;TZID=America/Chicago:20270728T180000
DTSTAMP:20260424T100347
CREATED:20241204T214004Z
LAST-MODIFIED:20260306T160516Z
UID:10001361-1816794000-1816797600@fpcjackson.org
SUMMARY:Midweek Dinner
DESCRIPTION:Adults $8\nChildren $4\nFamily Max $25\nCollege Free – Midweek Dinner is free for any college student involved in one of our Midweek programs. Any other college student can eat for $4.
URL:https://fpcjackson.org/event/midweek-dinner-2/2027-07-28/
LOCATION:Miller Hall\, 1390 North State Street\, Jackson\, MS\, 39202\, United States
CATEGORIES:Midweek
END:VEVENT
BEGIN:VEVENT
DTSTART;TZID=America/Chicago:20270804T170000
DTEND;TZID=America/Chicago:20270804T180000
DTSTAMP:20260424T100347
CREATED:20241204T214004Z
LAST-MODIFIED:20260306T160516Z
UID:10001362-1817398800-1817402400@fpcjackson.org
SUMMARY:Midweek Dinner
DESCRIPTION:Adults $8\nChildren $4\nFamily Max $25\nCollege Free – Midweek Dinner is free for any college student involved in one of our Midweek programs. Any other college student can eat for $4.
URL:https://fpcjackson.org/event/midweek-dinner-2/2027-08-04/
LOCATION:Miller Hall\, 1390 North State Street\, Jackson\, MS\, 39202\, United States
CATEGORIES:Midweek
END:VEVENT
BEGIN:VEVENT
DTSTART;TZID=America/Chicago:20270811T170000
DTEND;TZID=America/Chicago:20270811T180000
DTSTAMP:20260424T100347
CREATED:20241204T214004Z
LAST-MODIFIED:20260306T160516Z
UID:10001363-1818003600-1818007200@fpcjackson.org
SUMMARY:Midweek Dinner
DESCRIPTION:Adults $8\nChildren $4\nFamily Max $25\nCollege Free – Midweek Dinner is free for any college student involved in one of our Midweek programs. Any other college student can eat for $4.
URL:https://fpcjackson.org/event/midweek-dinner-2/2027-08-11/
LOCATION:Miller Hall\, 1390 North State Street\, Jackson\, MS\, 39202\, United States
CATEGORIES:Midweek
END:VEVENT
BEGIN:VEVENT
DTSTART;TZID=America/Chicago:20270818T170000
DTEND;TZID=America/Chicago:20270818T180000
DTSTAMP:20260424T100347
CREATED:20241204T214004Z
LAST-MODIFIED:20260306T160516Z
UID:10001364-1818608400-1818612000@fpcjackson.org
SUMMARY:Midweek Dinner
DESCRIPTION:Adults $8\nChildren $4\nFamily Max $25\nCollege Free – Midweek Dinner is free for any college student involved in one of our Midweek programs. Any other college student can eat for $4.
URL:https://fpcjackson.org/event/midweek-dinner-2/2027-08-18/
LOCATION:Miller Hall\, 1390 North State Street\, Jackson\, MS\, 39202\, United States
CATEGORIES:Midweek
END:VEVENT
BEGIN:VEVENT
DTSTART;TZID=America/Chicago:20270825T170000
DTEND;TZID=America/Chicago:20270825T180000
DTSTAMP:20260424T100347
CREATED:20241204T214004Z
LAST-MODIFIED:20260306T160516Z
UID:10001365-1819213200-1819216800@fpcjackson.org
SUMMARY:Midweek Dinner
DESCRIPTION:Adults $8\nChildren $4\nFamily Max $25\nCollege Free – Midweek Dinner is free for any college student involved in one of our Midweek programs. Any other college student can eat for $4.
URL:https://fpcjackson.org/event/midweek-dinner-2/2027-08-25/
LOCATION:Miller Hall\, 1390 North State Street\, Jackson\, MS\, 39202\, United States
CATEGORIES:Midweek
END:VEVENT
BEGIN:VEVENT
DTSTART;TZID=America/Chicago:20270901T170000
DTEND;TZID=America/Chicago:20270901T180000
DTSTAMP:20260424T100347
CREATED:20241204T214004Z
LAST-MODIFIED:20260306T160516Z
UID:10001366-1819818000-1819821600@fpcjackson.org
SUMMARY:Midweek Dinner
DESCRIPTION:Adults $8\nChildren $4\nFamily Max $25\nCollege Free – Midweek Dinner is free for any college student involved in one of our Midweek programs. Any other college student can eat for $4.
URL:https://fpcjackson.org/event/midweek-dinner-2/2027-09-01/
LOCATION:Miller Hall\, 1390 North State Street\, Jackson\, MS\, 39202\, United States
CATEGORIES:Midweek
END:VEVENT
BEGIN:VEVENT
DTSTART;TZID=America/Chicago:20270908T170000
DTEND;TZID=America/Chicago:20270908T180000
DTSTAMP:20260424T100347
CREATED:20241204T214004Z
LAST-MODIFIED:20260306T160516Z
UID:10001367-1820422800-1820426400@fpcjackson.org
SUMMARY:Midweek Dinner
DESCRIPTION:Adults $8\nChildren $4\nFamily Max $25\nCollege Free – Midweek Dinner is free for any college student involved in one of our Midweek programs. Any other college student can eat for $4.
URL:https://fpcjackson.org/event/midweek-dinner-2/2027-09-08/
LOCATION:Miller Hall\, 1390 North State Street\, Jackson\, MS\, 39202\, United States
CATEGORIES:Midweek
END:VEVENT
BEGIN:VEVENT
DTSTART;TZID=America/Chicago:20270915T170000
DTEND;TZID=America/Chicago:20270915T180000
DTSTAMP:20260424T100347
CREATED:20241204T214004Z
LAST-MODIFIED:20260306T160516Z
UID:10001368-1821027600-1821031200@fpcjackson.org
SUMMARY:Midweek Dinner
DESCRIPTION:Adults $8\nChildren $4\nFamily Max $25\nCollege Free – Midweek Dinner is free for any college student involved in one of our Midweek programs. Any other college student can eat for $4.
URL:https://fpcjackson.org/event/midweek-dinner-2/2027-09-15/
LOCATION:Miller Hall\, 1390 North State Street\, Jackson\, MS\, 39202\, United States
CATEGORIES:Midweek
END:VEVENT
BEGIN:VEVENT
DTSTART;TZID=America/Chicago:20270922T170000
DTEND;TZID=America/Chicago:20270922T180000
DTSTAMP:20260424T100347
CREATED:20241204T214004Z
LAST-MODIFIED:20260306T160516Z
UID:10001369-1821632400-1821636000@fpcjackson.org
SUMMARY:Midweek Dinner
DESCRIPTION:Adults $8\nChildren $4\nFamily Max $25\nCollege Free – Midweek Dinner is free for any college student involved in one of our Midweek programs. Any other college student can eat for $4.
URL:https://fpcjackson.org/event/midweek-dinner-2/2027-09-22/
LOCATION:Miller Hall\, 1390 North State Street\, Jackson\, MS\, 39202\, United States
CATEGORIES:Midweek
END:VEVENT
BEGIN:VEVENT
DTSTART;TZID=America/Chicago:20270929T170000
DTEND;TZID=America/Chicago:20270929T180000
DTSTAMP:20260424T100347
CREATED:20241204T214004Z
LAST-MODIFIED:20260306T160516Z
UID:10001370-1822237200-1822240800@fpcjackson.org
SUMMARY:Midweek Dinner
DESCRIPTION:Adults $8\nChildren $4\nFamily Max $25\nCollege Free – Midweek Dinner is free for any college student involved in one of our Midweek programs. Any other college student can eat for $4.
URL:https://fpcjackson.org/event/midweek-dinner-2/2027-09-29/
LOCATION:Miller Hall\, 1390 North State Street\, Jackson\, MS\, 39202\, United States
CATEGORIES:Midweek
END:VEVENT
BEGIN:VEVENT
DTSTART;TZID=America/Chicago:20271006T170000
DTEND;TZID=America/Chicago:20271006T180000
DTSTAMP:20260424T100347
CREATED:20241204T214004Z
LAST-MODIFIED:20260306T160516Z
UID:10001371-1822842000-1822845600@fpcjackson.org
SUMMARY:Midweek Dinner
DESCRIPTION:Adults $8\nChildren $4\nFamily Max $25\nCollege Free – Midweek Dinner is free for any college student involved in one of our Midweek programs. Any other college student can eat for $4.
URL:https://fpcjackson.org/event/midweek-dinner-2/2027-10-06/
LOCATION:Miller Hall\, 1390 North State Street\, Jackson\, MS\, 39202\, United States
CATEGORIES:Midweek
END:VEVENT
BEGIN:VEVENT
DTSTART;TZID=America/Chicago:20271013T170000
DTEND;TZID=America/Chicago:20271013T180000
DTSTAMP:20260424T100347
CREATED:20241204T214004Z
LAST-MODIFIED:20260306T160516Z
UID:10001372-1823446800-1823450400@fpcjackson.org
SUMMARY:Midweek Dinner
DESCRIPTION:Adults $8\nChildren $4\nFamily Max $25\nCollege Free – Midweek Dinner is free for any college student involved in one of our Midweek programs. Any other college student can eat for $4.
URL:https://fpcjackson.org/event/midweek-dinner-2/2027-10-13/
LOCATION:Miller Hall\, 1390 North State Street\, Jackson\, MS\, 39202\, United States
CATEGORIES:Midweek
END:VEVENT
BEGIN:VEVENT
DTSTART;TZID=America/Chicago:20271020T170000
DTEND;TZID=America/Chicago:20271020T180000
DTSTAMP:20260424T100347
CREATED:20241204T214004Z
LAST-MODIFIED:20260306T160516Z
UID:10001373-1824051600-1824055200@fpcjackson.org
SUMMARY:Midweek Dinner
DESCRIPTION:Adults $8\nChildren $4\nFamily Max $25\nCollege Free – Midweek Dinner is free for any college student involved in one of our Midweek programs. Any other college student can eat for $4.
URL:https://fpcjackson.org/event/midweek-dinner-2/2027-10-20/
LOCATION:Miller Hall\, 1390 North State Street\, Jackson\, MS\, 39202\, United States
CATEGORIES:Midweek
END:VEVENT
BEGIN:VEVENT
DTSTART;TZID=America/Chicago:20271027T170000
DTEND;TZID=America/Chicago:20271027T180000
DTSTAMP:20260424T100347
CREATED:20241204T214004Z
LAST-MODIFIED:20260306T160516Z
UID:10001374-1824656400-1824660000@fpcjackson.org
SUMMARY:Midweek Dinner
DESCRIPTION:Adults $8\nChildren $4\nFamily Max $25\nCollege Free – Midweek Dinner is free for any college student involved in one of our Midweek programs. Any other college student can eat for $4.
URL:https://fpcjackson.org/event/midweek-dinner-2/2027-10-27/
LOCATION:Miller Hall\, 1390 North State Street\, Jackson\, MS\, 39202\, United States
CATEGORIES:Midweek
END:VEVENT
BEGIN:VEVENT
DTSTART;TZID=America/Chicago:20271103T170000
DTEND;TZID=America/Chicago:20271103T180000
DTSTAMP:20260424T100347
CREATED:20241204T214004Z
LAST-MODIFIED:20260306T160516Z
UID:10001375-1825261200-1825264800@fpcjackson.org
SUMMARY:Midweek Dinner
DESCRIPTION:Adults $8\nChildren $4\nFamily Max $25\nCollege Free – Midweek Dinner is free for any college student involved in one of our Midweek programs. Any other college student can eat for $4.
URL:https://fpcjackson.org/event/midweek-dinner-2/2027-11-03/
LOCATION:Miller Hall\, 1390 North State Street\, Jackson\, MS\, 39202\, United States
CATEGORIES:Midweek
END:VEVENT
BEGIN:VEVENT
DTSTART;TZID=America/Chicago:20271110T170000
DTEND;TZID=America/Chicago:20271110T180000
DTSTAMP:20260424T100347
CREATED:20241204T214004Z
LAST-MODIFIED:20260306T160516Z
UID:10001376-1825866000-1825869600@fpcjackson.org
SUMMARY:Midweek Dinner
DESCRIPTION:Adults $8\nChildren $4\nFamily Max $25\nCollege Free – Midweek Dinner is free for any college student involved in one of our Midweek programs. Any other college student can eat for $4.
URL:https://fpcjackson.org/event/midweek-dinner-2/2027-11-10/
LOCATION:Miller Hall\, 1390 North State Street\, Jackson\, MS\, 39202\, United States
CATEGORIES:Midweek
END:VEVENT
BEGIN:VEVENT
DTSTART;TZID=America/Chicago:20271117T170000
DTEND;TZID=America/Chicago:20271117T180000
DTSTAMP:20260424T100347
CREATED:20241204T214004Z
LAST-MODIFIED:20260306T160516Z
UID:10001377-1826470800-1826474400@fpcjackson.org
SUMMARY:Midweek Dinner
DESCRIPTION:Adults $8\nChildren $4\nFamily Max $25\nCollege Free – Midweek Dinner is free for any college student involved in one of our Midweek programs. Any other college student can eat for $4.
URL:https://fpcjackson.org/event/midweek-dinner-2/2027-11-17/
LOCATION:Miller Hall\, 1390 North State Street\, Jackson\, MS\, 39202\, United States
CATEGORIES:Midweek
END:VEVENT
BEGIN:VEVENT
DTSTART;TZID=America/Chicago:20271124T170000
DTEND;TZID=America/Chicago:20271124T180000
DTSTAMP:20260424T100347
CREATED:20241204T214004Z
LAST-MODIFIED:20260306T160516Z
UID:10001378-1827075600-1827079200@fpcjackson.org
SUMMARY:Midweek Dinner
DESCRIPTION:Adults $8\nChildren $4\nFamily Max $25\nCollege Free – Midweek Dinner is free for any college student involved in one of our Midweek programs. Any other college student can eat for $4.
URL:https://fpcjackson.org/event/midweek-dinner-2/2027-11-24/
LOCATION:Miller Hall\, 1390 North State Street\, Jackson\, MS\, 39202\, United States
CATEGORIES:Midweek
END:VEVENT
BEGIN:VEVENT
DTSTART;TZID=America/Chicago:20271201T170000
DTEND;TZID=America/Chicago:20271201T180000
DTSTAMP:20260424T100347
CREATED:20241204T214004Z
LAST-MODIFIED:20260306T160516Z
UID:10001379-1827680400-1827684000@fpcjackson.org
SUMMARY:Midweek Dinner
DESCRIPTION:Adults $8\nChildren $4\nFamily Max $25\nCollege Free – Midweek Dinner is free for any college student involved in one of our Midweek programs. Any other college student can eat for $4.
URL:https://fpcjackson.org/event/midweek-dinner-2/2027-12-01/
LOCATION:Miller Hall\, 1390 North State Street\, Jackson\, MS\, 39202\, United States
CATEGORIES:Midweek
END:VEVENT
BEGIN:VEVENT
DTSTART;TZID=America/Chicago:20271208T170000
DTEND;TZID=America/Chicago:20271208T180000
DTSTAMP:20260424T100347
CREATED:20241204T214004Z
LAST-MODIFIED:20260306T160516Z
UID:10001380-1828285200-1828288800@fpcjackson.org
SUMMARY:Midweek Dinner
DESCRIPTION:Adults $8\nChildren $4\nFamily Max $25\nCollege Free – Midweek Dinner is free for any college student involved in one of our Midweek programs. Any other college student can eat for $4.
URL:https://fpcjackson.org/event/midweek-dinner-2/2027-12-08/
LOCATION:Miller Hall\, 1390 North State Street\, Jackson\, MS\, 39202\, United States
CATEGORIES:Midweek
END:VEVENT
BEGIN:VEVENT
DTSTART;TZID=America/Chicago:20271215T170000
DTEND;TZID=America/Chicago:20271215T180000
DTSTAMP:20260424T100347
CREATED:20241204T214004Z
LAST-MODIFIED:20260306T160516Z
UID:10001381-1828890000-1828893600@fpcjackson.org
SUMMARY:Midweek Dinner
DESCRIPTION:Adults $8\nChildren $4\nFamily Max $25\nCollege Free – Midweek Dinner is free for any college student involved in one of our Midweek programs. Any other college student can eat for $4.
URL:https://fpcjackson.org/event/midweek-dinner-2/2027-12-15/
LOCATION:Miller Hall\, 1390 North State Street\, Jackson\, MS\, 39202\, United States
CATEGORIES:Midweek
END:VEVENT
BEGIN:VEVENT
DTSTART;TZID=America/Chicago:20271222T170000
DTEND;TZID=America/Chicago:20271222T180000
DTSTAMP:20260424T100347
CREATED:20241204T214004Z
LAST-MODIFIED:20260306T160516Z
UID:10001382-1829494800-1829498400@fpcjackson.org
SUMMARY:Midweek Dinner
DESCRIPTION:Adults $8\nChildren $4\nFamily Max $25\nCollege Free – Midweek Dinner is free for any college student involved in one of our Midweek programs. Any other college student can eat for $4.
URL:https://fpcjackson.org/event/midweek-dinner-2/2027-12-22/
LOCATION:Miller Hall\, 1390 North State Street\, Jackson\, MS\, 39202\, United States
CATEGORIES:Midweek
END:VEVENT
BEGIN:VEVENT
DTSTART;TZID=America/Chicago:20271229T170000
DTEND;TZID=America/Chicago:20271229T180000
DTSTAMP:20260424T100347
CREATED:20241204T214004Z
LAST-MODIFIED:20260306T160516Z
UID:10001383-1830099600-1830103200@fpcjackson.org
SUMMARY:Midweek Dinner
DESCRIPTION:Adults $8\nChildren $4\nFamily Max $25\nCollege Free – Midweek Dinner is free for any college student involved in one of our Midweek programs. Any other college student can eat for $4.
URL:https://fpcjackson.org/event/midweek-dinner-2/2027-12-29/
LOCATION:Miller Hall\, 1390 North State Street\, Jackson\, MS\, 39202\, United States
CATEGORIES:Midweek
END:VEVENT
BEGIN:VEVENT
DTSTART;TZID=America/Chicago:20280105T170000
DTEND;TZID=America/Chicago:20280105T180000
DTSTAMP:20260424T100347
CREATED:20241204T214004Z
LAST-MODIFIED:20260306T160516Z
UID:10001384-1830704400-1830708000@fpcjackson.org
SUMMARY:Midweek Dinner
DESCRIPTION:Adults $8\nChildren $4\nFamily Max $25\nCollege Free – Midweek Dinner is free for any college student involved in one of our Midweek programs. Any other college student can eat for $4.
URL:https://fpcjackson.org/event/midweek-dinner-2/2028-01-05/
LOCATION:Miller Hall\, 1390 North State Street\, Jackson\, MS\, 39202\, United States
CATEGORIES:Midweek
END:VEVENT
BEGIN:VEVENT
DTSTART;TZID=America/Chicago:20280112T170000
DTEND;TZID=America/Chicago:20280112T180000
DTSTAMP:20260424T100347
CREATED:20241204T214004Z
LAST-MODIFIED:20260306T160516Z
UID:10001385-1831309200-1831312800@fpcjackson.org
SUMMARY:Midweek Dinner
DESCRIPTION:Adults $8\nChildren $4\nFamily Max $25\nCollege Free – Midweek Dinner is free for any college student involved in one of our Midweek programs. Any other college student can eat for $4.
URL:https://fpcjackson.org/event/midweek-dinner-2/2028-01-12/
LOCATION:Miller Hall\, 1390 North State Street\, Jackson\, MS\, 39202\, United States
CATEGORIES:Midweek
END:VEVENT
END:VCALENDAR