BEGIN:VCALENDAR
VERSION:2.0
PRODID:-//First Presbyterian Church - ECPv6.15.20//NONSGML v1.0//EN
CALSCALE:GREGORIAN
METHOD:PUBLISH
X-WR-CALNAME:First Presbyterian Church
X-ORIGINAL-URL:https://fpcjackson.org
X-WR-CALDESC:Events for First Presbyterian Church
REFRESH-INTERVAL;VALUE=DURATION:PT1H
X-Robots-Tag:noindex
X-PUBLISHED-TTL:PT1H
BEGIN:VTIMEZONE
TZID:America/Chicago
BEGIN:DAYLIGHT
TZOFFSETFROM:-0600
TZOFFSETTO:-0500
TZNAME:CDT
DTSTART:20250309T080000
END:DAYLIGHT
BEGIN:STANDARD
TZOFFSETFROM:-0500
TZOFFSETTO:-0600
TZNAME:CST
DTSTART:20251102T070000
END:STANDARD
BEGIN:DAYLIGHT
TZOFFSETFROM:-0600
TZOFFSETTO:-0500
TZNAME:CDT
DTSTART:20260308T080000
END:DAYLIGHT
BEGIN:STANDARD
TZOFFSETFROM:-0500
TZOFFSETTO:-0600
TZNAME:CST
DTSTART:20261101T070000
END:STANDARD
BEGIN:DAYLIGHT
TZOFFSETFROM:-0600
TZOFFSETTO:-0500
TZNAME:CDT
DTSTART:20270314T080000
END:DAYLIGHT
BEGIN:STANDARD
TZOFFSETFROM:-0500
TZOFFSETTO:-0600
TZNAME:CST
DTSTART:20271107T070000
END:STANDARD
BEGIN:DAYLIGHT
TZOFFSETFROM:-0600
TZOFFSETTO:-0500
TZNAME:CDT
DTSTART:20280312T080000
END:DAYLIGHT
BEGIN:STANDARD
TZOFFSETFROM:-0500
TZOFFSETTO:-0600
TZNAME:CST
DTSTART:20281105T070000
END:STANDARD
END:VTIMEZONE
BEGIN:VEVENT
DTSTART;TZID=America/Chicago:20260909T170000
DTEND;TZID=America/Chicago:20260909T180000
DTSTAMP:20260422T063041
CREATED:20241204T214004Z
LAST-MODIFIED:20260306T160516Z
UID:10001315-1788973200-1788976800@fpcjackson.org
SUMMARY:Midweek Dinner
DESCRIPTION:Adults $8\nChildren $4\nFamily Max $25\nCollege Free – Midweek Dinner is free for any college student involved in one of our Midweek programs. Any other college student can eat for $4.
URL:https://fpcjackson.org/event/midweek-dinner-2/2026-09-09/
LOCATION:Miller Hall\, 1390 North State Street\, Jackson\, MS\, 39202\, United States
CATEGORIES:Midweek
END:VEVENT
BEGIN:VEVENT
DTSTART;TZID=America/Chicago:20260916T170000
DTEND;TZID=America/Chicago:20260916T180000
DTSTAMP:20260422T063041
CREATED:20241204T214004Z
LAST-MODIFIED:20260306T160516Z
UID:10001316-1789578000-1789581600@fpcjackson.org
SUMMARY:Midweek Dinner
DESCRIPTION:Adults $8\nChildren $4\nFamily Max $25\nCollege Free – Midweek Dinner is free for any college student involved in one of our Midweek programs. Any other college student can eat for $4.
URL:https://fpcjackson.org/event/midweek-dinner-2/2026-09-16/
LOCATION:Miller Hall\, 1390 North State Street\, Jackson\, MS\, 39202\, United States
CATEGORIES:Midweek
END:VEVENT
BEGIN:VEVENT
DTSTART;TZID=America/Chicago:20260923T170000
DTEND;TZID=America/Chicago:20260923T180000
DTSTAMP:20260422T063041
CREATED:20241204T214004Z
LAST-MODIFIED:20260306T160516Z
UID:10001317-1790182800-1790186400@fpcjackson.org
SUMMARY:Midweek Dinner
DESCRIPTION:Adults $8\nChildren $4\nFamily Max $25\nCollege Free – Midweek Dinner is free for any college student involved in one of our Midweek programs. Any other college student can eat for $4.
URL:https://fpcjackson.org/event/midweek-dinner-2/2026-09-23/
LOCATION:Miller Hall\, 1390 North State Street\, Jackson\, MS\, 39202\, United States
CATEGORIES:Midweek
END:VEVENT
BEGIN:VEVENT
DTSTART;TZID=America/Chicago:20260930T170000
DTEND;TZID=America/Chicago:20260930T180000
DTSTAMP:20260422T063041
CREATED:20241204T214004Z
LAST-MODIFIED:20260306T160516Z
UID:10001318-1790787600-1790791200@fpcjackson.org
SUMMARY:Midweek Dinner
DESCRIPTION:Adults $8\nChildren $4\nFamily Max $25\nCollege Free – Midweek Dinner is free for any college student involved in one of our Midweek programs. Any other college student can eat for $4.
URL:https://fpcjackson.org/event/midweek-dinner-2/2026-09-30/
LOCATION:Miller Hall\, 1390 North State Street\, Jackson\, MS\, 39202\, United States
CATEGORIES:Midweek
END:VEVENT
BEGIN:VEVENT
DTSTART;TZID=America/Chicago:20261007T170000
DTEND;TZID=America/Chicago:20261007T180000
DTSTAMP:20260422T063041
CREATED:20241204T214004Z
LAST-MODIFIED:20260306T160516Z
UID:10001319-1791392400-1791396000@fpcjackson.org
SUMMARY:Midweek Dinner
DESCRIPTION:Adults $8\nChildren $4\nFamily Max $25\nCollege Free – Midweek Dinner is free for any college student involved in one of our Midweek programs. Any other college student can eat for $4.
URL:https://fpcjackson.org/event/midweek-dinner-2/2026-10-07/
LOCATION:Miller Hall\, 1390 North State Street\, Jackson\, MS\, 39202\, United States
CATEGORIES:Midweek
END:VEVENT
BEGIN:VEVENT
DTSTART;TZID=America/Chicago:20261014T170000
DTEND;TZID=America/Chicago:20261014T180000
DTSTAMP:20260422T063041
CREATED:20241204T214004Z
LAST-MODIFIED:20260306T160516Z
UID:10001320-1791997200-1792000800@fpcjackson.org
SUMMARY:Midweek Dinner
DESCRIPTION:Adults $8\nChildren $4\nFamily Max $25\nCollege Free – Midweek Dinner is free for any college student involved in one of our Midweek programs. Any other college student can eat for $4.
URL:https://fpcjackson.org/event/midweek-dinner-2/2026-10-14/
LOCATION:Miller Hall\, 1390 North State Street\, Jackson\, MS\, 39202\, United States
CATEGORIES:Midweek
END:VEVENT
BEGIN:VEVENT
DTSTART;TZID=America/Chicago:20261021T170000
DTEND;TZID=America/Chicago:20261021T180000
DTSTAMP:20260422T063041
CREATED:20241204T214004Z
LAST-MODIFIED:20260306T160516Z
UID:10001321-1792602000-1792605600@fpcjackson.org
SUMMARY:Midweek Dinner
DESCRIPTION:Adults $8\nChildren $4\nFamily Max $25\nCollege Free – Midweek Dinner is free for any college student involved in one of our Midweek programs. Any other college student can eat for $4.
URL:https://fpcjackson.org/event/midweek-dinner-2/2026-10-21/
LOCATION:Miller Hall\, 1390 North State Street\, Jackson\, MS\, 39202\, United States
CATEGORIES:Midweek
END:VEVENT
BEGIN:VEVENT
DTSTART;TZID=America/Chicago:20261028T170000
DTEND;TZID=America/Chicago:20261028T180000
DTSTAMP:20260422T063041
CREATED:20241204T214004Z
LAST-MODIFIED:20260306T160516Z
UID:10001322-1793206800-1793210400@fpcjackson.org
SUMMARY:Midweek Dinner
DESCRIPTION:Adults $8\nChildren $4\nFamily Max $25\nCollege Free – Midweek Dinner is free for any college student involved in one of our Midweek programs. Any other college student can eat for $4.
URL:https://fpcjackson.org/event/midweek-dinner-2/2026-10-28/
LOCATION:Miller Hall\, 1390 North State Street\, Jackson\, MS\, 39202\, United States
CATEGORIES:Midweek
END:VEVENT
BEGIN:VEVENT
DTSTART;TZID=America/Chicago:20261104T170000
DTEND;TZID=America/Chicago:20261104T180000
DTSTAMP:20260422T063041
CREATED:20241204T214004Z
LAST-MODIFIED:20260306T160516Z
UID:10001323-1793811600-1793815200@fpcjackson.org
SUMMARY:Midweek Dinner
DESCRIPTION:Adults $8\nChildren $4\nFamily Max $25\nCollege Free – Midweek Dinner is free for any college student involved in one of our Midweek programs. Any other college student can eat for $4.
URL:https://fpcjackson.org/event/midweek-dinner-2/2026-11-04/
LOCATION:Miller Hall\, 1390 North State Street\, Jackson\, MS\, 39202\, United States
CATEGORIES:Midweek
END:VEVENT
BEGIN:VEVENT
DTSTART;TZID=America/Chicago:20261111T170000
DTEND;TZID=America/Chicago:20261111T180000
DTSTAMP:20260422T063041
CREATED:20241204T214004Z
LAST-MODIFIED:20260306T160516Z
UID:10001324-1794416400-1794420000@fpcjackson.org
SUMMARY:Midweek Dinner
DESCRIPTION:Adults $8\nChildren $4\nFamily Max $25\nCollege Free – Midweek Dinner is free for any college student involved in one of our Midweek programs. Any other college student can eat for $4.
URL:https://fpcjackson.org/event/midweek-dinner-2/2026-11-11/
LOCATION:Miller Hall\, 1390 North State Street\, Jackson\, MS\, 39202\, United States
CATEGORIES:Midweek
END:VEVENT
BEGIN:VEVENT
DTSTART;TZID=America/Chicago:20261118T170000
DTEND;TZID=America/Chicago:20261118T180000
DTSTAMP:20260422T063041
CREATED:20241204T214004Z
LAST-MODIFIED:20260306T160516Z
UID:10001325-1795021200-1795024800@fpcjackson.org
SUMMARY:Midweek Dinner
DESCRIPTION:Adults $8\nChildren $4\nFamily Max $25\nCollege Free – Midweek Dinner is free for any college student involved in one of our Midweek programs. Any other college student can eat for $4.
URL:https://fpcjackson.org/event/midweek-dinner-2/2026-11-18/
LOCATION:Miller Hall\, 1390 North State Street\, Jackson\, MS\, 39202\, United States
CATEGORIES:Midweek
END:VEVENT
BEGIN:VEVENT
DTSTART;TZID=America/Chicago:20261125T170000
DTEND;TZID=America/Chicago:20261125T180000
DTSTAMP:20260422T063041
CREATED:20241204T214004Z
LAST-MODIFIED:20260306T160516Z
UID:10001326-1795626000-1795629600@fpcjackson.org
SUMMARY:Midweek Dinner
DESCRIPTION:Adults $8\nChildren $4\nFamily Max $25\nCollege Free – Midweek Dinner is free for any college student involved in one of our Midweek programs. Any other college student can eat for $4.
URL:https://fpcjackson.org/event/midweek-dinner-2/2026-11-25/
LOCATION:Miller Hall\, 1390 North State Street\, Jackson\, MS\, 39202\, United States
CATEGORIES:Midweek
END:VEVENT
BEGIN:VEVENT
DTSTART;TZID=America/Chicago:20261202T170000
DTEND;TZID=America/Chicago:20261202T180000
DTSTAMP:20260422T063041
CREATED:20241204T214004Z
LAST-MODIFIED:20260306T160516Z
UID:10001327-1796230800-1796234400@fpcjackson.org
SUMMARY:Midweek Dinner
DESCRIPTION:Adults $8\nChildren $4\nFamily Max $25\nCollege Free – Midweek Dinner is free for any college student involved in one of our Midweek programs. Any other college student can eat for $4.
URL:https://fpcjackson.org/event/midweek-dinner-2/2026-12-02/
LOCATION:Miller Hall\, 1390 North State Street\, Jackson\, MS\, 39202\, United States
CATEGORIES:Midweek
END:VEVENT
BEGIN:VEVENT
DTSTART;TZID=America/Chicago:20261209T170000
DTEND;TZID=America/Chicago:20261209T180000
DTSTAMP:20260422T063041
CREATED:20241204T214004Z
LAST-MODIFIED:20260306T160516Z
UID:10001328-1796835600-1796839200@fpcjackson.org
SUMMARY:Midweek Dinner
DESCRIPTION:Adults $8\nChildren $4\nFamily Max $25\nCollege Free – Midweek Dinner is free for any college student involved in one of our Midweek programs. Any other college student can eat for $4.
URL:https://fpcjackson.org/event/midweek-dinner-2/2026-12-09/
LOCATION:Miller Hall\, 1390 North State Street\, Jackson\, MS\, 39202\, United States
CATEGORIES:Midweek
END:VEVENT
BEGIN:VEVENT
DTSTART;TZID=America/Chicago:20261216T170000
DTEND;TZID=America/Chicago:20261216T180000
DTSTAMP:20260422T063041
CREATED:20241204T214004Z
LAST-MODIFIED:20260306T160516Z
UID:10001329-1797440400-1797444000@fpcjackson.org
SUMMARY:Midweek Dinner
DESCRIPTION:Adults $8\nChildren $4\nFamily Max $25\nCollege Free – Midweek Dinner is free for any college student involved in one of our Midweek programs. Any other college student can eat for $4.
URL:https://fpcjackson.org/event/midweek-dinner-2/2026-12-16/
LOCATION:Miller Hall\, 1390 North State Street\, Jackson\, MS\, 39202\, United States
CATEGORIES:Midweek
END:VEVENT
BEGIN:VEVENT
DTSTART;TZID=America/Chicago:20261223T170000
DTEND;TZID=America/Chicago:20261223T180000
DTSTAMP:20260422T063041
CREATED:20241204T214004Z
LAST-MODIFIED:20260306T160516Z
UID:10001330-1798045200-1798048800@fpcjackson.org
SUMMARY:Midweek Dinner
DESCRIPTION:Adults $8\nChildren $4\nFamily Max $25\nCollege Free – Midweek Dinner is free for any college student involved in one of our Midweek programs. Any other college student can eat for $4.
URL:https://fpcjackson.org/event/midweek-dinner-2/2026-12-23/
LOCATION:Miller Hall\, 1390 North State Street\, Jackson\, MS\, 39202\, United States
CATEGORIES:Midweek
END:VEVENT
BEGIN:VEVENT
DTSTART;TZID=America/Chicago:20261230T170000
DTEND;TZID=America/Chicago:20261230T180000
DTSTAMP:20260422T063041
CREATED:20241204T214004Z
LAST-MODIFIED:20260306T160516Z
UID:10001331-1798650000-1798653600@fpcjackson.org
SUMMARY:Midweek Dinner
DESCRIPTION:Adults $8\nChildren $4\nFamily Max $25\nCollege Free – Midweek Dinner is free for any college student involved in one of our Midweek programs. Any other college student can eat for $4.
URL:https://fpcjackson.org/event/midweek-dinner-2/2026-12-30/
LOCATION:Miller Hall\, 1390 North State Street\, Jackson\, MS\, 39202\, United States
CATEGORIES:Midweek
END:VEVENT
BEGIN:VEVENT
DTSTART;TZID=America/Chicago:20270106T170000
DTEND;TZID=America/Chicago:20270106T180000
DTSTAMP:20260422T063041
CREATED:20241204T214004Z
LAST-MODIFIED:20260306T160516Z
UID:10001332-1799254800-1799258400@fpcjackson.org
SUMMARY:Midweek Dinner
DESCRIPTION:Adults $8\nChildren $4\nFamily Max $25\nCollege Free – Midweek Dinner is free for any college student involved in one of our Midweek programs. Any other college student can eat for $4.
URL:https://fpcjackson.org/event/midweek-dinner-2/2027-01-06/
LOCATION:Miller Hall\, 1390 North State Street\, Jackson\, MS\, 39202\, United States
CATEGORIES:Midweek
END:VEVENT
BEGIN:VEVENT
DTSTART;TZID=America/Chicago:20270113T170000
DTEND;TZID=America/Chicago:20270113T180000
DTSTAMP:20260422T063041
CREATED:20241204T214004Z
LAST-MODIFIED:20260306T160516Z
UID:10001333-1799859600-1799863200@fpcjackson.org
SUMMARY:Midweek Dinner
DESCRIPTION:Adults $8\nChildren $4\nFamily Max $25\nCollege Free – Midweek Dinner is free for any college student involved in one of our Midweek programs. Any other college student can eat for $4.
URL:https://fpcjackson.org/event/midweek-dinner-2/2027-01-13/
LOCATION:Miller Hall\, 1390 North State Street\, Jackson\, MS\, 39202\, United States
CATEGORIES:Midweek
END:VEVENT
BEGIN:VEVENT
DTSTART;TZID=America/Chicago:20270120T170000
DTEND;TZID=America/Chicago:20270120T180000
DTSTAMP:20260422T063041
CREATED:20241204T214004Z
LAST-MODIFIED:20260306T160516Z
UID:10001334-1800464400-1800468000@fpcjackson.org
SUMMARY:Midweek Dinner
DESCRIPTION:Adults $8\nChildren $4\nFamily Max $25\nCollege Free – Midweek Dinner is free for any college student involved in one of our Midweek programs. Any other college student can eat for $4.
URL:https://fpcjackson.org/event/midweek-dinner-2/2027-01-20/
LOCATION:Miller Hall\, 1390 North State Street\, Jackson\, MS\, 39202\, United States
CATEGORIES:Midweek
END:VEVENT
BEGIN:VEVENT
DTSTART;TZID=America/Chicago:20270127T170000
DTEND;TZID=America/Chicago:20270127T180000
DTSTAMP:20260422T063041
CREATED:20241204T214004Z
LAST-MODIFIED:20260306T160516Z
UID:10001335-1801069200-1801072800@fpcjackson.org
SUMMARY:Midweek Dinner
DESCRIPTION:Adults $8\nChildren $4\nFamily Max $25\nCollege Free – Midweek Dinner is free for any college student involved in one of our Midweek programs. Any other college student can eat for $4.
URL:https://fpcjackson.org/event/midweek-dinner-2/2027-01-27/
LOCATION:Miller Hall\, 1390 North State Street\, Jackson\, MS\, 39202\, United States
CATEGORIES:Midweek
END:VEVENT
BEGIN:VEVENT
DTSTART;TZID=America/Chicago:20270203T170000
DTEND;TZID=America/Chicago:20270203T180000
DTSTAMP:20260422T063041
CREATED:20241204T214004Z
LAST-MODIFIED:20260306T160516Z
UID:10001336-1801674000-1801677600@fpcjackson.org
SUMMARY:Midweek Dinner
DESCRIPTION:Adults $8\nChildren $4\nFamily Max $25\nCollege Free – Midweek Dinner is free for any college student involved in one of our Midweek programs. Any other college student can eat for $4.
URL:https://fpcjackson.org/event/midweek-dinner-2/2027-02-03/
LOCATION:Miller Hall\, 1390 North State Street\, Jackson\, MS\, 39202\, United States
CATEGORIES:Midweek
END:VEVENT
BEGIN:VEVENT
DTSTART;TZID=America/Chicago:20270210T170000
DTEND;TZID=America/Chicago:20270210T180000
DTSTAMP:20260422T063041
CREATED:20241204T214004Z
LAST-MODIFIED:20260306T160516Z
UID:10001337-1802278800-1802282400@fpcjackson.org
SUMMARY:Midweek Dinner
DESCRIPTION:Adults $8\nChildren $4\nFamily Max $25\nCollege Free – Midweek Dinner is free for any college student involved in one of our Midweek programs. Any other college student can eat for $4.
URL:https://fpcjackson.org/event/midweek-dinner-2/2027-02-10/
LOCATION:Miller Hall\, 1390 North State Street\, Jackson\, MS\, 39202\, United States
CATEGORIES:Midweek
END:VEVENT
BEGIN:VEVENT
DTSTART;TZID=America/Chicago:20270217T170000
DTEND;TZID=America/Chicago:20270217T180000
DTSTAMP:20260422T063041
CREATED:20241204T214004Z
LAST-MODIFIED:20260306T160516Z
UID:10001338-1802883600-1802887200@fpcjackson.org
SUMMARY:Midweek Dinner
DESCRIPTION:Adults $8\nChildren $4\nFamily Max $25\nCollege Free – Midweek Dinner is free for any college student involved in one of our Midweek programs. Any other college student can eat for $4.
URL:https://fpcjackson.org/event/midweek-dinner-2/2027-02-17/
LOCATION:Miller Hall\, 1390 North State Street\, Jackson\, MS\, 39202\, United States
CATEGORIES:Midweek
END:VEVENT
BEGIN:VEVENT
DTSTART;TZID=America/Chicago:20270224T170000
DTEND;TZID=America/Chicago:20270224T180000
DTSTAMP:20260422T063041
CREATED:20241204T214004Z
LAST-MODIFIED:20260306T160516Z
UID:10001339-1803488400-1803492000@fpcjackson.org
SUMMARY:Midweek Dinner
DESCRIPTION:Adults $8\nChildren $4\nFamily Max $25\nCollege Free – Midweek Dinner is free for any college student involved in one of our Midweek programs. Any other college student can eat for $4.
URL:https://fpcjackson.org/event/midweek-dinner-2/2027-02-24/
LOCATION:Miller Hall\, 1390 North State Street\, Jackson\, MS\, 39202\, United States
CATEGORIES:Midweek
END:VEVENT
BEGIN:VEVENT
DTSTART;TZID=America/Chicago:20270303T170000
DTEND;TZID=America/Chicago:20270303T180000
DTSTAMP:20260422T063041
CREATED:20241204T214004Z
LAST-MODIFIED:20260306T160516Z
UID:10001340-1804093200-1804096800@fpcjackson.org
SUMMARY:Midweek Dinner
DESCRIPTION:Adults $8\nChildren $4\nFamily Max $25\nCollege Free – Midweek Dinner is free for any college student involved in one of our Midweek programs. Any other college student can eat for $4.
URL:https://fpcjackson.org/event/midweek-dinner-2/2027-03-03/
LOCATION:Miller Hall\, 1390 North State Street\, Jackson\, MS\, 39202\, United States
CATEGORIES:Midweek
END:VEVENT
BEGIN:VEVENT
DTSTART;TZID=America/Chicago:20270310T170000
DTEND;TZID=America/Chicago:20270310T180000
DTSTAMP:20260422T063041
CREATED:20241204T214004Z
LAST-MODIFIED:20260306T160516Z
UID:10001341-1804698000-1804701600@fpcjackson.org
SUMMARY:Midweek Dinner
DESCRIPTION:Adults $8\nChildren $4\nFamily Max $25\nCollege Free – Midweek Dinner is free for any college student involved in one of our Midweek programs. Any other college student can eat for $4.
URL:https://fpcjackson.org/event/midweek-dinner-2/2027-03-10/
LOCATION:Miller Hall\, 1390 North State Street\, Jackson\, MS\, 39202\, United States
CATEGORIES:Midweek
END:VEVENT
BEGIN:VEVENT
DTSTART;TZID=America/Chicago:20270317T170000
DTEND;TZID=America/Chicago:20270317T180000
DTSTAMP:20260422T063041
CREATED:20241204T214004Z
LAST-MODIFIED:20260306T160516Z
UID:10001342-1805302800-1805306400@fpcjackson.org
SUMMARY:Midweek Dinner
DESCRIPTION:Adults $8\nChildren $4\nFamily Max $25\nCollege Free – Midweek Dinner is free for any college student involved in one of our Midweek programs. Any other college student can eat for $4.
URL:https://fpcjackson.org/event/midweek-dinner-2/2027-03-17/
LOCATION:Miller Hall\, 1390 North State Street\, Jackson\, MS\, 39202\, United States
CATEGORIES:Midweek
END:VEVENT
BEGIN:VEVENT
DTSTART;TZID=America/Chicago:20270324T170000
DTEND;TZID=America/Chicago:20270324T180000
DTSTAMP:20260422T063041
CREATED:20241204T214004Z
LAST-MODIFIED:20260306T160516Z
UID:10001343-1805907600-1805911200@fpcjackson.org
SUMMARY:Midweek Dinner
DESCRIPTION:Adults $8\nChildren $4\nFamily Max $25\nCollege Free – Midweek Dinner is free for any college student involved in one of our Midweek programs. Any other college student can eat for $4.
URL:https://fpcjackson.org/event/midweek-dinner-2/2027-03-24/
LOCATION:Miller Hall\, 1390 North State Street\, Jackson\, MS\, 39202\, United States
CATEGORIES:Midweek
END:VEVENT
BEGIN:VEVENT
DTSTART;TZID=America/Chicago:20270331T170000
DTEND;TZID=America/Chicago:20270331T180000
DTSTAMP:20260422T063041
CREATED:20241204T214004Z
LAST-MODIFIED:20260306T160516Z
UID:10001344-1806512400-1806516000@fpcjackson.org
SUMMARY:Midweek Dinner
DESCRIPTION:Adults $8\nChildren $4\nFamily Max $25\nCollege Free – Midweek Dinner is free for any college student involved in one of our Midweek programs. Any other college student can eat for $4.
URL:https://fpcjackson.org/event/midweek-dinner-2/2027-03-31/
LOCATION:Miller Hall\, 1390 North State Street\, Jackson\, MS\, 39202\, United States
CATEGORIES:Midweek
END:VEVENT
END:VCALENDAR