BEGIN:VCALENDAR
VERSION:2.0
PRODID:-//First Presbyterian Church - ECPv6.15.20//NONSGML v1.0//EN
CALSCALE:GREGORIAN
METHOD:PUBLISH
X-WR-CALNAME:First Presbyterian Church
X-ORIGINAL-URL:https://fpcjackson.org
X-WR-CALDESC:Events for First Presbyterian Church
REFRESH-INTERVAL;VALUE=DURATION:PT1H
X-Robots-Tag:noindex
X-PUBLISHED-TTL:PT1H
BEGIN:VTIMEZONE
TZID:America/Chicago
BEGIN:DAYLIGHT
TZOFFSETFROM:-0600
TZOFFSETTO:-0500
TZNAME:CDT
DTSTART:20260308T080000
END:DAYLIGHT
BEGIN:STANDARD
TZOFFSETFROM:-0500
TZOFFSETTO:-0600
TZNAME:CST
DTSTART:20261101T070000
END:STANDARD
BEGIN:DAYLIGHT
TZOFFSETFROM:-0600
TZOFFSETTO:-0500
TZNAME:CDT
DTSTART:20270314T080000
END:DAYLIGHT
BEGIN:STANDARD
TZOFFSETFROM:-0500
TZOFFSETTO:-0600
TZNAME:CST
DTSTART:20271107T070000
END:STANDARD
BEGIN:DAYLIGHT
TZOFFSETFROM:-0600
TZOFFSETTO:-0500
TZNAME:CDT
DTSTART:20280312T080000
END:DAYLIGHT
BEGIN:STANDARD
TZOFFSETFROM:-0500
TZOFFSETTO:-0600
TZNAME:CST
DTSTART:20281105T070000
END:STANDARD
BEGIN:DAYLIGHT
TZOFFSETFROM:-0600
TZOFFSETTO:-0500
TZNAME:CDT
DTSTART:20290311T080000
END:DAYLIGHT
BEGIN:STANDARD
TZOFFSETFROM:-0500
TZOFFSETTO:-0600
TZNAME:CST
DTSTART:20291104T070000
END:STANDARD
END:VTIMEZONE
BEGIN:VEVENT
DTSTART;TZID=America/Chicago:20271107T094500
DTEND;TZID=America/Chicago:20271107T105000
DTSTAMP:20260425T181001
CREATED:20230607T195344Z
LAST-MODIFIED:20260306T155904Z
UID:10002977-1825580700-1825584600@fpcjackson.org
SUMMARY:Special Friends Sunday School
DESCRIPTION:
URL:https://fpcjackson.org/event/special-friends-sunday-school/2027-11-07/
LOCATION:M120 (Main Building)\, 1390 North State Street\, Jackson\, MS\, 39202\, United States
CATEGORIES:Children,Sunday School
END:VEVENT
BEGIN:VEVENT
DTSTART;TZID=America/Chicago:20271114T094500
DTEND;TZID=America/Chicago:20271114T105000
DTSTAMP:20260425T181001
CREATED:20230607T195344Z
LAST-MODIFIED:20260306T155904Z
UID:10002978-1826185500-1826189400@fpcjackson.org
SUMMARY:Special Friends Sunday School
DESCRIPTION:
URL:https://fpcjackson.org/event/special-friends-sunday-school/2027-11-14/
LOCATION:M120 (Main Building)\, 1390 North State Street\, Jackson\, MS\, 39202\, United States
CATEGORIES:Children,Sunday School
END:VEVENT
BEGIN:VEVENT
DTSTART;TZID=America/Chicago:20271121T094500
DTEND;TZID=America/Chicago:20271121T105000
DTSTAMP:20260425T181001
CREATED:20230607T195344Z
LAST-MODIFIED:20260306T155904Z
UID:10002979-1826790300-1826794200@fpcjackson.org
SUMMARY:Special Friends Sunday School
DESCRIPTION:
URL:https://fpcjackson.org/event/special-friends-sunday-school/2027-11-21/
LOCATION:M120 (Main Building)\, 1390 North State Street\, Jackson\, MS\, 39202\, United States
CATEGORIES:Children,Sunday School
END:VEVENT
BEGIN:VEVENT
DTSTART;TZID=America/Chicago:20271128T094500
DTEND;TZID=America/Chicago:20271128T105000
DTSTAMP:20260425T181001
CREATED:20230607T195344Z
LAST-MODIFIED:20260306T155904Z
UID:10002980-1827395100-1827399000@fpcjackson.org
SUMMARY:Special Friends Sunday School
DESCRIPTION:
URL:https://fpcjackson.org/event/special-friends-sunday-school/2027-11-28/
LOCATION:M120 (Main Building)\, 1390 North State Street\, Jackson\, MS\, 39202\, United States
CATEGORIES:Children,Sunday School
END:VEVENT
BEGIN:VEVENT
DTSTART;TZID=America/Chicago:20271205T094500
DTEND;TZID=America/Chicago:20271205T105000
DTSTAMP:20260425T181001
CREATED:20230607T195344Z
LAST-MODIFIED:20260306T155904Z
UID:10002981-1827999900-1828003800@fpcjackson.org
SUMMARY:Special Friends Sunday School
DESCRIPTION:
URL:https://fpcjackson.org/event/special-friends-sunday-school/2027-12-05/
LOCATION:M120 (Main Building)\, 1390 North State Street\, Jackson\, MS\, 39202\, United States
CATEGORIES:Children,Sunday School
END:VEVENT
BEGIN:VEVENT
DTSTART;TZID=America/Chicago:20271212T094500
DTEND;TZID=America/Chicago:20271212T105000
DTSTAMP:20260425T181001
CREATED:20230607T195344Z
LAST-MODIFIED:20260306T155904Z
UID:10002982-1828604700-1828608600@fpcjackson.org
SUMMARY:Special Friends Sunday School
DESCRIPTION:
URL:https://fpcjackson.org/event/special-friends-sunday-school/2027-12-12/
LOCATION:M120 (Main Building)\, 1390 North State Street\, Jackson\, MS\, 39202\, United States
CATEGORIES:Children,Sunday School
END:VEVENT
BEGIN:VEVENT
DTSTART;TZID=America/Chicago:20271219T094500
DTEND;TZID=America/Chicago:20271219T105000
DTSTAMP:20260425T181001
CREATED:20230607T195344Z
LAST-MODIFIED:20260306T155904Z
UID:10002983-1829209500-1829213400@fpcjackson.org
SUMMARY:Special Friends Sunday School
DESCRIPTION:
URL:https://fpcjackson.org/event/special-friends-sunday-school/2027-12-19/
LOCATION:M120 (Main Building)\, 1390 North State Street\, Jackson\, MS\, 39202\, United States
CATEGORIES:Children,Sunday School
END:VEVENT
BEGIN:VEVENT
DTSTART;TZID=America/Chicago:20271226T094500
DTEND;TZID=America/Chicago:20271226T105000
DTSTAMP:20260425T181001
CREATED:20230607T195344Z
LAST-MODIFIED:20260306T155904Z
UID:10002984-1829814300-1829818200@fpcjackson.org
SUMMARY:Special Friends Sunday School
DESCRIPTION:
URL:https://fpcjackson.org/event/special-friends-sunday-school/2027-12-26/
LOCATION:M120 (Main Building)\, 1390 North State Street\, Jackson\, MS\, 39202\, United States
CATEGORIES:Children,Sunday School
END:VEVENT
BEGIN:VEVENT
DTSTART;TZID=America/Chicago:20280102T094500
DTEND;TZID=America/Chicago:20280102T105000
DTSTAMP:20260425T181001
CREATED:20230607T195344Z
LAST-MODIFIED:20260306T155904Z
UID:10002985-1830419100-1830423000@fpcjackson.org
SUMMARY:Special Friends Sunday School
DESCRIPTION:
URL:https://fpcjackson.org/event/special-friends-sunday-school/2028-01-02/
LOCATION:M120 (Main Building)\, 1390 North State Street\, Jackson\, MS\, 39202\, United States
CATEGORIES:Children,Sunday School
END:VEVENT
BEGIN:VEVENT
DTSTART;TZID=America/Chicago:20280109T094500
DTEND;TZID=America/Chicago:20280109T105000
DTSTAMP:20260425T181001
CREATED:20230607T195344Z
LAST-MODIFIED:20260306T155904Z
UID:10002986-1831023900-1831027800@fpcjackson.org
SUMMARY:Special Friends Sunday School
DESCRIPTION:
URL:https://fpcjackson.org/event/special-friends-sunday-school/2028-01-09/
LOCATION:M120 (Main Building)\, 1390 North State Street\, Jackson\, MS\, 39202\, United States
CATEGORIES:Children,Sunday School
END:VEVENT
BEGIN:VEVENT
DTSTART;TZID=America/Chicago:20280116T094500
DTEND;TZID=America/Chicago:20280116T105000
DTSTAMP:20260425T181001
CREATED:20230607T195344Z
LAST-MODIFIED:20260306T155904Z
UID:10002987-1831628700-1831632600@fpcjackson.org
SUMMARY:Special Friends Sunday School
DESCRIPTION:
URL:https://fpcjackson.org/event/special-friends-sunday-school/2028-01-16/
LOCATION:M120 (Main Building)\, 1390 North State Street\, Jackson\, MS\, 39202\, United States
CATEGORIES:Children,Sunday School
END:VEVENT
BEGIN:VEVENT
DTSTART;TZID=America/Chicago:20280123T094500
DTEND;TZID=America/Chicago:20280123T105000
DTSTAMP:20260425T181001
CREATED:20230607T195344Z
LAST-MODIFIED:20260306T155904Z
UID:10002988-1832233500-1832237400@fpcjackson.org
SUMMARY:Special Friends Sunday School
DESCRIPTION:
URL:https://fpcjackson.org/event/special-friends-sunday-school/2028-01-23/
LOCATION:M120 (Main Building)\, 1390 North State Street\, Jackson\, MS\, 39202\, United States
CATEGORIES:Children,Sunday School
END:VEVENT
BEGIN:VEVENT
DTSTART;TZID=America/Chicago:20280130T094500
DTEND;TZID=America/Chicago:20280130T105000
DTSTAMP:20260425T181001
CREATED:20230607T195344Z
LAST-MODIFIED:20260306T155904Z
UID:10002989-1832838300-1832842200@fpcjackson.org
SUMMARY:Special Friends Sunday School
DESCRIPTION:
URL:https://fpcjackson.org/event/special-friends-sunday-school/2028-01-30/
LOCATION:M120 (Main Building)\, 1390 North State Street\, Jackson\, MS\, 39202\, United States
CATEGORIES:Children,Sunday School
END:VEVENT
BEGIN:VEVENT
DTSTART;TZID=America/Chicago:20280206T094500
DTEND;TZID=America/Chicago:20280206T105000
DTSTAMP:20260425T181001
CREATED:20230607T195344Z
LAST-MODIFIED:20260306T155904Z
UID:10002990-1833443100-1833447000@fpcjackson.org
SUMMARY:Special Friends Sunday School
DESCRIPTION:
URL:https://fpcjackson.org/event/special-friends-sunday-school/2028-02-06/
LOCATION:M120 (Main Building)\, 1390 North State Street\, Jackson\, MS\, 39202\, United States
CATEGORIES:Children,Sunday School
END:VEVENT
BEGIN:VEVENT
DTSTART;TZID=America/Chicago:20280213T094500
DTEND;TZID=America/Chicago:20280213T105000
DTSTAMP:20260425T181001
CREATED:20230607T195344Z
LAST-MODIFIED:20260306T155904Z
UID:10002991-1834047900-1834051800@fpcjackson.org
SUMMARY:Special Friends Sunday School
DESCRIPTION:
URL:https://fpcjackson.org/event/special-friends-sunday-school/2028-02-13/
LOCATION:M120 (Main Building)\, 1390 North State Street\, Jackson\, MS\, 39202\, United States
CATEGORIES:Children,Sunday School
END:VEVENT
BEGIN:VEVENT
DTSTART;TZID=America/Chicago:20280220T094500
DTEND;TZID=America/Chicago:20280220T105000
DTSTAMP:20260425T181001
CREATED:20230607T195344Z
LAST-MODIFIED:20260306T155904Z
UID:10002992-1834652700-1834656600@fpcjackson.org
SUMMARY:Special Friends Sunday School
DESCRIPTION:
URL:https://fpcjackson.org/event/special-friends-sunday-school/2028-02-20/
LOCATION:M120 (Main Building)\, 1390 North State Street\, Jackson\, MS\, 39202\, United States
CATEGORIES:Children,Sunday School
END:VEVENT
BEGIN:VEVENT
DTSTART;TZID=America/Chicago:20280227T094500
DTEND;TZID=America/Chicago:20280227T105000
DTSTAMP:20260425T181001
CREATED:20230607T195344Z
LAST-MODIFIED:20260306T155904Z
UID:10002993-1835257500-1835261400@fpcjackson.org
SUMMARY:Special Friends Sunday School
DESCRIPTION:
URL:https://fpcjackson.org/event/special-friends-sunday-school/2028-02-27/
LOCATION:M120 (Main Building)\, 1390 North State Street\, Jackson\, MS\, 39202\, United States
CATEGORIES:Children,Sunday School
END:VEVENT
BEGIN:VEVENT
DTSTART;TZID=America/Chicago:20280305T094500
DTEND;TZID=America/Chicago:20280305T105000
DTSTAMP:20260425T181001
CREATED:20230607T195344Z
LAST-MODIFIED:20260306T155904Z
UID:10002994-1835862300-1835866200@fpcjackson.org
SUMMARY:Special Friends Sunday School
DESCRIPTION:
URL:https://fpcjackson.org/event/special-friends-sunday-school/2028-03-05/
LOCATION:M120 (Main Building)\, 1390 North State Street\, Jackson\, MS\, 39202\, United States
CATEGORIES:Children,Sunday School
END:VEVENT
BEGIN:VEVENT
DTSTART;TZID=America/Chicago:20280312T094500
DTEND;TZID=America/Chicago:20280312T105000
DTSTAMP:20260425T181001
CREATED:20230607T195344Z
LAST-MODIFIED:20260306T155904Z
UID:10002995-1836467100-1836471000@fpcjackson.org
SUMMARY:Special Friends Sunday School
DESCRIPTION:
URL:https://fpcjackson.org/event/special-friends-sunday-school/2028-03-12/
LOCATION:M120 (Main Building)\, 1390 North State Street\, Jackson\, MS\, 39202\, United States
CATEGORIES:Children,Sunday School
END:VEVENT
BEGIN:VEVENT
DTSTART;TZID=America/Chicago:20280319T094500
DTEND;TZID=America/Chicago:20280319T105000
DTSTAMP:20260425T181001
CREATED:20230607T195344Z
LAST-MODIFIED:20260306T155904Z
UID:10002996-1837071900-1837075800@fpcjackson.org
SUMMARY:Special Friends Sunday School
DESCRIPTION:
URL:https://fpcjackson.org/event/special-friends-sunday-school/2028-03-19/
LOCATION:M120 (Main Building)\, 1390 North State Street\, Jackson\, MS\, 39202\, United States
CATEGORIES:Children,Sunday School
END:VEVENT
BEGIN:VEVENT
DTSTART;TZID=America/Chicago:20280326T094500
DTEND;TZID=America/Chicago:20280326T105000
DTSTAMP:20260425T181001
CREATED:20230607T195344Z
LAST-MODIFIED:20260306T155904Z
UID:10002997-1837676700-1837680600@fpcjackson.org
SUMMARY:Special Friends Sunday School
DESCRIPTION:
URL:https://fpcjackson.org/event/special-friends-sunday-school/2028-03-26/
LOCATION:M120 (Main Building)\, 1390 North State Street\, Jackson\, MS\, 39202\, United States
CATEGORIES:Children,Sunday School
END:VEVENT
BEGIN:VEVENT
DTSTART;TZID=America/Chicago:20280402T094500
DTEND;TZID=America/Chicago:20280402T105000
DTSTAMP:20260425T181001
CREATED:20230607T195344Z
LAST-MODIFIED:20260306T155904Z
UID:10002998-1838281500-1838285400@fpcjackson.org
SUMMARY:Special Friends Sunday School
DESCRIPTION:
URL:https://fpcjackson.org/event/special-friends-sunday-school/2028-04-02/
LOCATION:M120 (Main Building)\, 1390 North State Street\, Jackson\, MS\, 39202\, United States
CATEGORIES:Children,Sunday School
END:VEVENT
BEGIN:VEVENT
DTSTART;TZID=America/Chicago:20280409T094500
DTEND;TZID=America/Chicago:20280409T105000
DTSTAMP:20260425T181001
CREATED:20230607T195344Z
LAST-MODIFIED:20260306T155904Z
UID:10002999-1838886300-1838890200@fpcjackson.org
SUMMARY:Special Friends Sunday School
DESCRIPTION:
URL:https://fpcjackson.org/event/special-friends-sunday-school/2028-04-09/
LOCATION:M120 (Main Building)\, 1390 North State Street\, Jackson\, MS\, 39202\, United States
CATEGORIES:Children,Sunday School
END:VEVENT
BEGIN:VEVENT
DTSTART;TZID=America/Chicago:20280416T094500
DTEND;TZID=America/Chicago:20280416T105000
DTSTAMP:20260425T181001
CREATED:20230607T195344Z
LAST-MODIFIED:20260306T155904Z
UID:10003000-1839491100-1839495000@fpcjackson.org
SUMMARY:Special Friends Sunday School
DESCRIPTION:
URL:https://fpcjackson.org/event/special-friends-sunday-school/2028-04-16/
LOCATION:M120 (Main Building)\, 1390 North State Street\, Jackson\, MS\, 39202\, United States
CATEGORIES:Children,Sunday School
END:VEVENT
BEGIN:VEVENT
DTSTART;TZID=America/Chicago:20280423T094500
DTEND;TZID=America/Chicago:20280423T105000
DTSTAMP:20260425T181001
CREATED:20230607T195344Z
LAST-MODIFIED:20260306T155904Z
UID:10003001-1840095900-1840099800@fpcjackson.org
SUMMARY:Special Friends Sunday School
DESCRIPTION:
URL:https://fpcjackson.org/event/special-friends-sunday-school/2028-04-23/
LOCATION:M120 (Main Building)\, 1390 North State Street\, Jackson\, MS\, 39202\, United States
CATEGORIES:Children,Sunday School
END:VEVENT
BEGIN:VEVENT
DTSTART;TZID=America/Chicago:20280430T094500
DTEND;TZID=America/Chicago:20280430T105000
DTSTAMP:20260425T181001
CREATED:20230607T195344Z
LAST-MODIFIED:20260306T155904Z
UID:10003002-1840700700-1840704600@fpcjackson.org
SUMMARY:Special Friends Sunday School
DESCRIPTION:
URL:https://fpcjackson.org/event/special-friends-sunday-school/2028-04-30/
LOCATION:M120 (Main Building)\, 1390 North State Street\, Jackson\, MS\, 39202\, United States
CATEGORIES:Children,Sunday School
END:VEVENT
BEGIN:VEVENT
DTSTART;TZID=America/Chicago:20280507T094500
DTEND;TZID=America/Chicago:20280507T105000
DTSTAMP:20260425T181001
CREATED:20230607T195344Z
LAST-MODIFIED:20260306T155904Z
UID:10003003-1841305500-1841309400@fpcjackson.org
SUMMARY:Special Friends Sunday School
DESCRIPTION:
URL:https://fpcjackson.org/event/special-friends-sunday-school/2028-05-07/
LOCATION:M120 (Main Building)\, 1390 North State Street\, Jackson\, MS\, 39202\, United States
CATEGORIES:Children,Sunday School
END:VEVENT
BEGIN:VEVENT
DTSTART;TZID=America/Chicago:20280514T094500
DTEND;TZID=America/Chicago:20280514T105000
DTSTAMP:20260425T181001
CREATED:20230607T195344Z
LAST-MODIFIED:20260306T155904Z
UID:10003004-1841910300-1841914200@fpcjackson.org
SUMMARY:Special Friends Sunday School
DESCRIPTION:
URL:https://fpcjackson.org/event/special-friends-sunday-school/2028-05-14/
LOCATION:M120 (Main Building)\, 1390 North State Street\, Jackson\, MS\, 39202\, United States
CATEGORIES:Children,Sunday School
END:VEVENT
BEGIN:VEVENT
DTSTART;TZID=America/Chicago:20280521T094500
DTEND;TZID=America/Chicago:20280521T105000
DTSTAMP:20260425T181001
CREATED:20230607T195344Z
LAST-MODIFIED:20260306T155904Z
UID:10003005-1842515100-1842519000@fpcjackson.org
SUMMARY:Special Friends Sunday School
DESCRIPTION:
URL:https://fpcjackson.org/event/special-friends-sunday-school/2028-05-21/
LOCATION:M120 (Main Building)\, 1390 North State Street\, Jackson\, MS\, 39202\, United States
CATEGORIES:Children,Sunday School
END:VEVENT
BEGIN:VEVENT
DTSTART;TZID=America/Chicago:20280528T094500
DTEND;TZID=America/Chicago:20280528T105000
DTSTAMP:20260425T181001
CREATED:20230607T195344Z
LAST-MODIFIED:20260306T155904Z
UID:10003006-1843119900-1843123800@fpcjackson.org
SUMMARY:Special Friends Sunday School
DESCRIPTION:
URL:https://fpcjackson.org/event/special-friends-sunday-school/2028-05-28/
LOCATION:M120 (Main Building)\, 1390 North State Street\, Jackson\, MS\, 39202\, United States
CATEGORIES:Children,Sunday School
END:VEVENT
END:VCALENDAR