BEGIN:VCALENDAR
VERSION:2.0
PRODID:-//First Presbyterian Church - ECPv6.15.20//NONSGML v1.0//EN
CALSCALE:GREGORIAN
METHOD:PUBLISH
X-WR-CALNAME:First Presbyterian Church
X-ORIGINAL-URL:https://fpcjackson.org
X-WR-CALDESC:Events for First Presbyterian Church
REFRESH-INTERVAL;VALUE=DURATION:PT1H
X-Robots-Tag:noindex
X-PUBLISHED-TTL:PT1H
BEGIN:VTIMEZONE
TZID:America/Chicago
BEGIN:DAYLIGHT
TZOFFSETFROM:-0600
TZOFFSETTO:-0500
TZNAME:CDT
DTSTART:20260308T080000
END:DAYLIGHT
BEGIN:STANDARD
TZOFFSETFROM:-0500
TZOFFSETTO:-0600
TZNAME:CST
DTSTART:20261101T070000
END:STANDARD
BEGIN:DAYLIGHT
TZOFFSETFROM:-0600
TZOFFSETTO:-0500
TZNAME:CDT
DTSTART:20270314T080000
END:DAYLIGHT
BEGIN:STANDARD
TZOFFSETFROM:-0500
TZOFFSETTO:-0600
TZNAME:CST
DTSTART:20271107T070000
END:STANDARD
BEGIN:DAYLIGHT
TZOFFSETFROM:-0600
TZOFFSETTO:-0500
TZNAME:CDT
DTSTART:20280312T080000
END:DAYLIGHT
BEGIN:STANDARD
TZOFFSETFROM:-0500
TZOFFSETTO:-0600
TZNAME:CST
DTSTART:20281105T070000
END:STANDARD
BEGIN:DAYLIGHT
TZOFFSETFROM:-0600
TZOFFSETTO:-0500
TZNAME:CDT
DTSTART:20290311T080000
END:DAYLIGHT
BEGIN:STANDARD
TZOFFSETFROM:-0500
TZOFFSETTO:-0600
TZNAME:CST
DTSTART:20291104T070000
END:STANDARD
END:VTIMEZONE
BEGIN:VEVENT
DTSTART;TZID=America/Chicago:20270620T094500
DTEND;TZID=America/Chicago:20270620T105000
DTSTAMP:20260425T114942
CREATED:20230607T195344Z
LAST-MODIFIED:20260306T155904Z
UID:10002957-1813484700-1813488600@fpcjackson.org
SUMMARY:Special Friends Sunday School
DESCRIPTION:
URL:https://fpcjackson.org/event/special-friends-sunday-school/2027-06-20/
LOCATION:M120 (Main Building)\, 1390 North State Street\, Jackson\, MS\, 39202\, United States
CATEGORIES:Children,Sunday School
END:VEVENT
BEGIN:VEVENT
DTSTART;TZID=America/Chicago:20270627T094500
DTEND;TZID=America/Chicago:20270627T105000
DTSTAMP:20260425T114942
CREATED:20230607T195344Z
LAST-MODIFIED:20260306T155904Z
UID:10002958-1814089500-1814093400@fpcjackson.org
SUMMARY:Special Friends Sunday School
DESCRIPTION:
URL:https://fpcjackson.org/event/special-friends-sunday-school/2027-06-27/
LOCATION:M120 (Main Building)\, 1390 North State Street\, Jackson\, MS\, 39202\, United States
CATEGORIES:Children,Sunday School
END:VEVENT
BEGIN:VEVENT
DTSTART;TZID=America/Chicago:20270704T094500
DTEND;TZID=America/Chicago:20270704T105000
DTSTAMP:20260425T114942
CREATED:20230607T195344Z
LAST-MODIFIED:20260306T155904Z
UID:10002959-1814694300-1814698200@fpcjackson.org
SUMMARY:Special Friends Sunday School
DESCRIPTION:
URL:https://fpcjackson.org/event/special-friends-sunday-school/2027-07-04/
LOCATION:M120 (Main Building)\, 1390 North State Street\, Jackson\, MS\, 39202\, United States
CATEGORIES:Children,Sunday School
END:VEVENT
BEGIN:VEVENT
DTSTART;TZID=America/Chicago:20270711T094500
DTEND;TZID=America/Chicago:20270711T105000
DTSTAMP:20260425T114942
CREATED:20230607T195344Z
LAST-MODIFIED:20260306T155904Z
UID:10002960-1815299100-1815303000@fpcjackson.org
SUMMARY:Special Friends Sunday School
DESCRIPTION:
URL:https://fpcjackson.org/event/special-friends-sunday-school/2027-07-11/
LOCATION:M120 (Main Building)\, 1390 North State Street\, Jackson\, MS\, 39202\, United States
CATEGORIES:Children,Sunday School
END:VEVENT
BEGIN:VEVENT
DTSTART;TZID=America/Chicago:20270718T094500
DTEND;TZID=America/Chicago:20270718T105000
DTSTAMP:20260425T114942
CREATED:20230607T195344Z
LAST-MODIFIED:20260306T155904Z
UID:10002961-1815903900-1815907800@fpcjackson.org
SUMMARY:Special Friends Sunday School
DESCRIPTION:
URL:https://fpcjackson.org/event/special-friends-sunday-school/2027-07-18/
LOCATION:M120 (Main Building)\, 1390 North State Street\, Jackson\, MS\, 39202\, United States
CATEGORIES:Children,Sunday School
END:VEVENT
BEGIN:VEVENT
DTSTART;TZID=America/Chicago:20270725T094500
DTEND;TZID=America/Chicago:20270725T105000
DTSTAMP:20260425T114942
CREATED:20230607T195344Z
LAST-MODIFIED:20260306T155904Z
UID:10002962-1816508700-1816512600@fpcjackson.org
SUMMARY:Special Friends Sunday School
DESCRIPTION:
URL:https://fpcjackson.org/event/special-friends-sunday-school/2027-07-25/
LOCATION:M120 (Main Building)\, 1390 North State Street\, Jackson\, MS\, 39202\, United States
CATEGORIES:Children,Sunday School
END:VEVENT
BEGIN:VEVENT
DTSTART;TZID=America/Chicago:20270801T094500
DTEND;TZID=America/Chicago:20270801T105000
DTSTAMP:20260425T114942
CREATED:20230607T195344Z
LAST-MODIFIED:20260306T155904Z
UID:10002963-1817113500-1817117400@fpcjackson.org
SUMMARY:Special Friends Sunday School
DESCRIPTION:
URL:https://fpcjackson.org/event/special-friends-sunday-school/2027-08-01/
LOCATION:M120 (Main Building)\, 1390 North State Street\, Jackson\, MS\, 39202\, United States
CATEGORIES:Children,Sunday School
END:VEVENT
BEGIN:VEVENT
DTSTART;TZID=America/Chicago:20270808T094500
DTEND;TZID=America/Chicago:20270808T105000
DTSTAMP:20260425T114942
CREATED:20230607T195344Z
LAST-MODIFIED:20260306T155904Z
UID:10002964-1817718300-1817722200@fpcjackson.org
SUMMARY:Special Friends Sunday School
DESCRIPTION:
URL:https://fpcjackson.org/event/special-friends-sunday-school/2027-08-08/
LOCATION:M120 (Main Building)\, 1390 North State Street\, Jackson\, MS\, 39202\, United States
CATEGORIES:Children,Sunday School
END:VEVENT
BEGIN:VEVENT
DTSTART;TZID=America/Chicago:20270815T094500
DTEND;TZID=America/Chicago:20270815T105000
DTSTAMP:20260425T114942
CREATED:20230607T195344Z
LAST-MODIFIED:20260306T155904Z
UID:10002965-1818323100-1818327000@fpcjackson.org
SUMMARY:Special Friends Sunday School
DESCRIPTION:
URL:https://fpcjackson.org/event/special-friends-sunday-school/2027-08-15/
LOCATION:M120 (Main Building)\, 1390 North State Street\, Jackson\, MS\, 39202\, United States
CATEGORIES:Children,Sunday School
END:VEVENT
BEGIN:VEVENT
DTSTART;TZID=America/Chicago:20270822T094500
DTEND;TZID=America/Chicago:20270822T105000
DTSTAMP:20260425T114942
CREATED:20230607T195344Z
LAST-MODIFIED:20260306T155904Z
UID:10002966-1818927900-1818931800@fpcjackson.org
SUMMARY:Special Friends Sunday School
DESCRIPTION:
URL:https://fpcjackson.org/event/special-friends-sunday-school/2027-08-22/
LOCATION:M120 (Main Building)\, 1390 North State Street\, Jackson\, MS\, 39202\, United States
CATEGORIES:Children,Sunday School
END:VEVENT
BEGIN:VEVENT
DTSTART;TZID=America/Chicago:20270829T094500
DTEND;TZID=America/Chicago:20270829T105000
DTSTAMP:20260425T114942
CREATED:20230607T195344Z
LAST-MODIFIED:20260306T155904Z
UID:10002967-1819532700-1819536600@fpcjackson.org
SUMMARY:Special Friends Sunday School
DESCRIPTION:
URL:https://fpcjackson.org/event/special-friends-sunday-school/2027-08-29/
LOCATION:M120 (Main Building)\, 1390 North State Street\, Jackson\, MS\, 39202\, United States
CATEGORIES:Children,Sunday School
END:VEVENT
BEGIN:VEVENT
DTSTART;TZID=America/Chicago:20270905T094500
DTEND;TZID=America/Chicago:20270905T105000
DTSTAMP:20260425T114942
CREATED:20230607T195344Z
LAST-MODIFIED:20260306T155904Z
UID:10002968-1820137500-1820141400@fpcjackson.org
SUMMARY:Special Friends Sunday School
DESCRIPTION:
URL:https://fpcjackson.org/event/special-friends-sunday-school/2027-09-05/
LOCATION:M120 (Main Building)\, 1390 North State Street\, Jackson\, MS\, 39202\, United States
CATEGORIES:Children,Sunday School
END:VEVENT
BEGIN:VEVENT
DTSTART;TZID=America/Chicago:20270912T094500
DTEND;TZID=America/Chicago:20270912T105000
DTSTAMP:20260425T114942
CREATED:20230607T195344Z
LAST-MODIFIED:20260306T155904Z
UID:10002969-1820742300-1820746200@fpcjackson.org
SUMMARY:Special Friends Sunday School
DESCRIPTION:
URL:https://fpcjackson.org/event/special-friends-sunday-school/2027-09-12/
LOCATION:M120 (Main Building)\, 1390 North State Street\, Jackson\, MS\, 39202\, United States
CATEGORIES:Children,Sunday School
END:VEVENT
BEGIN:VEVENT
DTSTART;TZID=America/Chicago:20270919T094500
DTEND;TZID=America/Chicago:20270919T105000
DTSTAMP:20260425T114942
CREATED:20230607T195344Z
LAST-MODIFIED:20260306T155904Z
UID:10002970-1821347100-1821351000@fpcjackson.org
SUMMARY:Special Friends Sunday School
DESCRIPTION:
URL:https://fpcjackson.org/event/special-friends-sunday-school/2027-09-19/
LOCATION:M120 (Main Building)\, 1390 North State Street\, Jackson\, MS\, 39202\, United States
CATEGORIES:Children,Sunday School
END:VEVENT
BEGIN:VEVENT
DTSTART;TZID=America/Chicago:20270926T094500
DTEND;TZID=America/Chicago:20270926T105000
DTSTAMP:20260425T114942
CREATED:20230607T195344Z
LAST-MODIFIED:20260306T155904Z
UID:10002971-1821951900-1821955800@fpcjackson.org
SUMMARY:Special Friends Sunday School
DESCRIPTION:
URL:https://fpcjackson.org/event/special-friends-sunday-school/2027-09-26/
LOCATION:M120 (Main Building)\, 1390 North State Street\, Jackson\, MS\, 39202\, United States
CATEGORIES:Children,Sunday School
END:VEVENT
BEGIN:VEVENT
DTSTART;TZID=America/Chicago:20271003T094500
DTEND;TZID=America/Chicago:20271003T105000
DTSTAMP:20260425T114942
CREATED:20230607T195344Z
LAST-MODIFIED:20260306T155904Z
UID:10002972-1822556700-1822560600@fpcjackson.org
SUMMARY:Special Friends Sunday School
DESCRIPTION:
URL:https://fpcjackson.org/event/special-friends-sunday-school/2027-10-03/
LOCATION:M120 (Main Building)\, 1390 North State Street\, Jackson\, MS\, 39202\, United States
CATEGORIES:Children,Sunday School
END:VEVENT
BEGIN:VEVENT
DTSTART;TZID=America/Chicago:20271010T094500
DTEND;TZID=America/Chicago:20271010T105000
DTSTAMP:20260425T114942
CREATED:20230607T195344Z
LAST-MODIFIED:20260306T155904Z
UID:10002973-1823161500-1823165400@fpcjackson.org
SUMMARY:Special Friends Sunday School
DESCRIPTION:
URL:https://fpcjackson.org/event/special-friends-sunday-school/2027-10-10/
LOCATION:M120 (Main Building)\, 1390 North State Street\, Jackson\, MS\, 39202\, United States
CATEGORIES:Children,Sunday School
END:VEVENT
BEGIN:VEVENT
DTSTART;TZID=America/Chicago:20271017T094500
DTEND;TZID=America/Chicago:20271017T105000
DTSTAMP:20260425T114942
CREATED:20230607T195344Z
LAST-MODIFIED:20260306T155904Z
UID:10002974-1823766300-1823770200@fpcjackson.org
SUMMARY:Special Friends Sunday School
DESCRIPTION:
URL:https://fpcjackson.org/event/special-friends-sunday-school/2027-10-17/
LOCATION:M120 (Main Building)\, 1390 North State Street\, Jackson\, MS\, 39202\, United States
CATEGORIES:Children,Sunday School
END:VEVENT
BEGIN:VEVENT
DTSTART;TZID=America/Chicago:20271024T094500
DTEND;TZID=America/Chicago:20271024T105000
DTSTAMP:20260425T114942
CREATED:20230607T195344Z
LAST-MODIFIED:20260306T155904Z
UID:10002975-1824371100-1824375000@fpcjackson.org
SUMMARY:Special Friends Sunday School
DESCRIPTION:
URL:https://fpcjackson.org/event/special-friends-sunday-school/2027-10-24/
LOCATION:M120 (Main Building)\, 1390 North State Street\, Jackson\, MS\, 39202\, United States
CATEGORIES:Children,Sunday School
END:VEVENT
BEGIN:VEVENT
DTSTART;TZID=America/Chicago:20271031T094500
DTEND;TZID=America/Chicago:20271031T105000
DTSTAMP:20260425T114942
CREATED:20230607T195344Z
LAST-MODIFIED:20260306T155904Z
UID:10002976-1824975900-1824979800@fpcjackson.org
SUMMARY:Special Friends Sunday School
DESCRIPTION:
URL:https://fpcjackson.org/event/special-friends-sunday-school/2027-10-31/
LOCATION:M120 (Main Building)\, 1390 North State Street\, Jackson\, MS\, 39202\, United States
CATEGORIES:Children,Sunday School
END:VEVENT
BEGIN:VEVENT
DTSTART;TZID=America/Chicago:20271107T094500
DTEND;TZID=America/Chicago:20271107T105000
DTSTAMP:20260425T114942
CREATED:20230607T195344Z
LAST-MODIFIED:20260306T155904Z
UID:10002977-1825580700-1825584600@fpcjackson.org
SUMMARY:Special Friends Sunday School
DESCRIPTION:
URL:https://fpcjackson.org/event/special-friends-sunday-school/2027-11-07/
LOCATION:M120 (Main Building)\, 1390 North State Street\, Jackson\, MS\, 39202\, United States
CATEGORIES:Children,Sunday School
END:VEVENT
BEGIN:VEVENT
DTSTART;TZID=America/Chicago:20271114T094500
DTEND;TZID=America/Chicago:20271114T105000
DTSTAMP:20260425T114942
CREATED:20230607T195344Z
LAST-MODIFIED:20260306T155904Z
UID:10002978-1826185500-1826189400@fpcjackson.org
SUMMARY:Special Friends Sunday School
DESCRIPTION:
URL:https://fpcjackson.org/event/special-friends-sunday-school/2027-11-14/
LOCATION:M120 (Main Building)\, 1390 North State Street\, Jackson\, MS\, 39202\, United States
CATEGORIES:Children,Sunday School
END:VEVENT
BEGIN:VEVENT
DTSTART;TZID=America/Chicago:20271121T094500
DTEND;TZID=America/Chicago:20271121T105000
DTSTAMP:20260425T114942
CREATED:20230607T195344Z
LAST-MODIFIED:20260306T155904Z
UID:10002979-1826790300-1826794200@fpcjackson.org
SUMMARY:Special Friends Sunday School
DESCRIPTION:
URL:https://fpcjackson.org/event/special-friends-sunday-school/2027-11-21/
LOCATION:M120 (Main Building)\, 1390 North State Street\, Jackson\, MS\, 39202\, United States
CATEGORIES:Children,Sunday School
END:VEVENT
BEGIN:VEVENT
DTSTART;TZID=America/Chicago:20271128T094500
DTEND;TZID=America/Chicago:20271128T105000
DTSTAMP:20260425T114942
CREATED:20230607T195344Z
LAST-MODIFIED:20260306T155904Z
UID:10002980-1827395100-1827399000@fpcjackson.org
SUMMARY:Special Friends Sunday School
DESCRIPTION:
URL:https://fpcjackson.org/event/special-friends-sunday-school/2027-11-28/
LOCATION:M120 (Main Building)\, 1390 North State Street\, Jackson\, MS\, 39202\, United States
CATEGORIES:Children,Sunday School
END:VEVENT
BEGIN:VEVENT
DTSTART;TZID=America/Chicago:20271205T094500
DTEND;TZID=America/Chicago:20271205T105000
DTSTAMP:20260425T114942
CREATED:20230607T195344Z
LAST-MODIFIED:20260306T155904Z
UID:10002981-1827999900-1828003800@fpcjackson.org
SUMMARY:Special Friends Sunday School
DESCRIPTION:
URL:https://fpcjackson.org/event/special-friends-sunday-school/2027-12-05/
LOCATION:M120 (Main Building)\, 1390 North State Street\, Jackson\, MS\, 39202\, United States
CATEGORIES:Children,Sunday School
END:VEVENT
BEGIN:VEVENT
DTSTART;TZID=America/Chicago:20271212T094500
DTEND;TZID=America/Chicago:20271212T105000
DTSTAMP:20260425T114942
CREATED:20230607T195344Z
LAST-MODIFIED:20260306T155904Z
UID:10002982-1828604700-1828608600@fpcjackson.org
SUMMARY:Special Friends Sunday School
DESCRIPTION:
URL:https://fpcjackson.org/event/special-friends-sunday-school/2027-12-12/
LOCATION:M120 (Main Building)\, 1390 North State Street\, Jackson\, MS\, 39202\, United States
CATEGORIES:Children,Sunday School
END:VEVENT
BEGIN:VEVENT
DTSTART;TZID=America/Chicago:20271219T094500
DTEND;TZID=America/Chicago:20271219T105000
DTSTAMP:20260425T114942
CREATED:20230607T195344Z
LAST-MODIFIED:20260306T155904Z
UID:10002983-1829209500-1829213400@fpcjackson.org
SUMMARY:Special Friends Sunday School
DESCRIPTION:
URL:https://fpcjackson.org/event/special-friends-sunday-school/2027-12-19/
LOCATION:M120 (Main Building)\, 1390 North State Street\, Jackson\, MS\, 39202\, United States
CATEGORIES:Children,Sunday School
END:VEVENT
BEGIN:VEVENT
DTSTART;TZID=America/Chicago:20271226T094500
DTEND;TZID=America/Chicago:20271226T105000
DTSTAMP:20260425T114942
CREATED:20230607T195344Z
LAST-MODIFIED:20260306T155904Z
UID:10002984-1829814300-1829818200@fpcjackson.org
SUMMARY:Special Friends Sunday School
DESCRIPTION:
URL:https://fpcjackson.org/event/special-friends-sunday-school/2027-12-26/
LOCATION:M120 (Main Building)\, 1390 North State Street\, Jackson\, MS\, 39202\, United States
CATEGORIES:Children,Sunday School
END:VEVENT
BEGIN:VEVENT
DTSTART;TZID=America/Chicago:20280102T094500
DTEND;TZID=America/Chicago:20280102T105000
DTSTAMP:20260425T114942
CREATED:20230607T195344Z
LAST-MODIFIED:20260306T155904Z
UID:10002985-1830419100-1830423000@fpcjackson.org
SUMMARY:Special Friends Sunday School
DESCRIPTION:
URL:https://fpcjackson.org/event/special-friends-sunday-school/2028-01-02/
LOCATION:M120 (Main Building)\, 1390 North State Street\, Jackson\, MS\, 39202\, United States
CATEGORIES:Children,Sunday School
END:VEVENT
BEGIN:VEVENT
DTSTART;TZID=America/Chicago:20280109T094500
DTEND;TZID=America/Chicago:20280109T105000
DTSTAMP:20260425T114942
CREATED:20230607T195344Z
LAST-MODIFIED:20260306T155904Z
UID:10002986-1831023900-1831027800@fpcjackson.org
SUMMARY:Special Friends Sunday School
DESCRIPTION:
URL:https://fpcjackson.org/event/special-friends-sunday-school/2028-01-09/
LOCATION:M120 (Main Building)\, 1390 North State Street\, Jackson\, MS\, 39202\, United States
CATEGORIES:Children,Sunday School
END:VEVENT
END:VCALENDAR