BEGIN:VCALENDAR
VERSION:2.0
PRODID:-//First Presbyterian Church - ECPv6.15.20//NONSGML v1.0//EN
CALSCALE:GREGORIAN
METHOD:PUBLISH
X-WR-CALNAME:First Presbyterian Church
X-ORIGINAL-URL:https://fpcjackson.org
X-WR-CALDESC:Events for First Presbyterian Church
REFRESH-INTERVAL;VALUE=DURATION:PT1H
X-Robots-Tag:noindex
X-PUBLISHED-TTL:PT1H
BEGIN:VTIMEZONE
TZID:America/Chicago
BEGIN:DAYLIGHT
TZOFFSETFROM:-0600
TZOFFSETTO:-0500
TZNAME:CDT
DTSTART:20250309T080000
END:DAYLIGHT
BEGIN:STANDARD
TZOFFSETFROM:-0500
TZOFFSETTO:-0600
TZNAME:CST
DTSTART:20251102T070000
END:STANDARD
BEGIN:DAYLIGHT
TZOFFSETFROM:-0600
TZOFFSETTO:-0500
TZNAME:CDT
DTSTART:20260308T080000
END:DAYLIGHT
BEGIN:STANDARD
TZOFFSETFROM:-0500
TZOFFSETTO:-0600
TZNAME:CST
DTSTART:20261101T070000
END:STANDARD
BEGIN:DAYLIGHT
TZOFFSETFROM:-0600
TZOFFSETTO:-0500
TZNAME:CDT
DTSTART:20270314T080000
END:DAYLIGHT
BEGIN:STANDARD
TZOFFSETFROM:-0500
TZOFFSETTO:-0600
TZNAME:CST
DTSTART:20271107T070000
END:STANDARD
END:VTIMEZONE
BEGIN:VEVENT
DTSTART;TZID=America/Chicago:20260726T180000
DTEND;TZID=America/Chicago:20260726T190000
DTSTAMP:20260422T042707
CREATED:20230608T165824Z
LAST-MODIFIED:20260417T164622Z
UID:10003565-1785088800-1785092400@fpcjackson.org
SUMMARY:Catechism Crew
DESCRIPTION:Sunday Night Classes for Kids \nFirst through Third grades \nDismissed from the Evening Worship Service
URL:https://fpcjackson.org/event/catechism-crew/2026-07-26/
LOCATION:FPC Jackson Campus\, 1390 North State Street\, Jackson\, MS\, 39202\, United States
CATEGORIES:Children
ATTACH;FMTTYPE=image/png:https://fpcjackson.org/wp-content/uploads/2023/06/Catechism-Crew-Logo.png
END:VEVENT
BEGIN:VEVENT
DTSTART;TZID=America/Chicago:20260726T180000
DTEND;TZID=America/Chicago:20260726T190000
DTSTAMP:20260422T042707
CREATED:20230608T170051Z
LAST-MODIFIED:20260417T164712Z
UID:10003828-1785088800-1785092400@fpcjackson.org
SUMMARY:Covenant Kids
DESCRIPTION:Sunday Night Classes for Kids \nAge 4 and 5 \nDismissed from the Evening Worship Service
URL:https://fpcjackson.org/event/covenant-kids/2026-07-26/
LOCATION:FPC Jackson Campus\, 1390 North State Street\, Jackson\, MS\, 39202\, United States
CATEGORIES:Children
ATTACH;FMTTYPE=image/png:https://fpcjackson.org/wp-content/uploads/2023/06/Covenant-Kids-Logo.png
END:VEVENT
BEGIN:VEVENT
DTSTART;TZID=America/Chicago:20260728T093000
DTEND;TZID=America/Chicago:20260728T113000
DTSTAMP:20260422T042707
CREATED:20240503T160655Z
LAST-MODIFIED:20260306T160242Z
UID:10006961-1785231000-1785238200@fpcjackson.org
SUMMARY:Sew & Sow
DESCRIPTION:Like to sew or want to learn? “Sew and Sow” meets on Tuesday mornings from 9:30-11 in Westminster Hall 302 at the church for fun\, sewing and service through the use of our God-granted sewing skills. We are open to all ladies who enjoy sewing or needlework. Recent and current projects include medical masks during Covid-19\, cradle roll blankets for our newborns\, Christmas stockings for the NICU units at Baptist Hospital \, wheel chair bags for Methodist Rehabilitation and pillow cases for Ruth’s Refuge”. A sewing camp is offered in the summer months on even years. Some of our Tuesdays are spent on personal projects or those projects you may need help with. Special talents are shared with different focuses for each year. A nursery is provided. \nContact:\nSharon Gatlin
URL:https://fpcjackson.org/event/sew-sow/2026-07-28/
LOCATION:FPC Jackson Campus\, 1390 North State Street\, Jackson\, MS\, 39202\, United States
CATEGORIES:Women
ATTACH;FMTTYPE=image/png:https://fpcjackson.org/wp-content/uploads/2024/05/Sew-and-Sow.png
END:VEVENT
BEGIN:VEVENT
DTSTART;TZID=America/Chicago:20260802T094500
DTEND;TZID=America/Chicago:20260802T103000
DTSTAMP:20260422T042707
CREATED:20220916T133244Z
LAST-MODIFIED:20260306T155654Z
UID:10001032-1785663900-1785666600@fpcjackson.org
SUMMARY:College Sunday School
DESCRIPTION:
URL:https://fpcjackson.org/event/college-sunday-school/2026-08-02/
LOCATION:FPC Jackson Campus\, 1390 North State Street\, Jackson\, MS\, 39202\, United States
CATEGORIES:College
END:VEVENT
BEGIN:VEVENT
DTSTART;TZID=America/Chicago:20260802T163000
DTEND;TZID=America/Chicago:20260802T171500
DTSTAMP:20260422T042707
CREATED:20250909T190718Z
LAST-MODIFIED:20260417T164553Z
UID:10018441-1785688200-1785690900@fpcjackson.org
SUMMARY:Student Choir
DESCRIPTION:Students in grades six-twelve are invited to join us for Student Choir! We rehearse Sunday afternoons 4:30-5:15 with supper to follow. Students will develop and practice basic musical skills\, lead worship in one Sunday night service a month\, and enjoy meaningful fellowship with other student choir members\, mentors\, and staff. For questions\, email Levi Henkel at LeviH@fpcjackson.org.
URL:https://fpcjackson.org/event/student-choir-2/2026-08-02/
LOCATION:FPC Jackson Campus\, 1390 North State Street\, Jackson\, MS\, 39202\, United States
CATEGORIES:Youth
ATTACH;FMTTYPE=image/png:https://fpcjackson.org/wp-content/uploads/2025/09/Student-Choir-2025.png
END:VEVENT
BEGIN:VEVENT
DTSTART;TZID=America/Chicago:20260802T180000
DTEND;TZID=America/Chicago:20260802T190000
DTSTAMP:20260422T042707
CREATED:20230608T165824Z
LAST-MODIFIED:20260417T164622Z
UID:10003566-1785693600-1785697200@fpcjackson.org
SUMMARY:Catechism Crew
DESCRIPTION:Sunday Night Classes for Kids \nFirst through Third grades \nDismissed from the Evening Worship Service
URL:https://fpcjackson.org/event/catechism-crew/2026-08-02/
LOCATION:FPC Jackson Campus\, 1390 North State Street\, Jackson\, MS\, 39202\, United States
CATEGORIES:Children
ATTACH;FMTTYPE=image/png:https://fpcjackson.org/wp-content/uploads/2023/06/Catechism-Crew-Logo.png
END:VEVENT
BEGIN:VEVENT
DTSTART;TZID=America/Chicago:20260802T180000
DTEND;TZID=America/Chicago:20260802T190000
DTSTAMP:20260422T042707
CREATED:20230608T170051Z
LAST-MODIFIED:20260417T164712Z
UID:10003829-1785693600-1785697200@fpcjackson.org
SUMMARY:Covenant Kids
DESCRIPTION:Sunday Night Classes for Kids \nAge 4 and 5 \nDismissed from the Evening Worship Service
URL:https://fpcjackson.org/event/covenant-kids/2026-08-02/
LOCATION:FPC Jackson Campus\, 1390 North State Street\, Jackson\, MS\, 39202\, United States
CATEGORIES:Children
ATTACH;FMTTYPE=image/png:https://fpcjackson.org/wp-content/uploads/2023/06/Covenant-Kids-Logo.png
END:VEVENT
BEGIN:VEVENT
DTSTART;TZID=America/Chicago:20260804T093000
DTEND;TZID=America/Chicago:20260804T113000
DTSTAMP:20260422T042707
CREATED:20240503T160655Z
LAST-MODIFIED:20260306T160242Z
UID:10006962-1785835800-1785843000@fpcjackson.org
SUMMARY:Sew & Sow
DESCRIPTION:Like to sew or want to learn? “Sew and Sow” meets on Tuesday mornings from 9:30-11 in Westminster Hall 302 at the church for fun\, sewing and service through the use of our God-granted sewing skills. We are open to all ladies who enjoy sewing or needlework. Recent and current projects include medical masks during Covid-19\, cradle roll blankets for our newborns\, Christmas stockings for the NICU units at Baptist Hospital \, wheel chair bags for Methodist Rehabilitation and pillow cases for Ruth’s Refuge”. A sewing camp is offered in the summer months on even years. Some of our Tuesdays are spent on personal projects or those projects you may need help with. Special talents are shared with different focuses for each year. A nursery is provided. \nContact:\nSharon Gatlin
URL:https://fpcjackson.org/event/sew-sow/2026-08-04/
LOCATION:FPC Jackson Campus\, 1390 North State Street\, Jackson\, MS\, 39202\, United States
CATEGORIES:Women
ATTACH;FMTTYPE=image/png:https://fpcjackson.org/wp-content/uploads/2024/05/Sew-and-Sow.png
END:VEVENT
BEGIN:VEVENT
DTSTART;TZID=America/Chicago:20260809T094500
DTEND;TZID=America/Chicago:20260809T103000
DTSTAMP:20260422T042707
CREATED:20220916T133244Z
LAST-MODIFIED:20260306T155654Z
UID:10001033-1786268700-1786271400@fpcjackson.org
SUMMARY:College Sunday School
DESCRIPTION:
URL:https://fpcjackson.org/event/college-sunday-school/2026-08-09/
LOCATION:FPC Jackson Campus\, 1390 North State Street\, Jackson\, MS\, 39202\, United States
CATEGORIES:College
END:VEVENT
BEGIN:VEVENT
DTSTART;TZID=America/Chicago:20260809T163000
DTEND;TZID=America/Chicago:20260809T171500
DTSTAMP:20260422T042707
CREATED:20250909T190718Z
LAST-MODIFIED:20260417T164553Z
UID:10018442-1786293000-1786295700@fpcjackson.org
SUMMARY:Student Choir
DESCRIPTION:Students in grades six-twelve are invited to join us for Student Choir! We rehearse Sunday afternoons 4:30-5:15 with supper to follow. Students will develop and practice basic musical skills\, lead worship in one Sunday night service a month\, and enjoy meaningful fellowship with other student choir members\, mentors\, and staff. For questions\, email Levi Henkel at LeviH@fpcjackson.org.
URL:https://fpcjackson.org/event/student-choir-2/2026-08-09/
LOCATION:FPC Jackson Campus\, 1390 North State Street\, Jackson\, MS\, 39202\, United States
CATEGORIES:Youth
ATTACH;FMTTYPE=image/png:https://fpcjackson.org/wp-content/uploads/2025/09/Student-Choir-2025.png
END:VEVENT
BEGIN:VEVENT
DTSTART;TZID=America/Chicago:20260809T180000
DTEND;TZID=America/Chicago:20260809T190000
DTSTAMP:20260422T042707
CREATED:20230608T165824Z
LAST-MODIFIED:20260417T164622Z
UID:10003567-1786298400-1786302000@fpcjackson.org
SUMMARY:Catechism Crew
DESCRIPTION:Sunday Night Classes for Kids \nFirst through Third grades \nDismissed from the Evening Worship Service
URL:https://fpcjackson.org/event/catechism-crew/2026-08-09/
LOCATION:FPC Jackson Campus\, 1390 North State Street\, Jackson\, MS\, 39202\, United States
CATEGORIES:Children
ATTACH;FMTTYPE=image/png:https://fpcjackson.org/wp-content/uploads/2023/06/Catechism-Crew-Logo.png
END:VEVENT
BEGIN:VEVENT
DTSTART;TZID=America/Chicago:20260809T180000
DTEND;TZID=America/Chicago:20260809T190000
DTSTAMP:20260422T042707
CREATED:20230608T170051Z
LAST-MODIFIED:20260417T164712Z
UID:10003830-1786298400-1786302000@fpcjackson.org
SUMMARY:Covenant Kids
DESCRIPTION:Sunday Night Classes for Kids \nAge 4 and 5 \nDismissed from the Evening Worship Service
URL:https://fpcjackson.org/event/covenant-kids/2026-08-09/
LOCATION:FPC Jackson Campus\, 1390 North State Street\, Jackson\, MS\, 39202\, United States
CATEGORIES:Children
ATTACH;FMTTYPE=image/png:https://fpcjackson.org/wp-content/uploads/2023/06/Covenant-Kids-Logo.png
END:VEVENT
BEGIN:VEVENT
DTSTART;TZID=America/Chicago:20260810T103000
DTEND;TZID=America/Chicago:20260810T120000
DTSTAMP:20260422T042707
CREATED:20250602T172158Z
LAST-MODIFIED:20250602T172349Z
UID:10018071-1786357800-1786363200@fpcjackson.org
SUMMARY:Caregivers Support Group
DESCRIPTION:The Caregivers’ Support Group takes place every second Monday of the month in Westminster Hall 202B from 10:30 a.m.-12 p.m. The purpose of our Caregivers’ Ministry is to gather similarly situated caregivers who desire to learn\, share stories\, and grieve as we walk together through the valley of a loved one’s suffering with dementia and dementia-related illness. The meeting will provide a safe and friendly forum to talk with others who understand the toils of caregiving for the cognitively impaired. With questions\, please contact Ken Fairly at 601-941-5004.
URL:https://fpcjackson.org/event/caregivers-support-group-2-2/2026-08-10/
LOCATION:FPC Jackson Campus\, 1390 North State Street\, Jackson\, MS\, 39202\, United States
CATEGORIES:Care and Support,Senior Adults
ATTACH;FMTTYPE=application/pdf:https://fpcjackson.org/wp-content/uploads/2023/07/Caregivers-Support-Group-3.pdf
END:VEVENT
BEGIN:VEVENT
DTSTART;TZID=America/Chicago:20260811T093000
DTEND;TZID=America/Chicago:20260811T113000
DTSTAMP:20260422T042707
CREATED:20240503T160655Z
LAST-MODIFIED:20260306T160242Z
UID:10006963-1786440600-1786447800@fpcjackson.org
SUMMARY:Sew & Sow
DESCRIPTION:Like to sew or want to learn? “Sew and Sow” meets on Tuesday mornings from 9:30-11 in Westminster Hall 302 at the church for fun\, sewing and service through the use of our God-granted sewing skills. We are open to all ladies who enjoy sewing or needlework. Recent and current projects include medical masks during Covid-19\, cradle roll blankets for our newborns\, Christmas stockings for the NICU units at Baptist Hospital \, wheel chair bags for Methodist Rehabilitation and pillow cases for Ruth’s Refuge”. A sewing camp is offered in the summer months on even years. Some of our Tuesdays are spent on personal projects or those projects you may need help with. Special talents are shared with different focuses for each year. A nursery is provided. \nContact:\nSharon Gatlin
URL:https://fpcjackson.org/event/sew-sow/2026-08-11/
LOCATION:FPC Jackson Campus\, 1390 North State Street\, Jackson\, MS\, 39202\, United States
CATEGORIES:Women
ATTACH;FMTTYPE=image/png:https://fpcjackson.org/wp-content/uploads/2024/05/Sew-and-Sow.png
END:VEVENT
BEGIN:VEVENT
DTSTART;TZID=America/Chicago:20260816T094500
DTEND;TZID=America/Chicago:20260816T103000
DTSTAMP:20260422T042707
CREATED:20220916T133244Z
LAST-MODIFIED:20260306T155654Z
UID:10001034-1786873500-1786876200@fpcjackson.org
SUMMARY:College Sunday School
DESCRIPTION:
URL:https://fpcjackson.org/event/college-sunday-school/2026-08-16/
LOCATION:FPC Jackson Campus\, 1390 North State Street\, Jackson\, MS\, 39202\, United States
CATEGORIES:College
END:VEVENT
BEGIN:VEVENT
DTSTART;TZID=America/Chicago:20260816T163000
DTEND;TZID=America/Chicago:20260816T171500
DTSTAMP:20260422T042707
CREATED:20250909T190718Z
LAST-MODIFIED:20260417T164553Z
UID:10018443-1786897800-1786900500@fpcjackson.org
SUMMARY:Student Choir
DESCRIPTION:Students in grades six-twelve are invited to join us for Student Choir! We rehearse Sunday afternoons 4:30-5:15 with supper to follow. Students will develop and practice basic musical skills\, lead worship in one Sunday night service a month\, and enjoy meaningful fellowship with other student choir members\, mentors\, and staff. For questions\, email Levi Henkel at LeviH@fpcjackson.org.
URL:https://fpcjackson.org/event/student-choir-2/2026-08-16/
LOCATION:FPC Jackson Campus\, 1390 North State Street\, Jackson\, MS\, 39202\, United States
CATEGORIES:Youth
ATTACH;FMTTYPE=image/png:https://fpcjackson.org/wp-content/uploads/2025/09/Student-Choir-2025.png
END:VEVENT
BEGIN:VEVENT
DTSTART;TZID=America/Chicago:20260816T180000
DTEND;TZID=America/Chicago:20260816T190000
DTSTAMP:20260422T042707
CREATED:20230608T165824Z
LAST-MODIFIED:20260417T164622Z
UID:10003568-1786903200-1786906800@fpcjackson.org
SUMMARY:Catechism Crew
DESCRIPTION:Sunday Night Classes for Kids \nFirst through Third grades \nDismissed from the Evening Worship Service
URL:https://fpcjackson.org/event/catechism-crew/2026-08-16/
LOCATION:FPC Jackson Campus\, 1390 North State Street\, Jackson\, MS\, 39202\, United States
CATEGORIES:Children
ATTACH;FMTTYPE=image/png:https://fpcjackson.org/wp-content/uploads/2023/06/Catechism-Crew-Logo.png
END:VEVENT
BEGIN:VEVENT
DTSTART;TZID=America/Chicago:20260816T180000
DTEND;TZID=America/Chicago:20260816T190000
DTSTAMP:20260422T042707
CREATED:20230608T170051Z
LAST-MODIFIED:20260417T164712Z
UID:10003831-1786903200-1786906800@fpcjackson.org
SUMMARY:Covenant Kids
DESCRIPTION:Sunday Night Classes for Kids \nAge 4 and 5 \nDismissed from the Evening Worship Service
URL:https://fpcjackson.org/event/covenant-kids/2026-08-16/
LOCATION:FPC Jackson Campus\, 1390 North State Street\, Jackson\, MS\, 39202\, United States
CATEGORIES:Children
ATTACH;FMTTYPE=image/png:https://fpcjackson.org/wp-content/uploads/2023/06/Covenant-Kids-Logo.png
END:VEVENT
BEGIN:VEVENT
DTSTART;TZID=America/Chicago:20260818T093000
DTEND;TZID=America/Chicago:20260818T113000
DTSTAMP:20260422T042707
CREATED:20240503T160655Z
LAST-MODIFIED:20260306T160242Z
UID:10006964-1787045400-1787052600@fpcjackson.org
SUMMARY:Sew & Sow
DESCRIPTION:Like to sew or want to learn? “Sew and Sow” meets on Tuesday mornings from 9:30-11 in Westminster Hall 302 at the church for fun\, sewing and service through the use of our God-granted sewing skills. We are open to all ladies who enjoy sewing or needlework. Recent and current projects include medical masks during Covid-19\, cradle roll blankets for our newborns\, Christmas stockings for the NICU units at Baptist Hospital \, wheel chair bags for Methodist Rehabilitation and pillow cases for Ruth’s Refuge”. A sewing camp is offered in the summer months on even years. Some of our Tuesdays are spent on personal projects or those projects you may need help with. Special talents are shared with different focuses for each year. A nursery is provided. \nContact:\nSharon Gatlin
URL:https://fpcjackson.org/event/sew-sow/2026-08-18/
LOCATION:FPC Jackson Campus\, 1390 North State Street\, Jackson\, MS\, 39202\, United States
CATEGORIES:Women
ATTACH;FMTTYPE=image/png:https://fpcjackson.org/wp-content/uploads/2024/05/Sew-and-Sow.png
END:VEVENT
BEGIN:VEVENT
DTSTART;TZID=America/Chicago:20260823T094500
DTEND;TZID=America/Chicago:20260823T103000
DTSTAMP:20260422T042707
CREATED:20220916T133244Z
LAST-MODIFIED:20260306T155654Z
UID:10001035-1787478300-1787481000@fpcjackson.org
SUMMARY:College Sunday School
DESCRIPTION:
URL:https://fpcjackson.org/event/college-sunday-school/2026-08-23/
LOCATION:FPC Jackson Campus\, 1390 North State Street\, Jackson\, MS\, 39202\, United States
CATEGORIES:College
END:VEVENT
BEGIN:VEVENT
DTSTART;TZID=America/Chicago:20260823T163000
DTEND;TZID=America/Chicago:20260823T171500
DTSTAMP:20260422T042707
CREATED:20250909T190718Z
LAST-MODIFIED:20260417T164553Z
UID:10018444-1787502600-1787505300@fpcjackson.org
SUMMARY:Student Choir
DESCRIPTION:Students in grades six-twelve are invited to join us for Student Choir! We rehearse Sunday afternoons 4:30-5:15 with supper to follow. Students will develop and practice basic musical skills\, lead worship in one Sunday night service a month\, and enjoy meaningful fellowship with other student choir members\, mentors\, and staff. For questions\, email Levi Henkel at LeviH@fpcjackson.org.
URL:https://fpcjackson.org/event/student-choir-2/2026-08-23/
LOCATION:FPC Jackson Campus\, 1390 North State Street\, Jackson\, MS\, 39202\, United States
CATEGORIES:Youth
ATTACH;FMTTYPE=image/png:https://fpcjackson.org/wp-content/uploads/2025/09/Student-Choir-2025.png
END:VEVENT
BEGIN:VEVENT
DTSTART;TZID=America/Chicago:20260823T180000
DTEND;TZID=America/Chicago:20260823T190000
DTSTAMP:20260422T042707
CREATED:20230608T165824Z
LAST-MODIFIED:20260417T164622Z
UID:10003569-1787508000-1787511600@fpcjackson.org
SUMMARY:Catechism Crew
DESCRIPTION:Sunday Night Classes for Kids \nFirst through Third grades \nDismissed from the Evening Worship Service
URL:https://fpcjackson.org/event/catechism-crew/2026-08-23/
LOCATION:FPC Jackson Campus\, 1390 North State Street\, Jackson\, MS\, 39202\, United States
CATEGORIES:Children
ATTACH;FMTTYPE=image/png:https://fpcjackson.org/wp-content/uploads/2023/06/Catechism-Crew-Logo.png
END:VEVENT
BEGIN:VEVENT
DTSTART;TZID=America/Chicago:20260823T180000
DTEND;TZID=America/Chicago:20260823T190000
DTSTAMP:20260422T042707
CREATED:20230608T170051Z
LAST-MODIFIED:20260417T164712Z
UID:10003832-1787508000-1787511600@fpcjackson.org
SUMMARY:Covenant Kids
DESCRIPTION:Sunday Night Classes for Kids \nAge 4 and 5 \nDismissed from the Evening Worship Service
URL:https://fpcjackson.org/event/covenant-kids/2026-08-23/
LOCATION:FPC Jackson Campus\, 1390 North State Street\, Jackson\, MS\, 39202\, United States
CATEGORIES:Children
ATTACH;FMTTYPE=image/png:https://fpcjackson.org/wp-content/uploads/2023/06/Covenant-Kids-Logo.png
END:VEVENT
BEGIN:VEVENT
DTSTART;TZID=America/Chicago:20260825T093000
DTEND;TZID=America/Chicago:20260825T113000
DTSTAMP:20260422T042707
CREATED:20240503T160655Z
LAST-MODIFIED:20260306T160242Z
UID:10006965-1787650200-1787657400@fpcjackson.org
SUMMARY:Sew & Sow
DESCRIPTION:Like to sew or want to learn? “Sew and Sow” meets on Tuesday mornings from 9:30-11 in Westminster Hall 302 at the church for fun\, sewing and service through the use of our God-granted sewing skills. We are open to all ladies who enjoy sewing or needlework. Recent and current projects include medical masks during Covid-19\, cradle roll blankets for our newborns\, Christmas stockings for the NICU units at Baptist Hospital \, wheel chair bags for Methodist Rehabilitation and pillow cases for Ruth’s Refuge”. A sewing camp is offered in the summer months on even years. Some of our Tuesdays are spent on personal projects or those projects you may need help with. Special talents are shared with different focuses for each year. A nursery is provided. \nContact:\nSharon Gatlin
URL:https://fpcjackson.org/event/sew-sow/2026-08-25/
LOCATION:FPC Jackson Campus\, 1390 North State Street\, Jackson\, MS\, 39202\, United States
CATEGORIES:Women
ATTACH;FMTTYPE=image/png:https://fpcjackson.org/wp-content/uploads/2024/05/Sew-and-Sow.png
END:VEVENT
BEGIN:VEVENT
DTSTART;TZID=America/Chicago:20260830T094500
DTEND;TZID=America/Chicago:20260830T103000
DTSTAMP:20260422T042707
CREATED:20220916T133244Z
LAST-MODIFIED:20260306T155654Z
UID:10001036-1788083100-1788085800@fpcjackson.org
SUMMARY:College Sunday School
DESCRIPTION:
URL:https://fpcjackson.org/event/college-sunday-school/2026-08-30/
LOCATION:FPC Jackson Campus\, 1390 North State Street\, Jackson\, MS\, 39202\, United States
CATEGORIES:College
END:VEVENT
BEGIN:VEVENT
DTSTART;TZID=America/Chicago:20260830T163000
DTEND;TZID=America/Chicago:20260830T171500
DTSTAMP:20260422T042707
CREATED:20250909T190718Z
LAST-MODIFIED:20260417T164553Z
UID:10018445-1788107400-1788110100@fpcjackson.org
SUMMARY:Student Choir
DESCRIPTION:Students in grades six-twelve are invited to join us for Student Choir! We rehearse Sunday afternoons 4:30-5:15 with supper to follow. Students will develop and practice basic musical skills\, lead worship in one Sunday night service a month\, and enjoy meaningful fellowship with other student choir members\, mentors\, and staff. For questions\, email Levi Henkel at LeviH@fpcjackson.org.
URL:https://fpcjackson.org/event/student-choir-2/2026-08-30/
LOCATION:FPC Jackson Campus\, 1390 North State Street\, Jackson\, MS\, 39202\, United States
CATEGORIES:Youth
ATTACH;FMTTYPE=image/png:https://fpcjackson.org/wp-content/uploads/2025/09/Student-Choir-2025.png
END:VEVENT
BEGIN:VEVENT
DTSTART;TZID=America/Chicago:20260830T180000
DTEND;TZID=America/Chicago:20260830T190000
DTSTAMP:20260422T042707
CREATED:20230608T165824Z
LAST-MODIFIED:20260417T164622Z
UID:10003570-1788112800-1788116400@fpcjackson.org
SUMMARY:Catechism Crew
DESCRIPTION:Sunday Night Classes for Kids \nFirst through Third grades \nDismissed from the Evening Worship Service
URL:https://fpcjackson.org/event/catechism-crew/2026-08-30/
LOCATION:FPC Jackson Campus\, 1390 North State Street\, Jackson\, MS\, 39202\, United States
CATEGORIES:Children
ATTACH;FMTTYPE=image/png:https://fpcjackson.org/wp-content/uploads/2023/06/Catechism-Crew-Logo.png
END:VEVENT
BEGIN:VEVENT
DTSTART;TZID=America/Chicago:20260830T180000
DTEND;TZID=America/Chicago:20260830T190000
DTSTAMP:20260422T042707
CREATED:20230608T170051Z
LAST-MODIFIED:20260417T164712Z
UID:10003833-1788112800-1788116400@fpcjackson.org
SUMMARY:Covenant Kids
DESCRIPTION:Sunday Night Classes for Kids \nAge 4 and 5 \nDismissed from the Evening Worship Service
URL:https://fpcjackson.org/event/covenant-kids/2026-08-30/
LOCATION:FPC Jackson Campus\, 1390 North State Street\, Jackson\, MS\, 39202\, United States
CATEGORIES:Children
ATTACH;FMTTYPE=image/png:https://fpcjackson.org/wp-content/uploads/2023/06/Covenant-Kids-Logo.png
END:VEVENT
BEGIN:VEVENT
DTSTART;TZID=America/Chicago:20260901T093000
DTEND;TZID=America/Chicago:20260901T113000
DTSTAMP:20260422T042707
CREATED:20240503T160655Z
LAST-MODIFIED:20260306T160242Z
UID:10006966-1788255000-1788262200@fpcjackson.org
SUMMARY:Sew & Sow
DESCRIPTION:Like to sew or want to learn? “Sew and Sow” meets on Tuesday mornings from 9:30-11 in Westminster Hall 302 at the church for fun\, sewing and service through the use of our God-granted sewing skills. We are open to all ladies who enjoy sewing or needlework. Recent and current projects include medical masks during Covid-19\, cradle roll blankets for our newborns\, Christmas stockings for the NICU units at Baptist Hospital \, wheel chair bags for Methodist Rehabilitation and pillow cases for Ruth’s Refuge”. A sewing camp is offered in the summer months on even years. Some of our Tuesdays are spent on personal projects or those projects you may need help with. Special talents are shared with different focuses for each year. A nursery is provided. \nContact:\nSharon Gatlin
URL:https://fpcjackson.org/event/sew-sow/2026-09-01/
LOCATION:FPC Jackson Campus\, 1390 North State Street\, Jackson\, MS\, 39202\, United States
CATEGORIES:Women
ATTACH;FMTTYPE=image/png:https://fpcjackson.org/wp-content/uploads/2024/05/Sew-and-Sow.png
END:VEVENT
BEGIN:VEVENT
DTSTART;TZID=America/Chicago:20260906T094500
DTEND;TZID=America/Chicago:20260906T103000
DTSTAMP:20260422T042707
CREATED:20220916T133244Z
LAST-MODIFIED:20260306T155654Z
UID:10001037-1788687900-1788690600@fpcjackson.org
SUMMARY:College Sunday School
DESCRIPTION:
URL:https://fpcjackson.org/event/college-sunday-school/2026-09-06/
LOCATION:FPC Jackson Campus\, 1390 North State Street\, Jackson\, MS\, 39202\, United States
CATEGORIES:College
END:VEVENT
END:VCALENDAR