BEGIN:VCALENDAR
VERSION:2.0
PRODID:-//First Presbyterian Church - ECPv6.15.20//NONSGML v1.0//EN
CALSCALE:GREGORIAN
METHOD:PUBLISH
X-ORIGINAL-URL:https://fpcjackson.org
X-WR-CALDESC:Events for First Presbyterian Church
REFRESH-INTERVAL;VALUE=DURATION:PT1H
X-Robots-Tag:noindex
X-PUBLISHED-TTL:PT1H
BEGIN:VTIMEZONE
TZID:America/Chicago
BEGIN:DAYLIGHT
TZOFFSETFROM:-0600
TZOFFSETTO:-0500
TZNAME:CDT
DTSTART:20260308T080000
END:DAYLIGHT
BEGIN:STANDARD
TZOFFSETFROM:-0500
TZOFFSETTO:-0600
TZNAME:CST
DTSTART:20261101T070000
END:STANDARD
BEGIN:DAYLIGHT
TZOFFSETFROM:-0600
TZOFFSETTO:-0500
TZNAME:CDT
DTSTART:20270314T080000
END:DAYLIGHT
BEGIN:STANDARD
TZOFFSETFROM:-0500
TZOFFSETTO:-0600
TZNAME:CST
DTSTART:20271107T070000
END:STANDARD
BEGIN:DAYLIGHT
TZOFFSETFROM:-0600
TZOFFSETTO:-0500
TZNAME:CDT
DTSTART:20280312T080000
END:DAYLIGHT
BEGIN:STANDARD
TZOFFSETFROM:-0500
TZOFFSETTO:-0600
TZNAME:CST
DTSTART:20281105T070000
END:STANDARD
END:VTIMEZONE
BEGIN:VEVENT
DTSTART;TZID=America/Chicago:20271031T180000
DTEND;TZID=America/Chicago:20271031T190000
DTSTAMP:20260424T130652
CREATED:20230608T170051Z
LAST-MODIFIED:20260417T164712Z
UID:10003894-1825005600-1825009200@fpcjackson.org
SUMMARY:Covenant Kids
DESCRIPTION:Sunday Night Classes for Kids \nAge 4 and 5 \nDismissed from the Evening Worship Service
URL:https://fpcjackson.org/event/covenant-kids/2027-10-31/
LOCATION:FPC Jackson Campus\, 1390 North State Street\, Jackson\, MS\, 39202\, United States
CATEGORIES:Children
ATTACH;FMTTYPE=image/png:https://fpcjackson.org/wp-content/uploads/2023/06/Covenant-Kids-Logo.png
END:VEVENT
BEGIN:VEVENT
DTSTART;TZID=America/Chicago:20271102T093000
DTEND;TZID=America/Chicago:20271102T113000
DTSTAMP:20260424T130652
CREATED:20240503T160655Z
LAST-MODIFIED:20260306T160242Z
UID:10007027-1825147800-1825155000@fpcjackson.org
SUMMARY:Sew & Sow
DESCRIPTION:Like to sew or want to learn? “Sew and Sow” meets on Tuesday mornings from 9:30-11 in Westminster Hall 302 at the church for fun\, sewing and service through the use of our God-granted sewing skills. We are open to all ladies who enjoy sewing or needlework. Recent and current projects include medical masks during Covid-19\, cradle roll blankets for our newborns\, Christmas stockings for the NICU units at Baptist Hospital \, wheel chair bags for Methodist Rehabilitation and pillow cases for Ruth’s Refuge”. A sewing camp is offered in the summer months on even years. Some of our Tuesdays are spent on personal projects or those projects you may need help with. Special talents are shared with different focuses for each year. A nursery is provided. \nContact:\nSharon Gatlin
URL:https://fpcjackson.org/event/sew-sow/2027-11-02/
LOCATION:FPC Jackson Campus\, 1390 North State Street\, Jackson\, MS\, 39202\, United States
CATEGORIES:Women
ATTACH;FMTTYPE=image/png:https://fpcjackson.org/wp-content/uploads/2024/05/Sew-and-Sow.png
END:VEVENT
BEGIN:VEVENT
DTSTART;TZID=America/Chicago:20271107T094500
DTEND;TZID=America/Chicago:20271107T103000
DTSTAMP:20260424T130652
CREATED:20220916T133244Z
LAST-MODIFIED:20260306T155654Z
UID:10001098-1825580700-1825583400@fpcjackson.org
SUMMARY:College Sunday School
DESCRIPTION:
URL:https://fpcjackson.org/event/college-sunday-school/2027-11-07/
LOCATION:FPC Jackson Campus\, 1390 North State Street\, Jackson\, MS\, 39202\, United States
CATEGORIES:College
END:VEVENT
BEGIN:VEVENT
DTSTART;TZID=America/Chicago:20271107T180000
DTEND;TZID=America/Chicago:20271107T190000
DTSTAMP:20260424T130652
CREATED:20230608T165824Z
LAST-MODIFIED:20260417T164622Z
UID:10003632-1825610400-1825614000@fpcjackson.org
SUMMARY:Catechism Crew
DESCRIPTION:Sunday Night Classes for Kids \nFirst through Third grades \nDismissed from the Evening Worship Service
URL:https://fpcjackson.org/event/catechism-crew/2027-11-07/
LOCATION:FPC Jackson Campus\, 1390 North State Street\, Jackson\, MS\, 39202\, United States
CATEGORIES:Children
ATTACH;FMTTYPE=image/png:https://fpcjackson.org/wp-content/uploads/2023/06/Catechism-Crew-Logo.png
END:VEVENT
BEGIN:VEVENT
DTSTART;TZID=America/Chicago:20271107T180000
DTEND;TZID=America/Chicago:20271107T190000
DTSTAMP:20260424T130652
CREATED:20230608T170051Z
LAST-MODIFIED:20260417T164712Z
UID:10003895-1825610400-1825614000@fpcjackson.org
SUMMARY:Covenant Kids
DESCRIPTION:Sunday Night Classes for Kids \nAge 4 and 5 \nDismissed from the Evening Worship Service
URL:https://fpcjackson.org/event/covenant-kids/2027-11-07/
LOCATION:FPC Jackson Campus\, 1390 North State Street\, Jackson\, MS\, 39202\, United States
CATEGORIES:Children
ATTACH;FMTTYPE=image/png:https://fpcjackson.org/wp-content/uploads/2023/06/Covenant-Kids-Logo.png
END:VEVENT
BEGIN:VEVENT
DTSTART;TZID=America/Chicago:20271108T103000
DTEND;TZID=America/Chicago:20271108T120000
DTSTAMP:20260424T130652
CREATED:20250602T172158Z
LAST-MODIFIED:20250602T172349Z
UID:10018086-1825669800-1825675200@fpcjackson.org
SUMMARY:Caregivers Support Group
DESCRIPTION:The Caregivers’ Support Group takes place every second Monday of the month in Westminster Hall 202B from 10:30 a.m.-12 p.m. The purpose of our Caregivers’ Ministry is to gather similarly situated caregivers who desire to learn\, share stories\, and grieve as we walk together through the valley of a loved one’s suffering with dementia and dementia-related illness. The meeting will provide a safe and friendly forum to talk with others who understand the toils of caregiving for the cognitively impaired. With questions\, please contact Ken Fairly at 601-941-5004.
URL:https://fpcjackson.org/event/caregivers-support-group-2-2/2027-11-08/
LOCATION:FPC Jackson Campus\, 1390 North State Street\, Jackson\, MS\, 39202\, United States
CATEGORIES:Care and Support,Senior Adults
ATTACH;FMTTYPE=application/pdf:https://fpcjackson.org/wp-content/uploads/2023/07/Caregivers-Support-Group-3.pdf
END:VEVENT
BEGIN:VEVENT
DTSTART;TZID=America/Chicago:20271109T093000
DTEND;TZID=America/Chicago:20271109T113000
DTSTAMP:20260424T130652
CREATED:20240503T160655Z
LAST-MODIFIED:20260306T160242Z
UID:10007028-1825752600-1825759800@fpcjackson.org
SUMMARY:Sew & Sow
DESCRIPTION:Like to sew or want to learn? “Sew and Sow” meets on Tuesday mornings from 9:30-11 in Westminster Hall 302 at the church for fun\, sewing and service through the use of our God-granted sewing skills. We are open to all ladies who enjoy sewing or needlework. Recent and current projects include medical masks during Covid-19\, cradle roll blankets for our newborns\, Christmas stockings for the NICU units at Baptist Hospital \, wheel chair bags for Methodist Rehabilitation and pillow cases for Ruth’s Refuge”. A sewing camp is offered in the summer months on even years. Some of our Tuesdays are spent on personal projects or those projects you may need help with. Special talents are shared with different focuses for each year. A nursery is provided. \nContact:\nSharon Gatlin
URL:https://fpcjackson.org/event/sew-sow/2027-11-09/
LOCATION:FPC Jackson Campus\, 1390 North State Street\, Jackson\, MS\, 39202\, United States
CATEGORIES:Women
ATTACH;FMTTYPE=image/png:https://fpcjackson.org/wp-content/uploads/2024/05/Sew-and-Sow.png
END:VEVENT
BEGIN:VEVENT
DTSTART;TZID=America/Chicago:20271114T094500
DTEND;TZID=America/Chicago:20271114T103000
DTSTAMP:20260424T130652
CREATED:20220916T133244Z
LAST-MODIFIED:20260306T155654Z
UID:10001099-1826185500-1826188200@fpcjackson.org
SUMMARY:College Sunday School
DESCRIPTION:
URL:https://fpcjackson.org/event/college-sunday-school/2027-11-14/
LOCATION:FPC Jackson Campus\, 1390 North State Street\, Jackson\, MS\, 39202\, United States
CATEGORIES:College
END:VEVENT
BEGIN:VEVENT
DTSTART;TZID=America/Chicago:20271114T180000
DTEND;TZID=America/Chicago:20271114T190000
DTSTAMP:20260424T130652
CREATED:20230608T165824Z
LAST-MODIFIED:20260417T164622Z
UID:10003633-1826215200-1826218800@fpcjackson.org
SUMMARY:Catechism Crew
DESCRIPTION:Sunday Night Classes for Kids \nFirst through Third grades \nDismissed from the Evening Worship Service
URL:https://fpcjackson.org/event/catechism-crew/2027-11-14/
LOCATION:FPC Jackson Campus\, 1390 North State Street\, Jackson\, MS\, 39202\, United States
CATEGORIES:Children
ATTACH;FMTTYPE=image/png:https://fpcjackson.org/wp-content/uploads/2023/06/Catechism-Crew-Logo.png
END:VEVENT
BEGIN:VEVENT
DTSTART;TZID=America/Chicago:20271114T180000
DTEND;TZID=America/Chicago:20271114T190000
DTSTAMP:20260424T130652
CREATED:20230608T170051Z
LAST-MODIFIED:20260417T164712Z
UID:10003896-1826215200-1826218800@fpcjackson.org
SUMMARY:Covenant Kids
DESCRIPTION:Sunday Night Classes for Kids \nAge 4 and 5 \nDismissed from the Evening Worship Service
URL:https://fpcjackson.org/event/covenant-kids/2027-11-14/
LOCATION:FPC Jackson Campus\, 1390 North State Street\, Jackson\, MS\, 39202\, United States
CATEGORIES:Children
ATTACH;FMTTYPE=image/png:https://fpcjackson.org/wp-content/uploads/2023/06/Covenant-Kids-Logo.png
END:VEVENT
BEGIN:VEVENT
DTSTART;TZID=America/Chicago:20271116T093000
DTEND;TZID=America/Chicago:20271116T113000
DTSTAMP:20260424T130652
CREATED:20240503T160655Z
LAST-MODIFIED:20260306T160242Z
UID:10007029-1826357400-1826364600@fpcjackson.org
SUMMARY:Sew & Sow
DESCRIPTION:Like to sew or want to learn? “Sew and Sow” meets on Tuesday mornings from 9:30-11 in Westminster Hall 302 at the church for fun\, sewing and service through the use of our God-granted sewing skills. We are open to all ladies who enjoy sewing or needlework. Recent and current projects include medical masks during Covid-19\, cradle roll blankets for our newborns\, Christmas stockings for the NICU units at Baptist Hospital \, wheel chair bags for Methodist Rehabilitation and pillow cases for Ruth’s Refuge”. A sewing camp is offered in the summer months on even years. Some of our Tuesdays are spent on personal projects or those projects you may need help with. Special talents are shared with different focuses for each year. A nursery is provided. \nContact:\nSharon Gatlin
URL:https://fpcjackson.org/event/sew-sow/2027-11-16/
LOCATION:FPC Jackson Campus\, 1390 North State Street\, Jackson\, MS\, 39202\, United States
CATEGORIES:Women
ATTACH;FMTTYPE=image/png:https://fpcjackson.org/wp-content/uploads/2024/05/Sew-and-Sow.png
END:VEVENT
BEGIN:VEVENT
DTSTART;TZID=America/Chicago:20271121T094500
DTEND;TZID=America/Chicago:20271121T103000
DTSTAMP:20260424T130652
CREATED:20220916T133244Z
LAST-MODIFIED:20260306T155654Z
UID:10001100-1826790300-1826793000@fpcjackson.org
SUMMARY:College Sunday School
DESCRIPTION:
URL:https://fpcjackson.org/event/college-sunday-school/2027-11-21/
LOCATION:FPC Jackson Campus\, 1390 North State Street\, Jackson\, MS\, 39202\, United States
CATEGORIES:College
END:VEVENT
BEGIN:VEVENT
DTSTART;TZID=America/Chicago:20271121T180000
DTEND;TZID=America/Chicago:20271121T190000
DTSTAMP:20260424T130652
CREATED:20230608T165824Z
LAST-MODIFIED:20260417T164622Z
UID:10003634-1826820000-1826823600@fpcjackson.org
SUMMARY:Catechism Crew
DESCRIPTION:Sunday Night Classes for Kids \nFirst through Third grades \nDismissed from the Evening Worship Service
URL:https://fpcjackson.org/event/catechism-crew/2027-11-21/
LOCATION:FPC Jackson Campus\, 1390 North State Street\, Jackson\, MS\, 39202\, United States
CATEGORIES:Children
ATTACH;FMTTYPE=image/png:https://fpcjackson.org/wp-content/uploads/2023/06/Catechism-Crew-Logo.png
END:VEVENT
BEGIN:VEVENT
DTSTART;TZID=America/Chicago:20271121T180000
DTEND;TZID=America/Chicago:20271121T190000
DTSTAMP:20260424T130652
CREATED:20230608T170051Z
LAST-MODIFIED:20260417T164712Z
UID:10003897-1826820000-1826823600@fpcjackson.org
SUMMARY:Covenant Kids
DESCRIPTION:Sunday Night Classes for Kids \nAge 4 and 5 \nDismissed from the Evening Worship Service
URL:https://fpcjackson.org/event/covenant-kids/2027-11-21/
LOCATION:FPC Jackson Campus\, 1390 North State Street\, Jackson\, MS\, 39202\, United States
CATEGORIES:Children
ATTACH;FMTTYPE=image/png:https://fpcjackson.org/wp-content/uploads/2023/06/Covenant-Kids-Logo.png
END:VEVENT
BEGIN:VEVENT
DTSTART;TZID=America/Chicago:20271123T093000
DTEND;TZID=America/Chicago:20271123T113000
DTSTAMP:20260424T130652
CREATED:20240503T160655Z
LAST-MODIFIED:20260306T160242Z
UID:10007030-1826962200-1826969400@fpcjackson.org
SUMMARY:Sew & Sow
DESCRIPTION:Like to sew or want to learn? “Sew and Sow” meets on Tuesday mornings from 9:30-11 in Westminster Hall 302 at the church for fun\, sewing and service through the use of our God-granted sewing skills. We are open to all ladies who enjoy sewing or needlework. Recent and current projects include medical masks during Covid-19\, cradle roll blankets for our newborns\, Christmas stockings for the NICU units at Baptist Hospital \, wheel chair bags for Methodist Rehabilitation and pillow cases for Ruth’s Refuge”. A sewing camp is offered in the summer months on even years. Some of our Tuesdays are spent on personal projects or those projects you may need help with. Special talents are shared with different focuses for each year. A nursery is provided. \nContact:\nSharon Gatlin
URL:https://fpcjackson.org/event/sew-sow/2027-11-23/
LOCATION:FPC Jackson Campus\, 1390 North State Street\, Jackson\, MS\, 39202\, United States
CATEGORIES:Women
ATTACH;FMTTYPE=image/png:https://fpcjackson.org/wp-content/uploads/2024/05/Sew-and-Sow.png
END:VEVENT
BEGIN:VEVENT
DTSTART;TZID=America/Chicago:20271128T094500
DTEND;TZID=America/Chicago:20271128T103000
DTSTAMP:20260424T130652
CREATED:20220916T133244Z
LAST-MODIFIED:20260306T155654Z
UID:10001101-1827395100-1827397800@fpcjackson.org
SUMMARY:College Sunday School
DESCRIPTION:
URL:https://fpcjackson.org/event/college-sunday-school/2027-11-28/
LOCATION:FPC Jackson Campus\, 1390 North State Street\, Jackson\, MS\, 39202\, United States
CATEGORIES:College
END:VEVENT
BEGIN:VEVENT
DTSTART;TZID=America/Chicago:20271128T180000
DTEND;TZID=America/Chicago:20271128T190000
DTSTAMP:20260424T130652
CREATED:20230608T165824Z
LAST-MODIFIED:20260417T164622Z
UID:10003635-1827424800-1827428400@fpcjackson.org
SUMMARY:Catechism Crew
DESCRIPTION:Sunday Night Classes for Kids \nFirst through Third grades \nDismissed from the Evening Worship Service
URL:https://fpcjackson.org/event/catechism-crew/2027-11-28/
LOCATION:FPC Jackson Campus\, 1390 North State Street\, Jackson\, MS\, 39202\, United States
CATEGORIES:Children
ATTACH;FMTTYPE=image/png:https://fpcjackson.org/wp-content/uploads/2023/06/Catechism-Crew-Logo.png
END:VEVENT
BEGIN:VEVENT
DTSTART;TZID=America/Chicago:20271128T180000
DTEND;TZID=America/Chicago:20271128T190000
DTSTAMP:20260424T130652
CREATED:20230608T170051Z
LAST-MODIFIED:20260417T164712Z
UID:10003898-1827424800-1827428400@fpcjackson.org
SUMMARY:Covenant Kids
DESCRIPTION:Sunday Night Classes for Kids \nAge 4 and 5 \nDismissed from the Evening Worship Service
URL:https://fpcjackson.org/event/covenant-kids/2027-11-28/
LOCATION:FPC Jackson Campus\, 1390 North State Street\, Jackson\, MS\, 39202\, United States
CATEGORIES:Children
ATTACH;FMTTYPE=image/png:https://fpcjackson.org/wp-content/uploads/2023/06/Covenant-Kids-Logo.png
END:VEVENT
BEGIN:VEVENT
DTSTART;TZID=America/Chicago:20271130T093000
DTEND;TZID=America/Chicago:20271130T113000
DTSTAMP:20260424T130652
CREATED:20240503T160655Z
LAST-MODIFIED:20260306T160242Z
UID:10007031-1827567000-1827574200@fpcjackson.org
SUMMARY:Sew & Sow
DESCRIPTION:Like to sew or want to learn? “Sew and Sow” meets on Tuesday mornings from 9:30-11 in Westminster Hall 302 at the church for fun\, sewing and service through the use of our God-granted sewing skills. We are open to all ladies who enjoy sewing or needlework. Recent and current projects include medical masks during Covid-19\, cradle roll blankets for our newborns\, Christmas stockings for the NICU units at Baptist Hospital \, wheel chair bags for Methodist Rehabilitation and pillow cases for Ruth’s Refuge”. A sewing camp is offered in the summer months on even years. Some of our Tuesdays are spent on personal projects or those projects you may need help with. Special talents are shared with different focuses for each year. A nursery is provided. \nContact:\nSharon Gatlin
URL:https://fpcjackson.org/event/sew-sow/2027-11-30/
LOCATION:FPC Jackson Campus\, 1390 North State Street\, Jackson\, MS\, 39202\, United States
CATEGORIES:Women
ATTACH;FMTTYPE=image/png:https://fpcjackson.org/wp-content/uploads/2024/05/Sew-and-Sow.png
END:VEVENT
BEGIN:VEVENT
DTSTART;TZID=America/Chicago:20271205T094500
DTEND;TZID=America/Chicago:20271205T103000
DTSTAMP:20260424T130652
CREATED:20220916T133244Z
LAST-MODIFIED:20260306T155654Z
UID:10001102-1827999900-1828002600@fpcjackson.org
SUMMARY:College Sunday School
DESCRIPTION:
URL:https://fpcjackson.org/event/college-sunday-school/2027-12-05/
LOCATION:FPC Jackson Campus\, 1390 North State Street\, Jackson\, MS\, 39202\, United States
CATEGORIES:College
END:VEVENT
BEGIN:VEVENT
DTSTART;TZID=America/Chicago:20271205T180000
DTEND;TZID=America/Chicago:20271205T190000
DTSTAMP:20260424T130652
CREATED:20230608T165824Z
LAST-MODIFIED:20260417T164622Z
UID:10003636-1828029600-1828033200@fpcjackson.org
SUMMARY:Catechism Crew
DESCRIPTION:Sunday Night Classes for Kids \nFirst through Third grades \nDismissed from the Evening Worship Service
URL:https://fpcjackson.org/event/catechism-crew/2027-12-05/
LOCATION:FPC Jackson Campus\, 1390 North State Street\, Jackson\, MS\, 39202\, United States
CATEGORIES:Children
ATTACH;FMTTYPE=image/png:https://fpcjackson.org/wp-content/uploads/2023/06/Catechism-Crew-Logo.png
END:VEVENT
BEGIN:VEVENT
DTSTART;TZID=America/Chicago:20271205T180000
DTEND;TZID=America/Chicago:20271205T190000
DTSTAMP:20260424T130652
CREATED:20230608T170051Z
LAST-MODIFIED:20260417T164712Z
UID:10003899-1828029600-1828033200@fpcjackson.org
SUMMARY:Covenant Kids
DESCRIPTION:Sunday Night Classes for Kids \nAge 4 and 5 \nDismissed from the Evening Worship Service
URL:https://fpcjackson.org/event/covenant-kids/2027-12-05/
LOCATION:FPC Jackson Campus\, 1390 North State Street\, Jackson\, MS\, 39202\, United States
CATEGORIES:Children
ATTACH;FMTTYPE=image/png:https://fpcjackson.org/wp-content/uploads/2023/06/Covenant-Kids-Logo.png
END:VEVENT
BEGIN:VEVENT
DTSTART;TZID=America/Chicago:20271207T093000
DTEND;TZID=America/Chicago:20271207T113000
DTSTAMP:20260424T130652
CREATED:20240503T160655Z
LAST-MODIFIED:20260306T160242Z
UID:10007032-1828171800-1828179000@fpcjackson.org
SUMMARY:Sew & Sow
DESCRIPTION:Like to sew or want to learn? “Sew and Sow” meets on Tuesday mornings from 9:30-11 in Westminster Hall 302 at the church for fun\, sewing and service through the use of our God-granted sewing skills. We are open to all ladies who enjoy sewing or needlework. Recent and current projects include medical masks during Covid-19\, cradle roll blankets for our newborns\, Christmas stockings for the NICU units at Baptist Hospital \, wheel chair bags for Methodist Rehabilitation and pillow cases for Ruth’s Refuge”. A sewing camp is offered in the summer months on even years. Some of our Tuesdays are spent on personal projects or those projects you may need help with. Special talents are shared with different focuses for each year. A nursery is provided. \nContact:\nSharon Gatlin
URL:https://fpcjackson.org/event/sew-sow/2027-12-07/
LOCATION:FPC Jackson Campus\, 1390 North State Street\, Jackson\, MS\, 39202\, United States
CATEGORIES:Women
ATTACH;FMTTYPE=image/png:https://fpcjackson.org/wp-content/uploads/2024/05/Sew-and-Sow.png
END:VEVENT
BEGIN:VEVENT
DTSTART;TZID=America/Chicago:20271212T094500
DTEND;TZID=America/Chicago:20271212T103000
DTSTAMP:20260424T130652
CREATED:20220916T133244Z
LAST-MODIFIED:20260306T155654Z
UID:10001103-1828604700-1828607400@fpcjackson.org
SUMMARY:College Sunday School
DESCRIPTION:
URL:https://fpcjackson.org/event/college-sunday-school/2027-12-12/
LOCATION:FPC Jackson Campus\, 1390 North State Street\, Jackson\, MS\, 39202\, United States
CATEGORIES:College
END:VEVENT
BEGIN:VEVENT
DTSTART;TZID=America/Chicago:20271212T180000
DTEND;TZID=America/Chicago:20271212T190000
DTSTAMP:20260424T130652
CREATED:20230608T165824Z
LAST-MODIFIED:20260417T164622Z
UID:10003637-1828634400-1828638000@fpcjackson.org
SUMMARY:Catechism Crew
DESCRIPTION:Sunday Night Classes for Kids \nFirst through Third grades \nDismissed from the Evening Worship Service
URL:https://fpcjackson.org/event/catechism-crew/2027-12-12/
LOCATION:FPC Jackson Campus\, 1390 North State Street\, Jackson\, MS\, 39202\, United States
CATEGORIES:Children
ATTACH;FMTTYPE=image/png:https://fpcjackson.org/wp-content/uploads/2023/06/Catechism-Crew-Logo.png
END:VEVENT
BEGIN:VEVENT
DTSTART;TZID=America/Chicago:20271212T180000
DTEND;TZID=America/Chicago:20271212T190000
DTSTAMP:20260424T130652
CREATED:20230608T170051Z
LAST-MODIFIED:20260417T164712Z
UID:10003900-1828634400-1828638000@fpcjackson.org
SUMMARY:Covenant Kids
DESCRIPTION:Sunday Night Classes for Kids \nAge 4 and 5 \nDismissed from the Evening Worship Service
URL:https://fpcjackson.org/event/covenant-kids/2027-12-12/
LOCATION:FPC Jackson Campus\, 1390 North State Street\, Jackson\, MS\, 39202\, United States
CATEGORIES:Children
ATTACH;FMTTYPE=image/png:https://fpcjackson.org/wp-content/uploads/2023/06/Covenant-Kids-Logo.png
END:VEVENT
BEGIN:VEVENT
DTSTART;TZID=America/Chicago:20271213T103000
DTEND;TZID=America/Chicago:20271213T120000
DTSTAMP:20260424T130652
CREATED:20250602T172158Z
LAST-MODIFIED:20250602T172349Z
UID:10018087-1828693800-1828699200@fpcjackson.org
SUMMARY:Caregivers Support Group
DESCRIPTION:The Caregivers’ Support Group takes place every second Monday of the month in Westminster Hall 202B from 10:30 a.m.-12 p.m. The purpose of our Caregivers’ Ministry is to gather similarly situated caregivers who desire to learn\, share stories\, and grieve as we walk together through the valley of a loved one’s suffering with dementia and dementia-related illness. The meeting will provide a safe and friendly forum to talk with others who understand the toils of caregiving for the cognitively impaired. With questions\, please contact Ken Fairly at 601-941-5004.
URL:https://fpcjackson.org/event/caregivers-support-group-2-2/2027-12-13/
LOCATION:FPC Jackson Campus\, 1390 North State Street\, Jackson\, MS\, 39202\, United States
CATEGORIES:Care and Support,Senior Adults
ATTACH;FMTTYPE=application/pdf:https://fpcjackson.org/wp-content/uploads/2023/07/Caregivers-Support-Group-3.pdf
END:VEVENT
BEGIN:VEVENT
DTSTART;TZID=America/Chicago:20271214T093000
DTEND;TZID=America/Chicago:20271214T113000
DTSTAMP:20260424T130652
CREATED:20240503T160655Z
LAST-MODIFIED:20260306T160242Z
UID:10007033-1828776600-1828783800@fpcjackson.org
SUMMARY:Sew & Sow
DESCRIPTION:Like to sew or want to learn? “Sew and Sow” meets on Tuesday mornings from 9:30-11 in Westminster Hall 302 at the church for fun\, sewing and service through the use of our God-granted sewing skills. We are open to all ladies who enjoy sewing or needlework. Recent and current projects include medical masks during Covid-19\, cradle roll blankets for our newborns\, Christmas stockings for the NICU units at Baptist Hospital \, wheel chair bags for Methodist Rehabilitation and pillow cases for Ruth’s Refuge”. A sewing camp is offered in the summer months on even years. Some of our Tuesdays are spent on personal projects or those projects you may need help with. Special talents are shared with different focuses for each year. A nursery is provided. \nContact:\nSharon Gatlin
URL:https://fpcjackson.org/event/sew-sow/2027-12-14/
LOCATION:FPC Jackson Campus\, 1390 North State Street\, Jackson\, MS\, 39202\, United States
CATEGORIES:Women
ATTACH;FMTTYPE=image/png:https://fpcjackson.org/wp-content/uploads/2024/05/Sew-and-Sow.png
END:VEVENT
BEGIN:VEVENT
DTSTART;TZID=America/Chicago:20271219T094500
DTEND;TZID=America/Chicago:20271219T103000
DTSTAMP:20260424T130652
CREATED:20220916T133244Z
LAST-MODIFIED:20260306T155654Z
UID:10001104-1829209500-1829212200@fpcjackson.org
SUMMARY:College Sunday School
DESCRIPTION:
URL:https://fpcjackson.org/event/college-sunday-school/2027-12-19/
LOCATION:FPC Jackson Campus\, 1390 North State Street\, Jackson\, MS\, 39202\, United States
CATEGORIES:College
END:VEVENT
BEGIN:VEVENT
DTSTART;TZID=America/Chicago:20271219T180000
DTEND;TZID=America/Chicago:20271219T190000
DTSTAMP:20260424T130652
CREATED:20230608T165824Z
LAST-MODIFIED:20260417T164622Z
UID:10003638-1829239200-1829242800@fpcjackson.org
SUMMARY:Catechism Crew
DESCRIPTION:Sunday Night Classes for Kids \nFirst through Third grades \nDismissed from the Evening Worship Service
URL:https://fpcjackson.org/event/catechism-crew/2027-12-19/
LOCATION:FPC Jackson Campus\, 1390 North State Street\, Jackson\, MS\, 39202\, United States
CATEGORIES:Children
ATTACH;FMTTYPE=image/png:https://fpcjackson.org/wp-content/uploads/2023/06/Catechism-Crew-Logo.png
END:VEVENT
END:VCALENDAR