BEGIN:VCALENDAR
VERSION:2.0
PRODID:-//First Presbyterian Church - ECPv6.15.20//NONSGML v1.0//EN
CALSCALE:GREGORIAN
METHOD:PUBLISH
X-WR-CALNAME:First Presbyterian Church
X-ORIGINAL-URL:https://fpcjackson.org
X-WR-CALDESC:Events for First Presbyterian Church
REFRESH-INTERVAL;VALUE=DURATION:PT1H
X-Robots-Tag:noindex
X-PUBLISHED-TTL:PT1H
BEGIN:VTIMEZONE
TZID:America/Chicago
BEGIN:DAYLIGHT
TZOFFSETFROM:-0600
TZOFFSETTO:-0500
TZNAME:CDT
DTSTART:20260308T080000
END:DAYLIGHT
BEGIN:STANDARD
TZOFFSETFROM:-0500
TZOFFSETTO:-0600
TZNAME:CST
DTSTART:20261101T070000
END:STANDARD
BEGIN:DAYLIGHT
TZOFFSETFROM:-0600
TZOFFSETTO:-0500
TZNAME:CDT
DTSTART:20270314T080000
END:DAYLIGHT
BEGIN:STANDARD
TZOFFSETFROM:-0500
TZOFFSETTO:-0600
TZNAME:CST
DTSTART:20271107T070000
END:STANDARD
BEGIN:DAYLIGHT
TZOFFSETFROM:-0600
TZOFFSETTO:-0500
TZNAME:CDT
DTSTART:20280312T080000
END:DAYLIGHT
BEGIN:STANDARD
TZOFFSETFROM:-0500
TZOFFSETTO:-0600
TZNAME:CST
DTSTART:20281105T070000
END:STANDARD
END:VTIMEZONE
BEGIN:VEVENT
DTSTART;TZID=America/Chicago:20270620T180000
DTEND;TZID=America/Chicago:20270620T190000
DTSTAMP:20260423T040941
CREATED:20230608T170051Z
LAST-MODIFIED:20260417T164712Z
UID:10003875-1813514400-1813518000@fpcjackson.org
SUMMARY:Covenant Kids
DESCRIPTION:Sunday Night Classes for Kids \nAge 4 and 5 \nDismissed from the Evening Worship Service
URL:https://fpcjackson.org/event/covenant-kids/2027-06-20/
LOCATION:FPC Jackson Campus\, 1390 North State Street\, Jackson\, MS\, 39202\, United States
CATEGORIES:Children
ATTACH;FMTTYPE=image/png:https://fpcjackson.org/wp-content/uploads/2023/06/Covenant-Kids-Logo.png
END:VEVENT
BEGIN:VEVENT
DTSTART;TZID=America/Chicago:20270622T093000
DTEND;TZID=America/Chicago:20270622T113000
DTSTAMP:20260423T040941
CREATED:20240503T160655Z
LAST-MODIFIED:20260306T160242Z
UID:10007008-1813656600-1813663800@fpcjackson.org
SUMMARY:Sew & Sow
DESCRIPTION:Like to sew or want to learn? “Sew and Sow” meets on Tuesday mornings from 9:30-11 in Westminster Hall 302 at the church for fun\, sewing and service through the use of our God-granted sewing skills. We are open to all ladies who enjoy sewing or needlework. Recent and current projects include medical masks during Covid-19\, cradle roll blankets for our newborns\, Christmas stockings for the NICU units at Baptist Hospital \, wheel chair bags for Methodist Rehabilitation and pillow cases for Ruth’s Refuge”. A sewing camp is offered in the summer months on even years. Some of our Tuesdays are spent on personal projects or those projects you may need help with. Special talents are shared with different focuses for each year. A nursery is provided. \nContact:\nSharon Gatlin
URL:https://fpcjackson.org/event/sew-sow/2027-06-22/
LOCATION:FPC Jackson Campus\, 1390 North State Street\, Jackson\, MS\, 39202\, United States
CATEGORIES:Women
ATTACH;FMTTYPE=image/png:https://fpcjackson.org/wp-content/uploads/2024/05/Sew-and-Sow.png
END:VEVENT
BEGIN:VEVENT
DTSTART;TZID=America/Chicago:20270627T094500
DTEND;TZID=America/Chicago:20270627T103000
DTSTAMP:20260423T040941
CREATED:20220916T133244Z
LAST-MODIFIED:20260306T155654Z
UID:10001079-1814089500-1814092200@fpcjackson.org
SUMMARY:College Sunday School
DESCRIPTION:
URL:https://fpcjackson.org/event/college-sunday-school/2027-06-27/
LOCATION:FPC Jackson Campus\, 1390 North State Street\, Jackson\, MS\, 39202\, United States
CATEGORIES:College
END:VEVENT
BEGIN:VEVENT
DTSTART;TZID=America/Chicago:20270627T180000
DTEND;TZID=America/Chicago:20270627T190000
DTSTAMP:20260423T040941
CREATED:20230608T165824Z
LAST-MODIFIED:20260417T164622Z
UID:10003613-1814119200-1814122800@fpcjackson.org
SUMMARY:Catechism Crew
DESCRIPTION:Sunday Night Classes for Kids \nFirst through Third grades \nDismissed from the Evening Worship Service
URL:https://fpcjackson.org/event/catechism-crew/2027-06-27/
LOCATION:FPC Jackson Campus\, 1390 North State Street\, Jackson\, MS\, 39202\, United States
CATEGORIES:Children
ATTACH;FMTTYPE=image/png:https://fpcjackson.org/wp-content/uploads/2023/06/Catechism-Crew-Logo.png
END:VEVENT
BEGIN:VEVENT
DTSTART;TZID=America/Chicago:20270627T180000
DTEND;TZID=America/Chicago:20270627T190000
DTSTAMP:20260423T040941
CREATED:20230608T170051Z
LAST-MODIFIED:20260417T164712Z
UID:10003876-1814119200-1814122800@fpcjackson.org
SUMMARY:Covenant Kids
DESCRIPTION:Sunday Night Classes for Kids \nAge 4 and 5 \nDismissed from the Evening Worship Service
URL:https://fpcjackson.org/event/covenant-kids/2027-06-27/
LOCATION:FPC Jackson Campus\, 1390 North State Street\, Jackson\, MS\, 39202\, United States
CATEGORIES:Children
ATTACH;FMTTYPE=image/png:https://fpcjackson.org/wp-content/uploads/2023/06/Covenant-Kids-Logo.png
END:VEVENT
BEGIN:VEVENT
DTSTART;TZID=America/Chicago:20270629T093000
DTEND;TZID=America/Chicago:20270629T113000
DTSTAMP:20260423T040941
CREATED:20240503T160655Z
LAST-MODIFIED:20260306T160242Z
UID:10007009-1814261400-1814268600@fpcjackson.org
SUMMARY:Sew & Sow
DESCRIPTION:Like to sew or want to learn? “Sew and Sow” meets on Tuesday mornings from 9:30-11 in Westminster Hall 302 at the church for fun\, sewing and service through the use of our God-granted sewing skills. We are open to all ladies who enjoy sewing or needlework. Recent and current projects include medical masks during Covid-19\, cradle roll blankets for our newborns\, Christmas stockings for the NICU units at Baptist Hospital \, wheel chair bags for Methodist Rehabilitation and pillow cases for Ruth’s Refuge”. A sewing camp is offered in the summer months on even years. Some of our Tuesdays are spent on personal projects or those projects you may need help with. Special talents are shared with different focuses for each year. A nursery is provided. \nContact:\nSharon Gatlin
URL:https://fpcjackson.org/event/sew-sow/2027-06-29/
LOCATION:FPC Jackson Campus\, 1390 North State Street\, Jackson\, MS\, 39202\, United States
CATEGORIES:Women
ATTACH;FMTTYPE=image/png:https://fpcjackson.org/wp-content/uploads/2024/05/Sew-and-Sow.png
END:VEVENT
BEGIN:VEVENT
DTSTART;TZID=America/Chicago:20270704T094500
DTEND;TZID=America/Chicago:20270704T103000
DTSTAMP:20260423T040941
CREATED:20220916T133244Z
LAST-MODIFIED:20260306T155654Z
UID:10001080-1814694300-1814697000@fpcjackson.org
SUMMARY:College Sunday School
DESCRIPTION:
URL:https://fpcjackson.org/event/college-sunday-school/2027-07-04/
LOCATION:FPC Jackson Campus\, 1390 North State Street\, Jackson\, MS\, 39202\, United States
CATEGORIES:College
END:VEVENT
BEGIN:VEVENT
DTSTART;TZID=America/Chicago:20270704T180000
DTEND;TZID=America/Chicago:20270704T190000
DTSTAMP:20260423T040941
CREATED:20230608T165824Z
LAST-MODIFIED:20260417T164622Z
UID:10003614-1814724000-1814727600@fpcjackson.org
SUMMARY:Catechism Crew
DESCRIPTION:Sunday Night Classes for Kids \nFirst through Third grades \nDismissed from the Evening Worship Service
URL:https://fpcjackson.org/event/catechism-crew/2027-07-04/
LOCATION:FPC Jackson Campus\, 1390 North State Street\, Jackson\, MS\, 39202\, United States
CATEGORIES:Children
ATTACH;FMTTYPE=image/png:https://fpcjackson.org/wp-content/uploads/2023/06/Catechism-Crew-Logo.png
END:VEVENT
BEGIN:VEVENT
DTSTART;TZID=America/Chicago:20270704T180000
DTEND;TZID=America/Chicago:20270704T190000
DTSTAMP:20260423T040941
CREATED:20230608T170051Z
LAST-MODIFIED:20260417T164712Z
UID:10003877-1814724000-1814727600@fpcjackson.org
SUMMARY:Covenant Kids
DESCRIPTION:Sunday Night Classes for Kids \nAge 4 and 5 \nDismissed from the Evening Worship Service
URL:https://fpcjackson.org/event/covenant-kids/2027-07-04/
LOCATION:FPC Jackson Campus\, 1390 North State Street\, Jackson\, MS\, 39202\, United States
CATEGORIES:Children
ATTACH;FMTTYPE=image/png:https://fpcjackson.org/wp-content/uploads/2023/06/Covenant-Kids-Logo.png
END:VEVENT
BEGIN:VEVENT
DTSTART;TZID=America/Chicago:20270706T093000
DTEND;TZID=America/Chicago:20270706T113000
DTSTAMP:20260423T040941
CREATED:20240503T160655Z
LAST-MODIFIED:20260306T160242Z
UID:10007010-1814866200-1814873400@fpcjackson.org
SUMMARY:Sew & Sow
DESCRIPTION:Like to sew or want to learn? “Sew and Sow” meets on Tuesday mornings from 9:30-11 in Westminster Hall 302 at the church for fun\, sewing and service through the use of our God-granted sewing skills. We are open to all ladies who enjoy sewing or needlework. Recent and current projects include medical masks during Covid-19\, cradle roll blankets for our newborns\, Christmas stockings for the NICU units at Baptist Hospital \, wheel chair bags for Methodist Rehabilitation and pillow cases for Ruth’s Refuge”. A sewing camp is offered in the summer months on even years. Some of our Tuesdays are spent on personal projects or those projects you may need help with. Special talents are shared with different focuses for each year. A nursery is provided. \nContact:\nSharon Gatlin
URL:https://fpcjackson.org/event/sew-sow/2027-07-06/
LOCATION:FPC Jackson Campus\, 1390 North State Street\, Jackson\, MS\, 39202\, United States
CATEGORIES:Women
ATTACH;FMTTYPE=image/png:https://fpcjackson.org/wp-content/uploads/2024/05/Sew-and-Sow.png
END:VEVENT
BEGIN:VEVENT
DTSTART;TZID=America/Chicago:20270711T094500
DTEND;TZID=America/Chicago:20270711T103000
DTSTAMP:20260423T040941
CREATED:20220916T133244Z
LAST-MODIFIED:20260306T155654Z
UID:10001081-1815299100-1815301800@fpcjackson.org
SUMMARY:College Sunday School
DESCRIPTION:
URL:https://fpcjackson.org/event/college-sunday-school/2027-07-11/
LOCATION:FPC Jackson Campus\, 1390 North State Street\, Jackson\, MS\, 39202\, United States
CATEGORIES:College
END:VEVENT
BEGIN:VEVENT
DTSTART;TZID=America/Chicago:20270711T180000
DTEND;TZID=America/Chicago:20270711T190000
DTSTAMP:20260423T040941
CREATED:20230608T165824Z
LAST-MODIFIED:20260417T164622Z
UID:10003615-1815328800-1815332400@fpcjackson.org
SUMMARY:Catechism Crew
DESCRIPTION:Sunday Night Classes for Kids \nFirst through Third grades \nDismissed from the Evening Worship Service
URL:https://fpcjackson.org/event/catechism-crew/2027-07-11/
LOCATION:FPC Jackson Campus\, 1390 North State Street\, Jackson\, MS\, 39202\, United States
CATEGORIES:Children
ATTACH;FMTTYPE=image/png:https://fpcjackson.org/wp-content/uploads/2023/06/Catechism-Crew-Logo.png
END:VEVENT
BEGIN:VEVENT
DTSTART;TZID=America/Chicago:20270711T180000
DTEND;TZID=America/Chicago:20270711T190000
DTSTAMP:20260423T040941
CREATED:20230608T170051Z
LAST-MODIFIED:20260417T164712Z
UID:10003878-1815328800-1815332400@fpcjackson.org
SUMMARY:Covenant Kids
DESCRIPTION:Sunday Night Classes for Kids \nAge 4 and 5 \nDismissed from the Evening Worship Service
URL:https://fpcjackson.org/event/covenant-kids/2027-07-11/
LOCATION:FPC Jackson Campus\, 1390 North State Street\, Jackson\, MS\, 39202\, United States
CATEGORIES:Children
ATTACH;FMTTYPE=image/png:https://fpcjackson.org/wp-content/uploads/2023/06/Covenant-Kids-Logo.png
END:VEVENT
BEGIN:VEVENT
DTSTART;TZID=America/Chicago:20270712T103000
DTEND;TZID=America/Chicago:20270712T120000
DTSTAMP:20260423T040941
CREATED:20250602T172158Z
LAST-MODIFIED:20250602T172349Z
UID:10018082-1815388200-1815393600@fpcjackson.org
SUMMARY:Caregivers Support Group
DESCRIPTION:The Caregivers’ Support Group takes place every second Monday of the month in Westminster Hall 202B from 10:30 a.m.-12 p.m. The purpose of our Caregivers’ Ministry is to gather similarly situated caregivers who desire to learn\, share stories\, and grieve as we walk together through the valley of a loved one’s suffering with dementia and dementia-related illness. The meeting will provide a safe and friendly forum to talk with others who understand the toils of caregiving for the cognitively impaired. With questions\, please contact Ken Fairly at 601-941-5004.
URL:https://fpcjackson.org/event/caregivers-support-group-2-2/2027-07-12/
LOCATION:FPC Jackson Campus\, 1390 North State Street\, Jackson\, MS\, 39202\, United States
CATEGORIES:Care and Support,Senior Adults
ATTACH;FMTTYPE=application/pdf:https://fpcjackson.org/wp-content/uploads/2023/07/Caregivers-Support-Group-3.pdf
END:VEVENT
BEGIN:VEVENT
DTSTART;TZID=America/Chicago:20270713T093000
DTEND;TZID=America/Chicago:20270713T113000
DTSTAMP:20260423T040941
CREATED:20240503T160655Z
LAST-MODIFIED:20260306T160242Z
UID:10007011-1815471000-1815478200@fpcjackson.org
SUMMARY:Sew & Sow
DESCRIPTION:Like to sew or want to learn? “Sew and Sow” meets on Tuesday mornings from 9:30-11 in Westminster Hall 302 at the church for fun\, sewing and service through the use of our God-granted sewing skills. We are open to all ladies who enjoy sewing or needlework. Recent and current projects include medical masks during Covid-19\, cradle roll blankets for our newborns\, Christmas stockings for the NICU units at Baptist Hospital \, wheel chair bags for Methodist Rehabilitation and pillow cases for Ruth’s Refuge”. A sewing camp is offered in the summer months on even years. Some of our Tuesdays are spent on personal projects or those projects you may need help with. Special talents are shared with different focuses for each year. A nursery is provided. \nContact:\nSharon Gatlin
URL:https://fpcjackson.org/event/sew-sow/2027-07-13/
LOCATION:FPC Jackson Campus\, 1390 North State Street\, Jackson\, MS\, 39202\, United States
CATEGORIES:Women
ATTACH;FMTTYPE=image/png:https://fpcjackson.org/wp-content/uploads/2024/05/Sew-and-Sow.png
END:VEVENT
BEGIN:VEVENT
DTSTART;TZID=America/Chicago:20270718T094500
DTEND;TZID=America/Chicago:20270718T103000
DTSTAMP:20260423T040941
CREATED:20220916T133244Z
LAST-MODIFIED:20260306T155654Z
UID:10001082-1815903900-1815906600@fpcjackson.org
SUMMARY:College Sunday School
DESCRIPTION:
URL:https://fpcjackson.org/event/college-sunday-school/2027-07-18/
LOCATION:FPC Jackson Campus\, 1390 North State Street\, Jackson\, MS\, 39202\, United States
CATEGORIES:College
END:VEVENT
BEGIN:VEVENT
DTSTART;TZID=America/Chicago:20270718T180000
DTEND;TZID=America/Chicago:20270718T190000
DTSTAMP:20260423T040941
CREATED:20230608T165824Z
LAST-MODIFIED:20260417T164622Z
UID:10003616-1815933600-1815937200@fpcjackson.org
SUMMARY:Catechism Crew
DESCRIPTION:Sunday Night Classes for Kids \nFirst through Third grades \nDismissed from the Evening Worship Service
URL:https://fpcjackson.org/event/catechism-crew/2027-07-18/
LOCATION:FPC Jackson Campus\, 1390 North State Street\, Jackson\, MS\, 39202\, United States
CATEGORIES:Children
ATTACH;FMTTYPE=image/png:https://fpcjackson.org/wp-content/uploads/2023/06/Catechism-Crew-Logo.png
END:VEVENT
BEGIN:VEVENT
DTSTART;TZID=America/Chicago:20270718T180000
DTEND;TZID=America/Chicago:20270718T190000
DTSTAMP:20260423T040941
CREATED:20230608T170051Z
LAST-MODIFIED:20260417T164712Z
UID:10003879-1815933600-1815937200@fpcjackson.org
SUMMARY:Covenant Kids
DESCRIPTION:Sunday Night Classes for Kids \nAge 4 and 5 \nDismissed from the Evening Worship Service
URL:https://fpcjackson.org/event/covenant-kids/2027-07-18/
LOCATION:FPC Jackson Campus\, 1390 North State Street\, Jackson\, MS\, 39202\, United States
CATEGORIES:Children
ATTACH;FMTTYPE=image/png:https://fpcjackson.org/wp-content/uploads/2023/06/Covenant-Kids-Logo.png
END:VEVENT
BEGIN:VEVENT
DTSTART;TZID=America/Chicago:20270720T093000
DTEND;TZID=America/Chicago:20270720T113000
DTSTAMP:20260423T040941
CREATED:20240503T160655Z
LAST-MODIFIED:20260306T160242Z
UID:10007012-1816075800-1816083000@fpcjackson.org
SUMMARY:Sew & Sow
DESCRIPTION:Like to sew or want to learn? “Sew and Sow” meets on Tuesday mornings from 9:30-11 in Westminster Hall 302 at the church for fun\, sewing and service through the use of our God-granted sewing skills. We are open to all ladies who enjoy sewing or needlework. Recent and current projects include medical masks during Covid-19\, cradle roll blankets for our newborns\, Christmas stockings for the NICU units at Baptist Hospital \, wheel chair bags for Methodist Rehabilitation and pillow cases for Ruth’s Refuge”. A sewing camp is offered in the summer months on even years. Some of our Tuesdays are spent on personal projects or those projects you may need help with. Special talents are shared with different focuses for each year. A nursery is provided. \nContact:\nSharon Gatlin
URL:https://fpcjackson.org/event/sew-sow/2027-07-20/
LOCATION:FPC Jackson Campus\, 1390 North State Street\, Jackson\, MS\, 39202\, United States
CATEGORIES:Women
ATTACH;FMTTYPE=image/png:https://fpcjackson.org/wp-content/uploads/2024/05/Sew-and-Sow.png
END:VEVENT
BEGIN:VEVENT
DTSTART;TZID=America/Chicago:20270725T094500
DTEND;TZID=America/Chicago:20270725T103000
DTSTAMP:20260423T040941
CREATED:20220916T133244Z
LAST-MODIFIED:20260306T155654Z
UID:10001083-1816508700-1816511400@fpcjackson.org
SUMMARY:College Sunday School
DESCRIPTION:
URL:https://fpcjackson.org/event/college-sunday-school/2027-07-25/
LOCATION:FPC Jackson Campus\, 1390 North State Street\, Jackson\, MS\, 39202\, United States
CATEGORIES:College
END:VEVENT
BEGIN:VEVENT
DTSTART;TZID=America/Chicago:20270725T180000
DTEND;TZID=America/Chicago:20270725T190000
DTSTAMP:20260423T040941
CREATED:20230608T165824Z
LAST-MODIFIED:20260417T164622Z
UID:10003617-1816538400-1816542000@fpcjackson.org
SUMMARY:Catechism Crew
DESCRIPTION:Sunday Night Classes for Kids \nFirst through Third grades \nDismissed from the Evening Worship Service
URL:https://fpcjackson.org/event/catechism-crew/2027-07-25/
LOCATION:FPC Jackson Campus\, 1390 North State Street\, Jackson\, MS\, 39202\, United States
CATEGORIES:Children
ATTACH;FMTTYPE=image/png:https://fpcjackson.org/wp-content/uploads/2023/06/Catechism-Crew-Logo.png
END:VEVENT
BEGIN:VEVENT
DTSTART;TZID=America/Chicago:20270725T180000
DTEND;TZID=America/Chicago:20270725T190000
DTSTAMP:20260423T040941
CREATED:20230608T170051Z
LAST-MODIFIED:20260417T164712Z
UID:10003880-1816538400-1816542000@fpcjackson.org
SUMMARY:Covenant Kids
DESCRIPTION:Sunday Night Classes for Kids \nAge 4 and 5 \nDismissed from the Evening Worship Service
URL:https://fpcjackson.org/event/covenant-kids/2027-07-25/
LOCATION:FPC Jackson Campus\, 1390 North State Street\, Jackson\, MS\, 39202\, United States
CATEGORIES:Children
ATTACH;FMTTYPE=image/png:https://fpcjackson.org/wp-content/uploads/2023/06/Covenant-Kids-Logo.png
END:VEVENT
BEGIN:VEVENT
DTSTART;TZID=America/Chicago:20270727T093000
DTEND;TZID=America/Chicago:20270727T113000
DTSTAMP:20260423T040941
CREATED:20240503T160655Z
LAST-MODIFIED:20260306T160242Z
UID:10007013-1816680600-1816687800@fpcjackson.org
SUMMARY:Sew & Sow
DESCRIPTION:Like to sew or want to learn? “Sew and Sow” meets on Tuesday mornings from 9:30-11 in Westminster Hall 302 at the church for fun\, sewing and service through the use of our God-granted sewing skills. We are open to all ladies who enjoy sewing or needlework. Recent and current projects include medical masks during Covid-19\, cradle roll blankets for our newborns\, Christmas stockings for the NICU units at Baptist Hospital \, wheel chair bags for Methodist Rehabilitation and pillow cases for Ruth’s Refuge”. A sewing camp is offered in the summer months on even years. Some of our Tuesdays are spent on personal projects or those projects you may need help with. Special talents are shared with different focuses for each year. A nursery is provided. \nContact:\nSharon Gatlin
URL:https://fpcjackson.org/event/sew-sow/2027-07-27/
LOCATION:FPC Jackson Campus\, 1390 North State Street\, Jackson\, MS\, 39202\, United States
CATEGORIES:Women
ATTACH;FMTTYPE=image/png:https://fpcjackson.org/wp-content/uploads/2024/05/Sew-and-Sow.png
END:VEVENT
BEGIN:VEVENT
DTSTART;TZID=America/Chicago:20270801T094500
DTEND;TZID=America/Chicago:20270801T103000
DTSTAMP:20260423T040941
CREATED:20220916T133244Z
LAST-MODIFIED:20260306T155654Z
UID:10001084-1817113500-1817116200@fpcjackson.org
SUMMARY:College Sunday School
DESCRIPTION:
URL:https://fpcjackson.org/event/college-sunday-school/2027-08-01/
LOCATION:FPC Jackson Campus\, 1390 North State Street\, Jackson\, MS\, 39202\, United States
CATEGORIES:College
END:VEVENT
BEGIN:VEVENT
DTSTART;TZID=America/Chicago:20270801T180000
DTEND;TZID=America/Chicago:20270801T190000
DTSTAMP:20260423T040941
CREATED:20230608T165824Z
LAST-MODIFIED:20260417T164622Z
UID:10003618-1817143200-1817146800@fpcjackson.org
SUMMARY:Catechism Crew
DESCRIPTION:Sunday Night Classes for Kids \nFirst through Third grades \nDismissed from the Evening Worship Service
URL:https://fpcjackson.org/event/catechism-crew/2027-08-01/
LOCATION:FPC Jackson Campus\, 1390 North State Street\, Jackson\, MS\, 39202\, United States
CATEGORIES:Children
ATTACH;FMTTYPE=image/png:https://fpcjackson.org/wp-content/uploads/2023/06/Catechism-Crew-Logo.png
END:VEVENT
BEGIN:VEVENT
DTSTART;TZID=America/Chicago:20270801T180000
DTEND;TZID=America/Chicago:20270801T190000
DTSTAMP:20260423T040941
CREATED:20230608T170051Z
LAST-MODIFIED:20260417T164712Z
UID:10003881-1817143200-1817146800@fpcjackson.org
SUMMARY:Covenant Kids
DESCRIPTION:Sunday Night Classes for Kids \nAge 4 and 5 \nDismissed from the Evening Worship Service
URL:https://fpcjackson.org/event/covenant-kids/2027-08-01/
LOCATION:FPC Jackson Campus\, 1390 North State Street\, Jackson\, MS\, 39202\, United States
CATEGORIES:Children
ATTACH;FMTTYPE=image/png:https://fpcjackson.org/wp-content/uploads/2023/06/Covenant-Kids-Logo.png
END:VEVENT
BEGIN:VEVENT
DTSTART;TZID=America/Chicago:20270803T093000
DTEND;TZID=America/Chicago:20270803T113000
DTSTAMP:20260423T040941
CREATED:20240503T160655Z
LAST-MODIFIED:20260306T160242Z
UID:10007014-1817285400-1817292600@fpcjackson.org
SUMMARY:Sew & Sow
DESCRIPTION:Like to sew or want to learn? “Sew and Sow” meets on Tuesday mornings from 9:30-11 in Westminster Hall 302 at the church for fun\, sewing and service through the use of our God-granted sewing skills. We are open to all ladies who enjoy sewing or needlework. Recent and current projects include medical masks during Covid-19\, cradle roll blankets for our newborns\, Christmas stockings for the NICU units at Baptist Hospital \, wheel chair bags for Methodist Rehabilitation and pillow cases for Ruth’s Refuge”. A sewing camp is offered in the summer months on even years. Some of our Tuesdays are spent on personal projects or those projects you may need help with. Special talents are shared with different focuses for each year. A nursery is provided. \nContact:\nSharon Gatlin
URL:https://fpcjackson.org/event/sew-sow/2027-08-03/
LOCATION:FPC Jackson Campus\, 1390 North State Street\, Jackson\, MS\, 39202\, United States
CATEGORIES:Women
ATTACH;FMTTYPE=image/png:https://fpcjackson.org/wp-content/uploads/2024/05/Sew-and-Sow.png
END:VEVENT
BEGIN:VEVENT
DTSTART;TZID=America/Chicago:20270808T094500
DTEND;TZID=America/Chicago:20270808T103000
DTSTAMP:20260423T040941
CREATED:20220916T133244Z
LAST-MODIFIED:20260306T155654Z
UID:10001085-1817718300-1817721000@fpcjackson.org
SUMMARY:College Sunday School
DESCRIPTION:
URL:https://fpcjackson.org/event/college-sunday-school/2027-08-08/
LOCATION:FPC Jackson Campus\, 1390 North State Street\, Jackson\, MS\, 39202\, United States
CATEGORIES:College
END:VEVENT
BEGIN:VEVENT
DTSTART;TZID=America/Chicago:20270808T180000
DTEND;TZID=America/Chicago:20270808T190000
DTSTAMP:20260423T040941
CREATED:20230608T165824Z
LAST-MODIFIED:20260417T164622Z
UID:10003619-1817748000-1817751600@fpcjackson.org
SUMMARY:Catechism Crew
DESCRIPTION:Sunday Night Classes for Kids \nFirst through Third grades \nDismissed from the Evening Worship Service
URL:https://fpcjackson.org/event/catechism-crew/2027-08-08/
LOCATION:FPC Jackson Campus\, 1390 North State Street\, Jackson\, MS\, 39202\, United States
CATEGORIES:Children
ATTACH;FMTTYPE=image/png:https://fpcjackson.org/wp-content/uploads/2023/06/Catechism-Crew-Logo.png
END:VEVENT
BEGIN:VEVENT
DTSTART;TZID=America/Chicago:20270808T180000
DTEND;TZID=America/Chicago:20270808T190000
DTSTAMP:20260423T040941
CREATED:20230608T170051Z
LAST-MODIFIED:20260417T164712Z
UID:10003882-1817748000-1817751600@fpcjackson.org
SUMMARY:Covenant Kids
DESCRIPTION:Sunday Night Classes for Kids \nAge 4 and 5 \nDismissed from the Evening Worship Service
URL:https://fpcjackson.org/event/covenant-kids/2027-08-08/
LOCATION:FPC Jackson Campus\, 1390 North State Street\, Jackson\, MS\, 39202\, United States
CATEGORIES:Children
ATTACH;FMTTYPE=image/png:https://fpcjackson.org/wp-content/uploads/2023/06/Covenant-Kids-Logo.png
END:VEVENT
END:VCALENDAR