BEGIN:VCALENDAR
VERSION:2.0
PRODID:-//First Presbyterian Church - ECPv6.15.20//NONSGML v1.0//EN
CALSCALE:GREGORIAN
METHOD:PUBLISH
X-WR-CALNAME:First Presbyterian Church
X-ORIGINAL-URL:https://fpcjackson.org
X-WR-CALDESC:Events for First Presbyterian Church
REFRESH-INTERVAL;VALUE=DURATION:PT1H
X-Robots-Tag:noindex
X-PUBLISHED-TTL:PT1H
BEGIN:VTIMEZONE
TZID:America/Chicago
BEGIN:DAYLIGHT
TZOFFSETFROM:-0600
TZOFFSETTO:-0500
TZNAME:CDT
DTSTART:20260308T080000
END:DAYLIGHT
BEGIN:STANDARD
TZOFFSETFROM:-0500
TZOFFSETTO:-0600
TZNAME:CST
DTSTART:20261101T070000
END:STANDARD
BEGIN:DAYLIGHT
TZOFFSETFROM:-0600
TZOFFSETTO:-0500
TZNAME:CDT
DTSTART:20270314T080000
END:DAYLIGHT
BEGIN:STANDARD
TZOFFSETFROM:-0500
TZOFFSETTO:-0600
TZNAME:CST
DTSTART:20271107T070000
END:STANDARD
BEGIN:DAYLIGHT
TZOFFSETFROM:-0600
TZOFFSETTO:-0500
TZNAME:CDT
DTSTART:20280312T080000
END:DAYLIGHT
BEGIN:STANDARD
TZOFFSETFROM:-0500
TZOFFSETTO:-0600
TZNAME:CST
DTSTART:20281105T070000
END:STANDARD
END:VTIMEZONE
BEGIN:VEVENT
DTSTART;TZID=America/Chicago:20270105T093000
DTEND;TZID=America/Chicago:20270105T113000
DTSTAMP:20260422T132638
CREATED:20240503T160655Z
LAST-MODIFIED:20260306T160242Z
UID:10006984-1799141400-1799148600@fpcjackson.org
SUMMARY:Sew & Sow
DESCRIPTION:Like to sew or want to learn? “Sew and Sow” meets on Tuesday mornings from 9:30-11 in Westminster Hall 302 at the church for fun\, sewing and service through the use of our God-granted sewing skills. We are open to all ladies who enjoy sewing or needlework. Recent and current projects include medical masks during Covid-19\, cradle roll blankets for our newborns\, Christmas stockings for the NICU units at Baptist Hospital \, wheel chair bags for Methodist Rehabilitation and pillow cases for Ruth’s Refuge”. A sewing camp is offered in the summer months on even years. Some of our Tuesdays are spent on personal projects or those projects you may need help with. Special talents are shared with different focuses for each year. A nursery is provided. \nContact:\nSharon Gatlin
URL:https://fpcjackson.org/event/sew-sow/2027-01-05/
LOCATION:FPC Jackson Campus\, 1390 North State Street\, Jackson\, MS\, 39202\, United States
CATEGORIES:Women
ATTACH;FMTTYPE=image/png:https://fpcjackson.org/wp-content/uploads/2024/05/Sew-and-Sow.png
END:VEVENT
BEGIN:VEVENT
DTSTART;TZID=America/Chicago:20270110T094500
DTEND;TZID=America/Chicago:20270110T103000
DTSTAMP:20260422T132638
CREATED:20220916T133244Z
LAST-MODIFIED:20260306T155654Z
UID:10001055-1799574300-1799577000@fpcjackson.org
SUMMARY:College Sunday School
DESCRIPTION:
URL:https://fpcjackson.org/event/college-sunday-school/2027-01-10/
LOCATION:FPC Jackson Campus\, 1390 North State Street\, Jackson\, MS\, 39202\, United States
CATEGORIES:College
END:VEVENT
BEGIN:VEVENT
DTSTART;TZID=America/Chicago:20270110T180000
DTEND;TZID=America/Chicago:20270110T190000
DTSTAMP:20260422T132638
CREATED:20230608T165824Z
LAST-MODIFIED:20260417T164622Z
UID:10003589-1799604000-1799607600@fpcjackson.org
SUMMARY:Catechism Crew
DESCRIPTION:Sunday Night Classes for Kids \nFirst through Third grades \nDismissed from the Evening Worship Service
URL:https://fpcjackson.org/event/catechism-crew/2027-01-10/
LOCATION:FPC Jackson Campus\, 1390 North State Street\, Jackson\, MS\, 39202\, United States
CATEGORIES:Children
ATTACH;FMTTYPE=image/png:https://fpcjackson.org/wp-content/uploads/2023/06/Catechism-Crew-Logo.png
END:VEVENT
BEGIN:VEVENT
DTSTART;TZID=America/Chicago:20270110T180000
DTEND;TZID=America/Chicago:20270110T190000
DTSTAMP:20260422T132638
CREATED:20230608T170051Z
LAST-MODIFIED:20260417T164712Z
UID:10003852-1799604000-1799607600@fpcjackson.org
SUMMARY:Covenant Kids
DESCRIPTION:Sunday Night Classes for Kids \nAge 4 and 5 \nDismissed from the Evening Worship Service
URL:https://fpcjackson.org/event/covenant-kids/2027-01-10/
LOCATION:FPC Jackson Campus\, 1390 North State Street\, Jackson\, MS\, 39202\, United States
CATEGORIES:Children
ATTACH;FMTTYPE=image/png:https://fpcjackson.org/wp-content/uploads/2023/06/Covenant-Kids-Logo.png
END:VEVENT
BEGIN:VEVENT
DTSTART;TZID=America/Chicago:20270111T103000
DTEND;TZID=America/Chicago:20270111T120000
DTSTAMP:20260422T132638
CREATED:20250602T172158Z
LAST-MODIFIED:20250602T172349Z
UID:10018076-1799663400-1799668800@fpcjackson.org
SUMMARY:Caregivers Support Group
DESCRIPTION:The Caregivers’ Support Group takes place every second Monday of the month in Westminster Hall 202B from 10:30 a.m.-12 p.m. The purpose of our Caregivers’ Ministry is to gather similarly situated caregivers who desire to learn\, share stories\, and grieve as we walk together through the valley of a loved one’s suffering with dementia and dementia-related illness. The meeting will provide a safe and friendly forum to talk with others who understand the toils of caregiving for the cognitively impaired. With questions\, please contact Ken Fairly at 601-941-5004.
URL:https://fpcjackson.org/event/caregivers-support-group-2-2/2027-01-11/
LOCATION:FPC Jackson Campus\, 1390 North State Street\, Jackson\, MS\, 39202\, United States
CATEGORIES:Care and Support,Senior Adults
ATTACH;FMTTYPE=application/pdf:https://fpcjackson.org/wp-content/uploads/2023/07/Caregivers-Support-Group-3.pdf
END:VEVENT
BEGIN:VEVENT
DTSTART;TZID=America/Chicago:20270112T093000
DTEND;TZID=America/Chicago:20270112T113000
DTSTAMP:20260422T132638
CREATED:20240503T160655Z
LAST-MODIFIED:20260306T160242Z
UID:10006985-1799746200-1799753400@fpcjackson.org
SUMMARY:Sew & Sow
DESCRIPTION:Like to sew or want to learn? “Sew and Sow” meets on Tuesday mornings from 9:30-11 in Westminster Hall 302 at the church for fun\, sewing and service through the use of our God-granted sewing skills. We are open to all ladies who enjoy sewing or needlework. Recent and current projects include medical masks during Covid-19\, cradle roll blankets for our newborns\, Christmas stockings for the NICU units at Baptist Hospital \, wheel chair bags for Methodist Rehabilitation and pillow cases for Ruth’s Refuge”. A sewing camp is offered in the summer months on even years. Some of our Tuesdays are spent on personal projects or those projects you may need help with. Special talents are shared with different focuses for each year. A nursery is provided. \nContact:\nSharon Gatlin
URL:https://fpcjackson.org/event/sew-sow/2027-01-12/
LOCATION:FPC Jackson Campus\, 1390 North State Street\, Jackson\, MS\, 39202\, United States
CATEGORIES:Women
ATTACH;FMTTYPE=image/png:https://fpcjackson.org/wp-content/uploads/2024/05/Sew-and-Sow.png
END:VEVENT
BEGIN:VEVENT
DTSTART;TZID=America/Chicago:20270117T094500
DTEND;TZID=America/Chicago:20270117T103000
DTSTAMP:20260422T132638
CREATED:20220916T133244Z
LAST-MODIFIED:20260306T155654Z
UID:10001056-1800179100-1800181800@fpcjackson.org
SUMMARY:College Sunday School
DESCRIPTION:
URL:https://fpcjackson.org/event/college-sunday-school/2027-01-17/
LOCATION:FPC Jackson Campus\, 1390 North State Street\, Jackson\, MS\, 39202\, United States
CATEGORIES:College
END:VEVENT
BEGIN:VEVENT
DTSTART;TZID=America/Chicago:20270117T180000
DTEND;TZID=America/Chicago:20270117T190000
DTSTAMP:20260422T132638
CREATED:20230608T165824Z
LAST-MODIFIED:20260417T164622Z
UID:10003590-1800208800-1800212400@fpcjackson.org
SUMMARY:Catechism Crew
DESCRIPTION:Sunday Night Classes for Kids \nFirst through Third grades \nDismissed from the Evening Worship Service
URL:https://fpcjackson.org/event/catechism-crew/2027-01-17/
LOCATION:FPC Jackson Campus\, 1390 North State Street\, Jackson\, MS\, 39202\, United States
CATEGORIES:Children
ATTACH;FMTTYPE=image/png:https://fpcjackson.org/wp-content/uploads/2023/06/Catechism-Crew-Logo.png
END:VEVENT
BEGIN:VEVENT
DTSTART;TZID=America/Chicago:20270117T180000
DTEND;TZID=America/Chicago:20270117T190000
DTSTAMP:20260422T132638
CREATED:20230608T170051Z
LAST-MODIFIED:20260417T164712Z
UID:10003853-1800208800-1800212400@fpcjackson.org
SUMMARY:Covenant Kids
DESCRIPTION:Sunday Night Classes for Kids \nAge 4 and 5 \nDismissed from the Evening Worship Service
URL:https://fpcjackson.org/event/covenant-kids/2027-01-17/
LOCATION:FPC Jackson Campus\, 1390 North State Street\, Jackson\, MS\, 39202\, United States
CATEGORIES:Children
ATTACH;FMTTYPE=image/png:https://fpcjackson.org/wp-content/uploads/2023/06/Covenant-Kids-Logo.png
END:VEVENT
BEGIN:VEVENT
DTSTART;TZID=America/Chicago:20270119T093000
DTEND;TZID=America/Chicago:20270119T113000
DTSTAMP:20260422T132638
CREATED:20240503T160655Z
LAST-MODIFIED:20260306T160242Z
UID:10006986-1800351000-1800358200@fpcjackson.org
SUMMARY:Sew & Sow
DESCRIPTION:Like to sew or want to learn? “Sew and Sow” meets on Tuesday mornings from 9:30-11 in Westminster Hall 302 at the church for fun\, sewing and service through the use of our God-granted sewing skills. We are open to all ladies who enjoy sewing or needlework. Recent and current projects include medical masks during Covid-19\, cradle roll blankets for our newborns\, Christmas stockings for the NICU units at Baptist Hospital \, wheel chair bags for Methodist Rehabilitation and pillow cases for Ruth’s Refuge”. A sewing camp is offered in the summer months on even years. Some of our Tuesdays are spent on personal projects or those projects you may need help with. Special talents are shared with different focuses for each year. A nursery is provided. \nContact:\nSharon Gatlin
URL:https://fpcjackson.org/event/sew-sow/2027-01-19/
LOCATION:FPC Jackson Campus\, 1390 North State Street\, Jackson\, MS\, 39202\, United States
CATEGORIES:Women
ATTACH;FMTTYPE=image/png:https://fpcjackson.org/wp-content/uploads/2024/05/Sew-and-Sow.png
END:VEVENT
BEGIN:VEVENT
DTSTART;TZID=America/Chicago:20270124T094500
DTEND;TZID=America/Chicago:20270124T103000
DTSTAMP:20260422T132638
CREATED:20220916T133244Z
LAST-MODIFIED:20260306T155654Z
UID:10001057-1800783900-1800786600@fpcjackson.org
SUMMARY:College Sunday School
DESCRIPTION:
URL:https://fpcjackson.org/event/college-sunday-school/2027-01-24/
LOCATION:FPC Jackson Campus\, 1390 North State Street\, Jackson\, MS\, 39202\, United States
CATEGORIES:College
END:VEVENT
BEGIN:VEVENT
DTSTART;TZID=America/Chicago:20270124T180000
DTEND;TZID=America/Chicago:20270124T190000
DTSTAMP:20260422T132638
CREATED:20230608T165824Z
LAST-MODIFIED:20260417T164622Z
UID:10003591-1800813600-1800817200@fpcjackson.org
SUMMARY:Catechism Crew
DESCRIPTION:Sunday Night Classes for Kids \nFirst through Third grades \nDismissed from the Evening Worship Service
URL:https://fpcjackson.org/event/catechism-crew/2027-01-24/
LOCATION:FPC Jackson Campus\, 1390 North State Street\, Jackson\, MS\, 39202\, United States
CATEGORIES:Children
ATTACH;FMTTYPE=image/png:https://fpcjackson.org/wp-content/uploads/2023/06/Catechism-Crew-Logo.png
END:VEVENT
BEGIN:VEVENT
DTSTART;TZID=America/Chicago:20270124T180000
DTEND;TZID=America/Chicago:20270124T190000
DTSTAMP:20260422T132638
CREATED:20230608T170051Z
LAST-MODIFIED:20260417T164712Z
UID:10003854-1800813600-1800817200@fpcjackson.org
SUMMARY:Covenant Kids
DESCRIPTION:Sunday Night Classes for Kids \nAge 4 and 5 \nDismissed from the Evening Worship Service
URL:https://fpcjackson.org/event/covenant-kids/2027-01-24/
LOCATION:FPC Jackson Campus\, 1390 North State Street\, Jackson\, MS\, 39202\, United States
CATEGORIES:Children
ATTACH;FMTTYPE=image/png:https://fpcjackson.org/wp-content/uploads/2023/06/Covenant-Kids-Logo.png
END:VEVENT
BEGIN:VEVENT
DTSTART;TZID=America/Chicago:20270126T093000
DTEND;TZID=America/Chicago:20270126T113000
DTSTAMP:20260422T132638
CREATED:20240503T160655Z
LAST-MODIFIED:20260306T160242Z
UID:10006987-1800955800-1800963000@fpcjackson.org
SUMMARY:Sew & Sow
DESCRIPTION:Like to sew or want to learn? “Sew and Sow” meets on Tuesday mornings from 9:30-11 in Westminster Hall 302 at the church for fun\, sewing and service through the use of our God-granted sewing skills. We are open to all ladies who enjoy sewing or needlework. Recent and current projects include medical masks during Covid-19\, cradle roll blankets for our newborns\, Christmas stockings for the NICU units at Baptist Hospital \, wheel chair bags for Methodist Rehabilitation and pillow cases for Ruth’s Refuge”. A sewing camp is offered in the summer months on even years. Some of our Tuesdays are spent on personal projects or those projects you may need help with. Special talents are shared with different focuses for each year. A nursery is provided. \nContact:\nSharon Gatlin
URL:https://fpcjackson.org/event/sew-sow/2027-01-26/
LOCATION:FPC Jackson Campus\, 1390 North State Street\, Jackson\, MS\, 39202\, United States
CATEGORIES:Women
ATTACH;FMTTYPE=image/png:https://fpcjackson.org/wp-content/uploads/2024/05/Sew-and-Sow.png
END:VEVENT
BEGIN:VEVENT
DTSTART;TZID=America/Chicago:20270131T094500
DTEND;TZID=America/Chicago:20270131T103000
DTSTAMP:20260422T132638
CREATED:20220916T133244Z
LAST-MODIFIED:20260306T155654Z
UID:10001058-1801388700-1801391400@fpcjackson.org
SUMMARY:College Sunday School
DESCRIPTION:
URL:https://fpcjackson.org/event/college-sunday-school/2027-01-31/
LOCATION:FPC Jackson Campus\, 1390 North State Street\, Jackson\, MS\, 39202\, United States
CATEGORIES:College
END:VEVENT
BEGIN:VEVENT
DTSTART;TZID=America/Chicago:20270131T180000
DTEND;TZID=America/Chicago:20270131T190000
DTSTAMP:20260422T132638
CREATED:20230608T165824Z
LAST-MODIFIED:20260417T164622Z
UID:10003592-1801418400-1801422000@fpcjackson.org
SUMMARY:Catechism Crew
DESCRIPTION:Sunday Night Classes for Kids \nFirst through Third grades \nDismissed from the Evening Worship Service
URL:https://fpcjackson.org/event/catechism-crew/2027-01-31/
LOCATION:FPC Jackson Campus\, 1390 North State Street\, Jackson\, MS\, 39202\, United States
CATEGORIES:Children
ATTACH;FMTTYPE=image/png:https://fpcjackson.org/wp-content/uploads/2023/06/Catechism-Crew-Logo.png
END:VEVENT
BEGIN:VEVENT
DTSTART;TZID=America/Chicago:20270131T180000
DTEND;TZID=America/Chicago:20270131T190000
DTSTAMP:20260422T132638
CREATED:20230608T170051Z
LAST-MODIFIED:20260417T164712Z
UID:10003855-1801418400-1801422000@fpcjackson.org
SUMMARY:Covenant Kids
DESCRIPTION:Sunday Night Classes for Kids \nAge 4 and 5 \nDismissed from the Evening Worship Service
URL:https://fpcjackson.org/event/covenant-kids/2027-01-31/
LOCATION:FPC Jackson Campus\, 1390 North State Street\, Jackson\, MS\, 39202\, United States
CATEGORIES:Children
ATTACH;FMTTYPE=image/png:https://fpcjackson.org/wp-content/uploads/2023/06/Covenant-Kids-Logo.png
END:VEVENT
BEGIN:VEVENT
DTSTART;TZID=America/Chicago:20270202T093000
DTEND;TZID=America/Chicago:20270202T113000
DTSTAMP:20260422T132638
CREATED:20240503T160655Z
LAST-MODIFIED:20260306T160242Z
UID:10006988-1801560600-1801567800@fpcjackson.org
SUMMARY:Sew & Sow
DESCRIPTION:Like to sew or want to learn? “Sew and Sow” meets on Tuesday mornings from 9:30-11 in Westminster Hall 302 at the church for fun\, sewing and service through the use of our God-granted sewing skills. We are open to all ladies who enjoy sewing or needlework. Recent and current projects include medical masks during Covid-19\, cradle roll blankets for our newborns\, Christmas stockings for the NICU units at Baptist Hospital \, wheel chair bags for Methodist Rehabilitation and pillow cases for Ruth’s Refuge”. A sewing camp is offered in the summer months on even years. Some of our Tuesdays are spent on personal projects or those projects you may need help with. Special talents are shared with different focuses for each year. A nursery is provided. \nContact:\nSharon Gatlin
URL:https://fpcjackson.org/event/sew-sow/2027-02-02/
LOCATION:FPC Jackson Campus\, 1390 North State Street\, Jackson\, MS\, 39202\, United States
CATEGORIES:Women
ATTACH;FMTTYPE=image/png:https://fpcjackson.org/wp-content/uploads/2024/05/Sew-and-Sow.png
END:VEVENT
BEGIN:VEVENT
DTSTART;TZID=America/Chicago:20270207T094500
DTEND;TZID=America/Chicago:20270207T103000
DTSTAMP:20260422T132638
CREATED:20220916T133244Z
LAST-MODIFIED:20260306T155654Z
UID:10001059-1801993500-1801996200@fpcjackson.org
SUMMARY:College Sunday School
DESCRIPTION:
URL:https://fpcjackson.org/event/college-sunday-school/2027-02-07/
LOCATION:FPC Jackson Campus\, 1390 North State Street\, Jackson\, MS\, 39202\, United States
CATEGORIES:College
END:VEVENT
BEGIN:VEVENT
DTSTART;TZID=America/Chicago:20270207T180000
DTEND;TZID=America/Chicago:20270207T190000
DTSTAMP:20260422T132638
CREATED:20230608T165824Z
LAST-MODIFIED:20260417T164622Z
UID:10003593-1802023200-1802026800@fpcjackson.org
SUMMARY:Catechism Crew
DESCRIPTION:Sunday Night Classes for Kids \nFirst through Third grades \nDismissed from the Evening Worship Service
URL:https://fpcjackson.org/event/catechism-crew/2027-02-07/
LOCATION:FPC Jackson Campus\, 1390 North State Street\, Jackson\, MS\, 39202\, United States
CATEGORIES:Children
ATTACH;FMTTYPE=image/png:https://fpcjackson.org/wp-content/uploads/2023/06/Catechism-Crew-Logo.png
END:VEVENT
BEGIN:VEVENT
DTSTART;TZID=America/Chicago:20270207T180000
DTEND;TZID=America/Chicago:20270207T190000
DTSTAMP:20260422T132638
CREATED:20230608T170051Z
LAST-MODIFIED:20260417T164712Z
UID:10003856-1802023200-1802026800@fpcjackson.org
SUMMARY:Covenant Kids
DESCRIPTION:Sunday Night Classes for Kids \nAge 4 and 5 \nDismissed from the Evening Worship Service
URL:https://fpcjackson.org/event/covenant-kids/2027-02-07/
LOCATION:FPC Jackson Campus\, 1390 North State Street\, Jackson\, MS\, 39202\, United States
CATEGORIES:Children
ATTACH;FMTTYPE=image/png:https://fpcjackson.org/wp-content/uploads/2023/06/Covenant-Kids-Logo.png
END:VEVENT
BEGIN:VEVENT
DTSTART;TZID=America/Chicago:20270208T103000
DTEND;TZID=America/Chicago:20270208T120000
DTSTAMP:20260422T132638
CREATED:20250602T172158Z
LAST-MODIFIED:20250602T172349Z
UID:10018077-1802082600-1802088000@fpcjackson.org
SUMMARY:Caregivers Support Group
DESCRIPTION:The Caregivers’ Support Group takes place every second Monday of the month in Westminster Hall 202B from 10:30 a.m.-12 p.m. The purpose of our Caregivers’ Ministry is to gather similarly situated caregivers who desire to learn\, share stories\, and grieve as we walk together through the valley of a loved one’s suffering with dementia and dementia-related illness. The meeting will provide a safe and friendly forum to talk with others who understand the toils of caregiving for the cognitively impaired. With questions\, please contact Ken Fairly at 601-941-5004.
URL:https://fpcjackson.org/event/caregivers-support-group-2-2/2027-02-08/
LOCATION:FPC Jackson Campus\, 1390 North State Street\, Jackson\, MS\, 39202\, United States
CATEGORIES:Care and Support,Senior Adults
ATTACH;FMTTYPE=application/pdf:https://fpcjackson.org/wp-content/uploads/2023/07/Caregivers-Support-Group-3.pdf
END:VEVENT
BEGIN:VEVENT
DTSTART;TZID=America/Chicago:20270209T093000
DTEND;TZID=America/Chicago:20270209T113000
DTSTAMP:20260422T132638
CREATED:20240503T160655Z
LAST-MODIFIED:20260306T160242Z
UID:10006989-1802165400-1802172600@fpcjackson.org
SUMMARY:Sew & Sow
DESCRIPTION:Like to sew or want to learn? “Sew and Sow” meets on Tuesday mornings from 9:30-11 in Westminster Hall 302 at the church for fun\, sewing and service through the use of our God-granted sewing skills. We are open to all ladies who enjoy sewing or needlework. Recent and current projects include medical masks during Covid-19\, cradle roll blankets for our newborns\, Christmas stockings for the NICU units at Baptist Hospital \, wheel chair bags for Methodist Rehabilitation and pillow cases for Ruth’s Refuge”. A sewing camp is offered in the summer months on even years. Some of our Tuesdays are spent on personal projects or those projects you may need help with. Special talents are shared with different focuses for each year. A nursery is provided. \nContact:\nSharon Gatlin
URL:https://fpcjackson.org/event/sew-sow/2027-02-09/
LOCATION:FPC Jackson Campus\, 1390 North State Street\, Jackson\, MS\, 39202\, United States
CATEGORIES:Women
ATTACH;FMTTYPE=image/png:https://fpcjackson.org/wp-content/uploads/2024/05/Sew-and-Sow.png
END:VEVENT
BEGIN:VEVENT
DTSTART;TZID=America/Chicago:20270214T094500
DTEND;TZID=America/Chicago:20270214T103000
DTSTAMP:20260422T132638
CREATED:20220916T133244Z
LAST-MODIFIED:20260306T155654Z
UID:10001060-1802598300-1802601000@fpcjackson.org
SUMMARY:College Sunday School
DESCRIPTION:
URL:https://fpcjackson.org/event/college-sunday-school/2027-02-14/
LOCATION:FPC Jackson Campus\, 1390 North State Street\, Jackson\, MS\, 39202\, United States
CATEGORIES:College
END:VEVENT
BEGIN:VEVENT
DTSTART;TZID=America/Chicago:20270214T180000
DTEND;TZID=America/Chicago:20270214T190000
DTSTAMP:20260422T132638
CREATED:20230608T165824Z
LAST-MODIFIED:20260417T164622Z
UID:10003594-1802628000-1802631600@fpcjackson.org
SUMMARY:Catechism Crew
DESCRIPTION:Sunday Night Classes for Kids \nFirst through Third grades \nDismissed from the Evening Worship Service
URL:https://fpcjackson.org/event/catechism-crew/2027-02-14/
LOCATION:FPC Jackson Campus\, 1390 North State Street\, Jackson\, MS\, 39202\, United States
CATEGORIES:Children
ATTACH;FMTTYPE=image/png:https://fpcjackson.org/wp-content/uploads/2023/06/Catechism-Crew-Logo.png
END:VEVENT
BEGIN:VEVENT
DTSTART;TZID=America/Chicago:20270214T180000
DTEND;TZID=America/Chicago:20270214T190000
DTSTAMP:20260422T132638
CREATED:20230608T170051Z
LAST-MODIFIED:20260417T164712Z
UID:10003857-1802628000-1802631600@fpcjackson.org
SUMMARY:Covenant Kids
DESCRIPTION:Sunday Night Classes for Kids \nAge 4 and 5 \nDismissed from the Evening Worship Service
URL:https://fpcjackson.org/event/covenant-kids/2027-02-14/
LOCATION:FPC Jackson Campus\, 1390 North State Street\, Jackson\, MS\, 39202\, United States
CATEGORIES:Children
ATTACH;FMTTYPE=image/png:https://fpcjackson.org/wp-content/uploads/2023/06/Covenant-Kids-Logo.png
END:VEVENT
BEGIN:VEVENT
DTSTART;TZID=America/Chicago:20270216T093000
DTEND;TZID=America/Chicago:20270216T113000
DTSTAMP:20260422T132638
CREATED:20240503T160655Z
LAST-MODIFIED:20260306T160242Z
UID:10006990-1802770200-1802777400@fpcjackson.org
SUMMARY:Sew & Sow
DESCRIPTION:Like to sew or want to learn? “Sew and Sow” meets on Tuesday mornings from 9:30-11 in Westminster Hall 302 at the church for fun\, sewing and service through the use of our God-granted sewing skills. We are open to all ladies who enjoy sewing or needlework. Recent and current projects include medical masks during Covid-19\, cradle roll blankets for our newborns\, Christmas stockings for the NICU units at Baptist Hospital \, wheel chair bags for Methodist Rehabilitation and pillow cases for Ruth’s Refuge”. A sewing camp is offered in the summer months on even years. Some of our Tuesdays are spent on personal projects or those projects you may need help with. Special talents are shared with different focuses for each year. A nursery is provided. \nContact:\nSharon Gatlin
URL:https://fpcjackson.org/event/sew-sow/2027-02-16/
LOCATION:FPC Jackson Campus\, 1390 North State Street\, Jackson\, MS\, 39202\, United States
CATEGORIES:Women
ATTACH;FMTTYPE=image/png:https://fpcjackson.org/wp-content/uploads/2024/05/Sew-and-Sow.png
END:VEVENT
BEGIN:VEVENT
DTSTART;TZID=America/Chicago:20270221T094500
DTEND;TZID=America/Chicago:20270221T103000
DTSTAMP:20260422T132638
CREATED:20220916T133244Z
LAST-MODIFIED:20260306T155654Z
UID:10001061-1803203100-1803205800@fpcjackson.org
SUMMARY:College Sunday School
DESCRIPTION:
URL:https://fpcjackson.org/event/college-sunday-school/2027-02-21/
LOCATION:FPC Jackson Campus\, 1390 North State Street\, Jackson\, MS\, 39202\, United States
CATEGORIES:College
END:VEVENT
BEGIN:VEVENT
DTSTART;TZID=America/Chicago:20270221T180000
DTEND;TZID=America/Chicago:20270221T190000
DTSTAMP:20260422T132638
CREATED:20230608T165824Z
LAST-MODIFIED:20260417T164622Z
UID:10003595-1803232800-1803236400@fpcjackson.org
SUMMARY:Catechism Crew
DESCRIPTION:Sunday Night Classes for Kids \nFirst through Third grades \nDismissed from the Evening Worship Service
URL:https://fpcjackson.org/event/catechism-crew/2027-02-21/
LOCATION:FPC Jackson Campus\, 1390 North State Street\, Jackson\, MS\, 39202\, United States
CATEGORIES:Children
ATTACH;FMTTYPE=image/png:https://fpcjackson.org/wp-content/uploads/2023/06/Catechism-Crew-Logo.png
END:VEVENT
BEGIN:VEVENT
DTSTART;TZID=America/Chicago:20270221T180000
DTEND;TZID=America/Chicago:20270221T190000
DTSTAMP:20260422T132638
CREATED:20230608T170051Z
LAST-MODIFIED:20260417T164712Z
UID:10003858-1803232800-1803236400@fpcjackson.org
SUMMARY:Covenant Kids
DESCRIPTION:Sunday Night Classes for Kids \nAge 4 and 5 \nDismissed from the Evening Worship Service
URL:https://fpcjackson.org/event/covenant-kids/2027-02-21/
LOCATION:FPC Jackson Campus\, 1390 North State Street\, Jackson\, MS\, 39202\, United States
CATEGORIES:Children
ATTACH;FMTTYPE=image/png:https://fpcjackson.org/wp-content/uploads/2023/06/Covenant-Kids-Logo.png
END:VEVENT
END:VCALENDAR