BEGIN:VCALENDAR
VERSION:2.0
PRODID:-//First Presbyterian Church - ECPv6.15.20//NONSGML v1.0//EN
CALSCALE:GREGORIAN
METHOD:PUBLISH
X-WR-CALNAME:First Presbyterian Church
X-ORIGINAL-URL:https://fpcjackson.org
X-WR-CALDESC:Events for First Presbyterian Church
REFRESH-INTERVAL;VALUE=DURATION:PT1H
X-Robots-Tag:noindex
X-PUBLISHED-TTL:PT1H
BEGIN:VTIMEZONE
TZID:America/Chicago
BEGIN:DAYLIGHT
TZOFFSETFROM:-0600
TZOFFSETTO:-0500
TZNAME:CDT
DTSTART:20240310T080000
END:DAYLIGHT
BEGIN:STANDARD
TZOFFSETFROM:-0500
TZOFFSETTO:-0600
TZNAME:CST
DTSTART:20241103T070000
END:STANDARD
BEGIN:DAYLIGHT
TZOFFSETFROM:-0600
TZOFFSETTO:-0500
TZNAME:CDT
DTSTART:20250309T080000
END:DAYLIGHT
BEGIN:STANDARD
TZOFFSETFROM:-0500
TZOFFSETTO:-0600
TZNAME:CST
DTSTART:20251102T070000
END:STANDARD
BEGIN:DAYLIGHT
TZOFFSETFROM:-0600
TZOFFSETTO:-0500
TZNAME:CDT
DTSTART:20260308T080000
END:DAYLIGHT
BEGIN:STANDARD
TZOFFSETFROM:-0500
TZOFFSETTO:-0600
TZNAME:CST
DTSTART:20261101T070000
END:STANDARD
END:VTIMEZONE
BEGIN:VEVENT
DTSTART;TZID=America/Chicago:20250423T180000
DTEND;TZID=America/Chicago:20250423T190000
DTSTAMP:20260422T040825
CREATED:20241204T213629Z
LAST-MODIFIED:20260306T160529Z
UID:10002023-1745431200-1745434800@fpcjackson.org
SUMMARY:Midweek Adult Programs
DESCRIPTION:
URL:https://fpcjackson.org/event/midweek-adult-programs-2/2025-04-23/
LOCATION:Various\, 1390 North State Street\, Jackson\, MS\, 39202\, United States
CATEGORIES:Bible Study,Class,Discipleship,Midweek,Teaching
END:VEVENT
BEGIN:VEVENT
DTSTART;TZID=America/Chicago:20250423T170000
DTEND;TZID=America/Chicago:20250423T180000
DTSTAMP:20260422T040825
CREATED:20241204T214004Z
LAST-MODIFIED:20260306T160516Z
UID:10001243-1745427600-1745431200@fpcjackson.org
SUMMARY:Midweek Dinner
DESCRIPTION:Adults $8\nChildren $4\nFamily Max $25\nCollege Free – Midweek Dinner is free for any college student involved in one of our Midweek programs. Any other college student can eat for $4.
URL:https://fpcjackson.org/event/midweek-dinner-2/2025-04-23/
LOCATION:Miller Hall\, 1390 North State Street\, Jackson\, MS\, 39202\, United States
CATEGORIES:Midweek
END:VEVENT
BEGIN:VEVENT
DTSTART;TZID=America/Chicago:20250422T093000
DTEND;TZID=America/Chicago:20250422T120000
DTSTAMP:20260422T040825
CREATED:20241118T154626Z
LAST-MODIFIED:20251218T221646Z
UID:10007156-1745314200-1745323200@fpcjackson.org
SUMMARY:French Camp Quilters
DESCRIPTION:This group of ladies meets at the church on Tuesday and Thursday mornings from 9:30 a.m. – 12 p.m. (you do not have to stay for the full 3 hrs.) This ministry is open to all ladies who enjoy quilting and for those who would like to learn! Each year\, the quilts that are completed are auctioned at French Camp’s Harvest Festival in October. All the proceeds from the quilts go directly to French Camp. A nursery is provided. \nThis summer we will meet in the Parlor while the Bookstore’s A/C is being renovated. \n\n\n\nChairman: Sara Margaret Johnson
URL:https://fpcjackson.org/event/french-camp-quilters-3-2/2025-04-22/
LOCATION:Bookstore/Library\, 1390 North State Street\, Jackson\, MS\, 39202\, United States
CATEGORIES:Women
ATTACH;FMTTYPE=image/png:https://fpcjackson.org/wp-content/uploads/2024/05/French-Camp-Quilters.png
END:VEVENT
END:VCALENDAR