BEGIN:VCALENDAR
VERSION:2.0
PRODID:-//First Presbyterian Church - ECPv6.15.20//NONSGML v1.0//EN
CALSCALE:GREGORIAN
METHOD:PUBLISH
X-ORIGINAL-URL:https://fpcjackson.org
X-WR-CALDESC:Events for First Presbyterian Church
REFRESH-INTERVAL;VALUE=DURATION:PT1H
X-Robots-Tag:noindex
X-PUBLISHED-TTL:PT1H
BEGIN:VTIMEZONE
TZID:America/Chicago
BEGIN:DAYLIGHT
TZOFFSETFROM:-0600
TZOFFSETTO:-0500
TZNAME:CDT
DTSTART:20250309T080000
END:DAYLIGHT
BEGIN:STANDARD
TZOFFSETFROM:-0500
TZOFFSETTO:-0600
TZNAME:CST
DTSTART:20251102T070000
END:STANDARD
BEGIN:DAYLIGHT
TZOFFSETFROM:-0600
TZOFFSETTO:-0500
TZNAME:CDT
DTSTART:20260308T080000
END:DAYLIGHT
BEGIN:STANDARD
TZOFFSETFROM:-0500
TZOFFSETTO:-0600
TZNAME:CST
DTSTART:20261101T070000
END:STANDARD
BEGIN:DAYLIGHT
TZOFFSETFROM:-0600
TZOFFSETTO:-0500
TZNAME:CDT
DTSTART:20270314T080000
END:DAYLIGHT
BEGIN:STANDARD
TZOFFSETFROM:-0500
TZOFFSETTO:-0600
TZNAME:CST
DTSTART:20271107T070000
END:STANDARD
END:VTIMEZONE
BEGIN:VEVENT
DTSTART;TZID=America/Chicago:20260111T163000
DTEND;TZID=America/Chicago:20260111T171500
DTSTAMP:20260424T112507
CREATED:20250909T190718Z
LAST-MODIFIED:20260417T164553Z
UID:10018412-1768149000-1768151700@fpcjackson.org
SUMMARY:Student Choir
DESCRIPTION:Students in grades six-twelve are invited to join us for Student Choir! We rehearse Sunday afternoons 4:30-5:15 with supper to follow. Students will develop and practice basic musical skills\, lead worship in one Sunday night service a month\, and enjoy meaningful fellowship with other student choir members\, mentors\, and staff. For questions\, email Levi Henkel at LeviH@fpcjackson.org.
URL:https://fpcjackson.org/event/student-choir-2/2026-01-11/
LOCATION:FPC Jackson Campus\, 1390 North State Street\, Jackson\, MS\, 39202\, United States
CATEGORIES:Youth
ATTACH;FMTTYPE=image/png:https://fpcjackson.org/wp-content/uploads/2025/09/Student-Choir-2025.png
END:VEVENT
BEGIN:VEVENT
DTSTART;TZID=America/Chicago:20260111T163000
DTEND;TZID=America/Chicago:20260111T171500
DTSTAMP:20260424T112507
CREATED:20260109T181134Z
LAST-MODIFIED:20260109T181134Z
UID:10020008-1768149000-1768151700@fpcjackson.org
SUMMARY:Student Choir Rehearsal - Spring Kickoff
DESCRIPTION:Students in grades six-twelve are invited to join us for Student Choir! We rehearse Sunday afternoons 4:30-5:15 with supper to follow. Students will develop and practice basic musical skills\, lead worship in one Sunday night service a month\, and enjoy meaningful fellowship with other student choir members\, mentors\, and staff. For questions\, email Levi Henkel at LeviH@fpcjackson.org.
URL:https://fpcjackson.org/event/student-choir-rehearsal-spring-kickoff/
LOCATION:Music Suite\, 1390 North State Street\, Jackson\, MS\, 39202\, United States
CATEGORIES:Choir,Worship,Youth
ATTACH;FMTTYPE=image/png:https://fpcjackson.org/wp-content/uploads/2025/09/Student-Choir-2025.png
END:VEVENT
BEGIN:VEVENT
DTSTART;VALUE=DATE:20260116
DTEND;VALUE=DATE:20260120
DTSTAMP:20260424T112507
CREATED:20251022T154828Z
LAST-MODIFIED:20251023T175301Z
UID:10018969-1768521600-1768867199@fpcjackson.org
SUMMARY:Senior High Winter Retreat 2026
DESCRIPTION:Join us again for a weekend at Alpine Camp as we fellowship together and dive deeply into God’s Word. Scott Miller will share a message with us: Shaped by the Triune God. We will discuss how knowing God as Father\, Son\, and Spirit reveals His beauty\, shows us how to love one another\, and deepens our relationship with Him. \nScott is a minister here at First Pres to Young Adults and College Students. He grew up in Jackson and went to Pear Orchard Pres. where he later served as youth intern during his years at Reformed Theological Seminary. A graduate from MSU (but an Ole Miss fan?) Scott is married to Abbey and father to Libby. We are so excited to have him join us at Alpine this year! \nRegistration\n\nEarly Bird – Dec. 14 | $190\nDeadline – Jan. 2 | $235
URL:https://fpcjackson.org/event/senior-high-winter-retreat-2026/
LOCATION:Off-Site
CATEGORIES:Youth
ATTACH;FMTTYPE=image/png:https://fpcjackson.org/wp-content/uploads/2025/10/Winter-Retreat-2026-scaled.png
END:VEVENT
END:VCALENDAR