BEGIN:VCALENDAR
VERSION:2.0
PRODID:-//First Presbyterian Church - ECPv6.15.20//NONSGML v1.0//EN
CALSCALE:GREGORIAN
METHOD:PUBLISH
X-WR-CALNAME:First Presbyterian Church
X-ORIGINAL-URL:https://fpcjackson.org
X-WR-CALDESC:Events for First Presbyterian Church
REFRESH-INTERVAL;VALUE=DURATION:PT1H
X-Robots-Tag:noindex
X-PUBLISHED-TTL:PT1H
BEGIN:VTIMEZONE
TZID:America/Chicago
BEGIN:DAYLIGHT
TZOFFSETFROM:-0600
TZOFFSETTO:-0500
TZNAME:CDT
DTSTART:20240310T080000
END:DAYLIGHT
BEGIN:STANDARD
TZOFFSETFROM:-0500
TZOFFSETTO:-0600
TZNAME:CST
DTSTART:20241103T070000
END:STANDARD
BEGIN:DAYLIGHT
TZOFFSETFROM:-0600
TZOFFSETTO:-0500
TZNAME:CDT
DTSTART:20250309T080000
END:DAYLIGHT
BEGIN:STANDARD
TZOFFSETFROM:-0500
TZOFFSETTO:-0600
TZNAME:CST
DTSTART:20251102T070000
END:STANDARD
BEGIN:DAYLIGHT
TZOFFSETFROM:-0600
TZOFFSETTO:-0500
TZNAME:CDT
DTSTART:20260308T080000
END:DAYLIGHT
BEGIN:STANDARD
TZOFFSETFROM:-0500
TZOFFSETTO:-0600
TZNAME:CST
DTSTART:20261101T070000
END:STANDARD
END:VTIMEZONE
BEGIN:VEVENT
DTSTART;TZID=America/Chicago:20251130T163000
DTEND;TZID=America/Chicago:20251130T171500
DTSTAMP:20260425T084739
CREATED:20250909T190718Z
LAST-MODIFIED:20260417T164553Z
UID:10018406-1764520200-1764522900@fpcjackson.org
SUMMARY:Student Choir
DESCRIPTION:Students in grades six-twelve are invited to join us for Student Choir! We rehearse Sunday afternoons 4:30-5:15 with supper to follow. Students will develop and practice basic musical skills\, lead worship in one Sunday night service a month\, and enjoy meaningful fellowship with other student choir members\, mentors\, and staff. For questions\, email Levi Henkel at LeviH@fpcjackson.org.
URL:https://fpcjackson.org/event/student-choir-2/2025-11-30/
LOCATION:FPC Jackson Campus\, 1390 North State Street\, Jackson\, MS\, 39202\, United States
CATEGORIES:Youth
ATTACH;FMTTYPE=image/png:https://fpcjackson.org/wp-content/uploads/2025/09/Student-Choir-2025.png
END:VEVENT
BEGIN:VEVENT
DTSTART;TZID=America/Chicago:20251204T170000
DTEND;TZID=America/Chicago:20251204T190000
DTSTAMP:20260425T084739
CREATED:20251103T212337Z
LAST-MODIFIED:20251118T211247Z
UID:10018974-1764867600-1764874800@fpcjackson.org
SUMMARY:Junior High House Hop 2025
DESCRIPTION:7th and 8th graders! Don’t miss our annual Christmas “House Hop”! \nOur Pondside Dr. hosts are ready for your visit! We hope to have you join us for a cozy evening of Christmas morning themed fun\, dinner\, dessert and a silly GIFT SWAP! Parents please sign up your student so that we can plan for dinner\, and if you can bring an appetizer or dessert. Wear your cozy christmas pj’s\, socks/slippers or just a silly christmas t-shirt! \nCan’t join the whole evening? Let us know when your student can be there\, and we’ll tell you when we’ll be at each home. Merry Christmas!
URL:https://fpcjackson.org/event/junior-high-house-hop-2025/
LOCATION:Off-Site
CATEGORIES:Youth
ATTACH;FMTTYPE=image/png:https://fpcjackson.org/wp-content/uploads/2025/11/Junior-High-House-Hop-2025-scaled.png
END:VEVENT
END:VCALENDAR