BEGIN:VCALENDAR
VERSION:2.0
PRODID:-//First Presbyterian Church - ECPv6.15.20//NONSGML v1.0//EN
CALSCALE:GREGORIAN
METHOD:PUBLISH
X-ORIGINAL-URL:https://fpcjackson.org
X-WR-CALDESC:Events for First Presbyterian Church
REFRESH-INTERVAL;VALUE=DURATION:PT1H
X-Robots-Tag:noindex
X-PUBLISHED-TTL:PT1H
BEGIN:VTIMEZONE
TZID:America/Chicago
BEGIN:DAYLIGHT
TZOFFSETFROM:-0600
TZOFFSETTO:-0500
TZNAME:CDT
DTSTART:20240310T080000
END:DAYLIGHT
BEGIN:STANDARD
TZOFFSETFROM:-0500
TZOFFSETTO:-0600
TZNAME:CST
DTSTART:20241103T070000
END:STANDARD
BEGIN:DAYLIGHT
TZOFFSETFROM:-0600
TZOFFSETTO:-0500
TZNAME:CDT
DTSTART:20250309T080000
END:DAYLIGHT
BEGIN:STANDARD
TZOFFSETFROM:-0500
TZOFFSETTO:-0600
TZNAME:CST
DTSTART:20251102T070000
END:STANDARD
BEGIN:DAYLIGHT
TZOFFSETFROM:-0600
TZOFFSETTO:-0500
TZNAME:CDT
DTSTART:20260308T080000
END:DAYLIGHT
BEGIN:STANDARD
TZOFFSETFROM:-0500
TZOFFSETTO:-0600
TZNAME:CST
DTSTART:20261101T070000
END:STANDARD
END:VTIMEZONE
BEGIN:VEVENT
DTSTART;TZID=America/Chicago:20251207T193000
DTEND;TZID=America/Chicago:20251207T203000
DTSTAMP:20260424T034621
CREATED:20251124T205758Z
LAST-MODIFIED:20251126T171506Z
UID:10018997-1765135800-1765139400@fpcjackson.org
SUMMARY:Senior High Christmas Insight
DESCRIPTION:Dinner & Gift Exchange\nSenior High students\, grade 9-12\, gather with us for a cozy Christmas night! We’ll have s’mores\, snacks\, and a fun gift exchange as we celebrate Christmas together. Join us Sunday\, December 7\, 7:30-8:30 p.m. at the Oakley home (2006 Douglass Dr.). Bring a wrapped gift (around $10) if you’d like to participate in the exchange. We hope to see you there!
URL:https://fpcjackson.org/event/senior-high-christmas-insight/
LOCATION:Off-Site
CATEGORIES:Christmas,Youth
ATTACH;FMTTYPE=image/png:https://fpcjackson.org/wp-content/uploads/2025/11/Insight-Christmas-2025-1.png
END:VEVENT
BEGIN:VEVENT
DTSTART;TZID=America/Chicago:20251207T163000
DTEND;TZID=America/Chicago:20251207T171500
DTSTAMP:20260424T034621
CREATED:20250909T190718Z
LAST-MODIFIED:20260417T164553Z
UID:10018407-1765125000-1765127700@fpcjackson.org
SUMMARY:Student Choir
DESCRIPTION:Students in grades six-twelve are invited to join us for Student Choir! We rehearse Sunday afternoons 4:30-5:15 with supper to follow. Students will develop and practice basic musical skills\, lead worship in one Sunday night service a month\, and enjoy meaningful fellowship with other student choir members\, mentors\, and staff. For questions\, email Levi Henkel at LeviH@fpcjackson.org.
URL:https://fpcjackson.org/event/student-choir-2/2025-12-07/
LOCATION:FPC Jackson Campus\, 1390 North State Street\, Jackson\, MS\, 39202\, United States
CATEGORIES:Youth
ATTACH;FMTTYPE=image/png:https://fpcjackson.org/wp-content/uploads/2025/09/Student-Choir-2025.png
END:VEVENT
BEGIN:VEVENT
DTSTART;TZID=America/Chicago:20251204T170000
DTEND;TZID=America/Chicago:20251204T190000
DTSTAMP:20260424T034621
CREATED:20251103T212337Z
LAST-MODIFIED:20251118T211247Z
UID:10018974-1764867600-1764874800@fpcjackson.org
SUMMARY:Junior High House Hop 2025
DESCRIPTION:7th and 8th graders! Don’t miss our annual Christmas “House Hop”! \nOur Pondside Dr. hosts are ready for your visit! We hope to have you join us for a cozy evening of Christmas morning themed fun\, dinner\, dessert and a silly GIFT SWAP! Parents please sign up your student so that we can plan for dinner\, and if you can bring an appetizer or dessert. Wear your cozy christmas pj’s\, socks/slippers or just a silly christmas t-shirt! \nCan’t join the whole evening? Let us know when your student can be there\, and we’ll tell you when we’ll be at each home. Merry Christmas!
URL:https://fpcjackson.org/event/junior-high-house-hop-2025/
LOCATION:Off-Site
CATEGORIES:Youth
ATTACH;FMTTYPE=image/png:https://fpcjackson.org/wp-content/uploads/2025/11/Junior-High-House-Hop-2025-scaled.png
END:VEVENT
BEGIN:VEVENT
DTSTART;TZID=America/Chicago:20251130T163000
DTEND;TZID=America/Chicago:20251130T171500
DTSTAMP:20260424T034621
CREATED:20250909T190718Z
LAST-MODIFIED:20260417T164553Z
UID:10018406-1764520200-1764522900@fpcjackson.org
SUMMARY:Student Choir
DESCRIPTION:Students in grades six-twelve are invited to join us for Student Choir! We rehearse Sunday afternoons 4:30-5:15 with supper to follow. Students will develop and practice basic musical skills\, lead worship in one Sunday night service a month\, and enjoy meaningful fellowship with other student choir members\, mentors\, and staff. For questions\, email Levi Henkel at LeviH@fpcjackson.org.
URL:https://fpcjackson.org/event/student-choir-2/2025-11-30/
LOCATION:FPC Jackson Campus\, 1390 North State Street\, Jackson\, MS\, 39202\, United States
CATEGORIES:Youth
ATTACH;FMTTYPE=image/png:https://fpcjackson.org/wp-content/uploads/2025/09/Student-Choir-2025.png
END:VEVENT
BEGIN:VEVENT
DTSTART;TZID=America/Chicago:20251123T163000
DTEND;TZID=America/Chicago:20251123T171500
DTSTAMP:20260424T034621
CREATED:20250909T190718Z
LAST-MODIFIED:20260417T164553Z
UID:10018405-1763915400-1763918100@fpcjackson.org
SUMMARY:Student Choir
DESCRIPTION:Students in grades six-twelve are invited to join us for Student Choir! We rehearse Sunday afternoons 4:30-5:15 with supper to follow. Students will develop and practice basic musical skills\, lead worship in one Sunday night service a month\, and enjoy meaningful fellowship with other student choir members\, mentors\, and staff. For questions\, email Levi Henkel at LeviH@fpcjackson.org.
URL:https://fpcjackson.org/event/student-choir-2/2025-11-23/
LOCATION:FPC Jackson Campus\, 1390 North State Street\, Jackson\, MS\, 39202\, United States
CATEGORIES:Youth
ATTACH;FMTTYPE=image/png:https://fpcjackson.org/wp-content/uploads/2025/09/Student-Choir-2025.png
END:VEVENT
BEGIN:VEVENT
DTSTART;VALUE=DATE:20251121
DTEND;VALUE=DATE:20251123
DTSTAMP:20260424T034621
CREATED:20251022T205718Z
LAST-MODIFIED:20251023T155944Z
UID:10018970-1763683200-1763855999@fpcjackson.org
SUMMARY:Father Son Retreat at Twin Lakes
DESCRIPTION:Save the date for November 21-22 for our Father Son Retreat at Twin Lakes. We are excited to put together a weekend specifically for dads and sons. Spend time together having fun and making memories! This event is great for fathers and sons of all ages — toddlers through senior high students. \nThe cost is $100 for each father and son pair\, and $30 for each additional son. This cost includes space for tent camping\, three meals\, canoeing\, fishing\, a bonfire\, and a weekend full of fun activities. Tent camping not your thing? We also have an option to lodge in the Woodside Cabins for an additional cost.
URL:https://fpcjackson.org/event/father-son-retreat-at-twin-lakes/
LOCATION:FPC Jackson Campus\, 1390 North State Street\, Jackson\, MS\, 39202\, United States
CATEGORIES:Children,Men,Youth
ATTACH;FMTTYPE=image/png:https://fpcjackson.org/wp-content/uploads/2025/10/Father-Son-Retreat-2025.png
END:VEVENT
BEGIN:VEVENT
DTSTART;TZID=America/Chicago:20251116T163000
DTEND;TZID=America/Chicago:20251116T171500
DTSTAMP:20260424T034621
CREATED:20250909T190718Z
LAST-MODIFIED:20260417T164553Z
UID:10018404-1763310600-1763313300@fpcjackson.org
SUMMARY:Student Choir
DESCRIPTION:Students in grades six-twelve are invited to join us for Student Choir! We rehearse Sunday afternoons 4:30-5:15 with supper to follow. Students will develop and practice basic musical skills\, lead worship in one Sunday night service a month\, and enjoy meaningful fellowship with other student choir members\, mentors\, and staff. For questions\, email Levi Henkel at LeviH@fpcjackson.org.
URL:https://fpcjackson.org/event/student-choir-2/2025-11-16/
LOCATION:FPC Jackson Campus\, 1390 North State Street\, Jackson\, MS\, 39202\, United States
CATEGORIES:Youth
ATTACH;FMTTYPE=image/png:https://fpcjackson.org/wp-content/uploads/2025/09/Student-Choir-2025.png
END:VEVENT
BEGIN:VEVENT
DTSTART;TZID=America/Chicago:20251109T163000
DTEND;TZID=America/Chicago:20251109T171500
DTSTAMP:20260424T034621
CREATED:20250909T190718Z
LAST-MODIFIED:20260417T164553Z
UID:10018403-1762705800-1762708500@fpcjackson.org
SUMMARY:Student Choir
DESCRIPTION:Students in grades six-twelve are invited to join us for Student Choir! We rehearse Sunday afternoons 4:30-5:15 with supper to follow. Students will develop and practice basic musical skills\, lead worship in one Sunday night service a month\, and enjoy meaningful fellowship with other student choir members\, mentors\, and staff. For questions\, email Levi Henkel at LeviH@fpcjackson.org.
URL:https://fpcjackson.org/event/student-choir-2/2025-11-09/
LOCATION:FPC Jackson Campus\, 1390 North State Street\, Jackson\, MS\, 39202\, United States
CATEGORIES:Youth
ATTACH;FMTTYPE=image/png:https://fpcjackson.org/wp-content/uploads/2025/09/Student-Choir-2025.png
END:VEVENT
BEGIN:VEVENT
DTSTART;TZID=America/Chicago:20251102T163000
DTEND;TZID=America/Chicago:20251102T171500
DTSTAMP:20260424T034621
CREATED:20250909T190718Z
LAST-MODIFIED:20260417T164553Z
UID:10018402-1762101000-1762103700@fpcjackson.org
SUMMARY:Student Choir
DESCRIPTION:Students in grades six-twelve are invited to join us for Student Choir! We rehearse Sunday afternoons 4:30-5:15 with supper to follow. Students will develop and practice basic musical skills\, lead worship in one Sunday night service a month\, and enjoy meaningful fellowship with other student choir members\, mentors\, and staff. For questions\, email Levi Henkel at LeviH@fpcjackson.org.
URL:https://fpcjackson.org/event/student-choir-2/2025-11-02/
LOCATION:FPC Jackson Campus\, 1390 North State Street\, Jackson\, MS\, 39202\, United States
CATEGORIES:Youth
ATTACH;FMTTYPE=image/png:https://fpcjackson.org/wp-content/uploads/2025/09/Student-Choir-2025.png
END:VEVENT
BEGIN:VEVENT
DTSTART;TZID=America/Chicago:20251026T163000
DTEND;TZID=America/Chicago:20251026T171500
DTSTAMP:20260424T034621
CREATED:20250909T190718Z
LAST-MODIFIED:20260417T164553Z
UID:10018401-1761496200-1761498900@fpcjackson.org
SUMMARY:Student Choir
DESCRIPTION:Students in grades six-twelve are invited to join us for Student Choir! We rehearse Sunday afternoons 4:30-5:15 with supper to follow. Students will develop and practice basic musical skills\, lead worship in one Sunday night service a month\, and enjoy meaningful fellowship with other student choir members\, mentors\, and staff. For questions\, email Levi Henkel at LeviH@fpcjackson.org.
URL:https://fpcjackson.org/event/student-choir-2/2025-10-26/
LOCATION:FPC Jackson Campus\, 1390 North State Street\, Jackson\, MS\, 39202\, United States
CATEGORIES:Youth
ATTACH;FMTTYPE=image/png:https://fpcjackson.org/wp-content/uploads/2025/09/Student-Choir-2025.png
END:VEVENT
BEGIN:VEVENT
DTSTART;TZID=America/Chicago:20251019T163000
DTEND;TZID=America/Chicago:20251019T171500
DTSTAMP:20260424T034621
CREATED:20250909T190718Z
LAST-MODIFIED:20260417T164553Z
UID:10018400-1760891400-1760894100@fpcjackson.org
SUMMARY:Student Choir
DESCRIPTION:Students in grades six-twelve are invited to join us for Student Choir! We rehearse Sunday afternoons 4:30-5:15 with supper to follow. Students will develop and practice basic musical skills\, lead worship in one Sunday night service a month\, and enjoy meaningful fellowship with other student choir members\, mentors\, and staff. For questions\, email Levi Henkel at LeviH@fpcjackson.org.
URL:https://fpcjackson.org/event/student-choir-2/2025-10-19/
LOCATION:FPC Jackson Campus\, 1390 North State Street\, Jackson\, MS\, 39202\, United States
CATEGORIES:Youth
ATTACH;FMTTYPE=image/png:https://fpcjackson.org/wp-content/uploads/2025/09/Student-Choir-2025.png
END:VEVENT
BEGIN:VEVENT
DTSTART;VALUE=DATE:20251017
DTEND;VALUE=DATE:20251020
DTSTAMP:20260424T034621
CREATED:20250814T182308Z
LAST-MODIFIED:20250815T152318Z
UID:10018281-1760659200-1760918399@fpcjackson.org
SUMMARY:Junior High Fall Retreat 2025
DESCRIPTION:Join us for the Junior High Fall Retreat 2025\, October 17-19\, at Timber Creek Camp in Pulaski\, MS. This is a great weekend full of games\, shared meals\, and fellowship with other students. We will spend time meeting in small groups led by staff members\, singing together\, and listening to Jermaine Van Buren\, RUF campus minister at Jackson State University\, teach on Neighborly Love. \nJermaine Van Buren Jr. is from Hattiesburg\, MS and graduated from Oak Grove High School in 2016. After receiving a Bachelor of Science-Communication Arts (Theatre) from Troy University\, Jermaine then received his Master’s of Divinity-Counseling Emphasis from RTS Jackson. Jermaine is married to Laurie Upchurch Van Buren (his best friend!); she is a Licensed Professional Counselor who primarily specializes in play therapy\, and they live in the Fondren area. His favorite hobbies include playing card and board games\, reading about MS black history\, going to the movies\, bowling\, pickleball\, and listening to live music! \nEarly Bird Deadline September 26 – $95 \nRegular Deadline October 10 – $120
URL:https://fpcjackson.org/event/junior-high-fall-retreat-2025/
LOCATION:Timber Creek Camp\, Pulaski
CATEGORIES:Youth
ATTACH;FMTTYPE=image/png:https://fpcjackson.org/wp-content/uploads/2025/08/Junior-High-Fall-Retreat-scaled.png
END:VEVENT
BEGIN:VEVENT
DTSTART;TZID=America/Chicago:20251012T163000
DTEND;TZID=America/Chicago:20251012T171500
DTSTAMP:20260424T034621
CREATED:20250909T190718Z
LAST-MODIFIED:20260417T164553Z
UID:10018399-1760286600-1760289300@fpcjackson.org
SUMMARY:Student Choir
DESCRIPTION:Students in grades six-twelve are invited to join us for Student Choir! We rehearse Sunday afternoons 4:30-5:15 with supper to follow. Students will develop and practice basic musical skills\, lead worship in one Sunday night service a month\, and enjoy meaningful fellowship with other student choir members\, mentors\, and staff. For questions\, email Levi Henkel at LeviH@fpcjackson.org.
URL:https://fpcjackson.org/event/student-choir-2/2025-10-12/
LOCATION:FPC Jackson Campus\, 1390 North State Street\, Jackson\, MS\, 39202\, United States
CATEGORIES:Youth
ATTACH;FMTTYPE=image/png:https://fpcjackson.org/wp-content/uploads/2025/09/Student-Choir-2025.png
END:VEVENT
BEGIN:VEVENT
DTSTART;TZID=America/Chicago:20251005T163000
DTEND;TZID=America/Chicago:20251005T171500
DTSTAMP:20260424T034621
CREATED:20250909T190718Z
LAST-MODIFIED:20260417T164553Z
UID:10018398-1759681800-1759684500@fpcjackson.org
SUMMARY:Student Choir
DESCRIPTION:Students in grades six-twelve are invited to join us for Student Choir! We rehearse Sunday afternoons 4:30-5:15 with supper to follow. Students will develop and practice basic musical skills\, lead worship in one Sunday night service a month\, and enjoy meaningful fellowship with other student choir members\, mentors\, and staff. For questions\, email Levi Henkel at LeviH@fpcjackson.org.
URL:https://fpcjackson.org/event/student-choir-2/2025-10-05/
LOCATION:FPC Jackson Campus\, 1390 North State Street\, Jackson\, MS\, 39202\, United States
CATEGORIES:Youth
ATTACH;FMTTYPE=image/png:https://fpcjackson.org/wp-content/uploads/2025/09/Student-Choir-2025.png
END:VEVENT
BEGIN:VEVENT
DTSTART;TZID=America/Chicago:20250928T163000
DTEND;TZID=America/Chicago:20250928T171500
DTSTAMP:20260424T034621
CREATED:20250909T190718Z
LAST-MODIFIED:20260417T164553Z
UID:10018397-1759077000-1759079700@fpcjackson.org
SUMMARY:Student Choir
DESCRIPTION:Students in grades six-twelve are invited to join us for Student Choir! We rehearse Sunday afternoons 4:30-5:15 with supper to follow. Students will develop and practice basic musical skills\, lead worship in one Sunday night service a month\, and enjoy meaningful fellowship with other student choir members\, mentors\, and staff. For questions\, email Levi Henkel at LeviH@fpcjackson.org.
URL:https://fpcjackson.org/event/student-choir-2/2025-09-28/
LOCATION:FPC Jackson Campus\, 1390 North State Street\, Jackson\, MS\, 39202\, United States
CATEGORIES:Youth
ATTACH;FMTTYPE=image/png:https://fpcjackson.org/wp-content/uploads/2025/09/Student-Choir-2025.png
END:VEVENT
BEGIN:VEVENT
DTSTART;TZID=America/Chicago:20250921T163000
DTEND;TZID=America/Chicago:20250921T171500
DTSTAMP:20260424T034621
CREATED:20250909T190718Z
LAST-MODIFIED:20260417T164553Z
UID:10018396-1758472200-1758474900@fpcjackson.org
SUMMARY:Student Choir
DESCRIPTION:Students in grades six-twelve are invited to join us for Student Choir! We rehearse Sunday afternoons 4:30-5:15 with supper to follow. Students will develop and practice basic musical skills\, lead worship in one Sunday night service a month\, and enjoy meaningful fellowship with other student choir members\, mentors\, and staff. For questions\, email Levi Henkel at LeviH@fpcjackson.org.
URL:https://fpcjackson.org/event/student-choir-2/2025-09-21/
LOCATION:FPC Jackson Campus\, 1390 North State Street\, Jackson\, MS\, 39202\, United States
CATEGORIES:Youth
ATTACH;FMTTYPE=image/png:https://fpcjackson.org/wp-content/uploads/2025/09/Student-Choir-2025.png
END:VEVENT
BEGIN:VEVENT
DTSTART;TZID=America/Chicago:20250914T163000
DTEND;TZID=America/Chicago:20250914T171500
DTSTAMP:20260424T034621
CREATED:20250909T190718Z
LAST-MODIFIED:20260417T164553Z
UID:10018395-1757867400-1757870100@fpcjackson.org
SUMMARY:Student Choir
DESCRIPTION:Students in grades six-twelve are invited to join us for Student Choir! We rehearse Sunday afternoons 4:30-5:15 with supper to follow. Students will develop and practice basic musical skills\, lead worship in one Sunday night service a month\, and enjoy meaningful fellowship with other student choir members\, mentors\, and staff. For questions\, email Levi Henkel at LeviH@fpcjackson.org.
URL:https://fpcjackson.org/event/student-choir-2/2025-09-14/
LOCATION:FPC Jackson Campus\, 1390 North State Street\, Jackson\, MS\, 39202\, United States
CATEGORIES:Youth
ATTACH;FMTTYPE=image/png:https://fpcjackson.org/wp-content/uploads/2025/09/Student-Choir-2025.png
END:VEVENT
BEGIN:VEVENT
DTSTART;TZID=America/Chicago:20250907T163000
DTEND;TZID=America/Chicago:20250907T171500
DTSTAMP:20260424T034621
CREATED:20250909T190538Z
LAST-MODIFIED:20250909T190539Z
UID:10018393-1757262600-1757265300@fpcjackson.org
SUMMARY:Student Choir
DESCRIPTION:Students in grades six-twelve are invited to join us for Student Choir! We rehearse Sunday afternoons 4:30-5:15 with supper to follow. Students will develop and practice basic musical skills\, lead worship in one Sunday night service a month\, and enjoy meaningful fellowship with other student choir members\, mentors\, and staff. For questions\, email Levi Henkel at LeviH@fpcjackson.org.
URL:https://fpcjackson.org/event/student-choir/
LOCATION:FPC Jackson Campus\, 1390 North State Street\, Jackson\, MS\, 39202\, United States
CATEGORIES:Youth
ATTACH;FMTTYPE=image/png:https://fpcjackson.org/wp-content/uploads/2025/09/Student-Choir-2025.png
END:VEVENT
BEGIN:VEVENT
DTSTART;TZID=America/Chicago:20250906T100000
DTEND;TZID=America/Chicago:20250906T220000
DTSTAMP:20260424T034621
CREATED:20250725T180234Z
LAST-MODIFIED:20250729T191635Z
UID:10018210-1757152800-1757196000@fpcjackson.org
SUMMARY:Senior High Local Retreat
DESCRIPTION:Students\, grades 9-12\, you are invited to a Local Retreat\, September 6\, at FPC. Register by August 29 to secure a spot. The cost is $25 per person.  \nJoin us for a day for fun\, fellowship\, + a deep dive into God’s Word. We will have two sessions\, a lunch outing\, + a fun evening in Lost Rabbit.
URL:https://fpcjackson.org/event/senior-high-local-retreat/
LOCATION:FPC Jackson Campus\, 1390 North State Street\, Jackson\, MS\, 39202\, United States
CATEGORIES:Youth
ATTACH;FMTTYPE=image/png:https://fpcjackson.org/wp-content/uploads/2025/07/Senior-High-Local-Retreat.png
END:VEVENT
BEGIN:VEVENT
DTSTART;TZID=America/Chicago:20250816T163000
DTEND;TZID=America/Chicago:20250816T193000
DTSTAMP:20260424T034621
CREATED:20250814T213855Z
LAST-MODIFIED:20250814T213855Z
UID:10018283-1755361800-1755372600@fpcjackson.org
SUMMARY:Seventh Grade Lake Day
DESCRIPTION:Our seventh graders are invited to a get together at the Lost Rabbit Marina Saturday\, August 16\, 4:30-7:30 p.m. Come spend time with the Student Ministry staff and enjoy tubing\, pool\, and pizza. RSVP to Ceci Rutledge at 601-842-3870.
URL:https://fpcjackson.org/event/seventh-grade-lake-day/
LOCATION:FPC Jackson Campus\, 1390 North State Street\, Jackson\, MS\, 39202\, United States
CATEGORIES:Youth
ATTACH;FMTTYPE=image/png:https://fpcjackson.org/wp-content/uploads/2025/08/Seventh-Grade-lake-Day-2025.png
END:VEVENT
BEGIN:VEVENT
DTSTART;TZID=America/Chicago:20250719T100000
DTEND;TZID=America/Chicago:20250719T120000
DTSTAMP:20260424T034621
CREATED:20250530T171116Z
LAST-MODIFIED:20250530T171116Z
UID:10010209-1752919200-1752926400@fpcjackson.org
SUMMARY:Senior High Pickleball Tournament
DESCRIPTION:Senior high students\, get in the game with FPCYM. Join us at the Twin Lakes pickleball courts for fun and competition July\, 19\, 10 a.m.-12 p.m. This is a great opportunity to bring friends and see what Twin Lakes Camp offers! Lunch will be provided!! Sign up so we can best plan for food. Bring your swimsuit for a jump in the pool afterward.
URL:https://fpcjackson.org/event/senior-high-pickleball-tournament/
LOCATION:Twin Lakes Camp & Conference Center\, 155 Milner Road\, Florence\, MS\, 39073\, United States
CATEGORIES:Youth
ATTACH;FMTTYPE=image/png:https://fpcjackson.org/wp-content/uploads/2025/05/Senior-High-Pickleball.png
END:VEVENT
BEGIN:VEVENT
DTSTART;TZID=America/Chicago:20250717T153000
DTEND;TZID=America/Chicago:20250717T173000
DTSTAMP:20260424T034621
CREATED:20250530T171751Z
LAST-MODIFIED:20250617T191938Z
UID:10010210-1752766200-1752773400@fpcjackson.org
SUMMARY:Junior High Pool Day
DESCRIPTION:Make a splash with FPCYM! Junior High students (grades 7-9) are invited for a pool day July 17\, 3:30-5:30 p.m. Save the date and make plans to be with us!
URL:https://fpcjackson.org/event/junior-high-pool-day-2/
LOCATION:Off-Site
CATEGORIES:Youth
ATTACH;FMTTYPE=image/png:https://fpcjackson.org/wp-content/uploads/2025/05/Junior-High-Pool-Day.png
END:VEVENT
BEGIN:VEVENT
DTSTART;TZID=America/Chicago:20250617T100000
DTEND;TZID=America/Chicago:20250617T120000
DTSTAMP:20260424T034621
CREATED:20250530T165950Z
LAST-MODIFIED:20250530T165950Z
UID:10010208-1750154400-1750161600@fpcjackson.org
SUMMARY:Junior High Trampoline Park Day
DESCRIPTION:Jump in! Join our junior high (7-9 grade) at DEFY Trampoline Park\, June 17\, 10 a.m. – 12 p.m. Bring $15 for the entrance cost\, and we’ll provide snacks! Parents please pick up your student by noon. Sign up so that the staff is prepared and please sign DEFY’s waiver! \n 
URL:https://fpcjackson.org/event/junior-high-trampoline-park-day/
LOCATION:Off-Site
CATEGORIES:Youth
ATTACH;FMTTYPE=image/png:https://fpcjackson.org/wp-content/uploads/2025/05/Trampoline-Park-Day.png
END:VEVENT
BEGIN:VEVENT
DTSTART;TZID=America/Chicago:20250613T100000
DTEND;TZID=America/Chicago:20250613T170000
DTSTAMP:20260424T034621
CREATED:20250530T165203Z
LAST-MODIFIED:20250530T165203Z
UID:10010207-1749808800-1749834000@fpcjackson.org
SUMMARY:Senior High Waterpark Day
DESCRIPTION:Senior high (10-12th grade) Join us for a trip to Geyser Falls on June 13! Please sign up so we can plan rides effectively. Plan to meet at the Youth House at 10 a.m. Please bring $30 for park entrance\, a packed lunch and/or extra money for park snacks if you desire. We’ll keep you posted if the weather changes our plans. Don’t forget your swimsuit\, towel\, and a bag to store your belongings! \n 
URL:https://fpcjackson.org/event/senior-high-waterpark-day/
LOCATION:Off-Site
CATEGORIES:Youth
ATTACH;FMTTYPE=image/png:https://fpcjackson.org/wp-content/uploads/2025/05/Waterpark-Day.png
END:VEVENT
BEGIN:VEVENT
DTSTART;VALUE=DATE:20250524
DTEND;VALUE=DATE:20250526
DTSTAMP:20260424T034621
CREATED:20250425T195316Z
LAST-MODIFIED:20250425T200011Z
UID:10009172-1748044800-1748217599@fpcjackson.org
SUMMARY:Student Choir Trip
DESCRIPTION:We are putting together our overnight trip to New Orleans to sing for the Grace Presbyterian Church morning worship service on Sunday\, May 25\, in Metairie. This trip provides the student choir a “thank you”\, an opportunity for fellowship\, and a chance to serve another congregation through the gift of music. Trip expenses will be covered for all meals and hotel. There will be no cost for students apart from a possible snack or souvenir if desired. \nTRIP INFORMATION We will leave Jackson on Saturday\, May 24\, at 9:00 a.m. and travel via charter bus to New Orleans\, where we will spend the afternoon at the National World War II Museum and on a New Orleans streetcar ride before we enjoy a pizza dinner and – if the weather cooperates – an evening swim at the hotel. On Sunday morning\, we will have coffee and beignets at the Cafe du Monde on the way to Grace Presbyterian Church. After singing for the service we will head back to Jackson\, stopping for lunch at Middendorf’s restaurant in Manchac – seafood\, salads\, sandwiches\, and burgers. We will arrive back at First Presbyterian Church before the evening service on Sunday. \nRESPONSE NEEDED As we are making reservations for the hotel and planning for admission tickets and meals\, we will want to get a count of participating students. If there are other student choir members that your student would like to room with\, please let us know that as well. We accommodate these requests as best we can. Please take a few minutes to complete the two forms linked below to let us know if your student is going to participate\, if there are roommate preferences\, and to provide the necessary emergency contact and waiver form. \nRegistration Form \nWaiver
URL:https://fpcjackson.org/event/student-choir-trip/
LOCATION:Off-Site
CATEGORIES:Choir,Worship,Youth
ATTACH;FMTTYPE=image/png:https://fpcjackson.org/wp-content/uploads/2025/04/Student-Choir-Trip.png
END:VEVENT
END:VCALENDAR