BEGIN:VCALENDAR
VERSION:2.0
PRODID:-//First Presbyterian Church - ECPv6.15.20//NONSGML v1.0//EN
CALSCALE:GREGORIAN
METHOD:PUBLISH
X-ORIGINAL-URL:https://fpcjackson.org
X-WR-CALDESC:Events for First Presbyterian Church
REFRESH-INTERVAL;VALUE=DURATION:PT1H
X-Robots-Tag:noindex
X-PUBLISHED-TTL:PT1H
BEGIN:VTIMEZONE
TZID:America/Chicago
BEGIN:DAYLIGHT
TZOFFSETFROM:-0600
TZOFFSETTO:-0500
TZNAME:CDT
DTSTART:20250309T080000
END:DAYLIGHT
BEGIN:STANDARD
TZOFFSETFROM:-0500
TZOFFSETTO:-0600
TZNAME:CST
DTSTART:20251102T070000
END:STANDARD
BEGIN:DAYLIGHT
TZOFFSETFROM:-0600
TZOFFSETTO:-0500
TZNAME:CDT
DTSTART:20260308T080000
END:DAYLIGHT
BEGIN:STANDARD
TZOFFSETFROM:-0500
TZOFFSETTO:-0600
TZNAME:CST
DTSTART:20261101T070000
END:STANDARD
BEGIN:DAYLIGHT
TZOFFSETFROM:-0600
TZOFFSETTO:-0500
TZNAME:CDT
DTSTART:20270314T080000
END:DAYLIGHT
BEGIN:STANDARD
TZOFFSETFROM:-0500
TZOFFSETTO:-0600
TZNAME:CST
DTSTART:20271107T070000
END:STANDARD
END:VTIMEZONE
BEGIN:VEVENT
DTSTART;TZID=America/Chicago:20260430T173000
DTEND;TZID=America/Chicago:20260430T190000
DTSTAMP:20260421T215507
CREATED:20250411T154420Z
LAST-MODIFIED:20260313T152356Z
UID:10009165-1777570200-1777575600@fpcjackson.org
SUMMARY:Sixth Grade Welcome to FPCYM
DESCRIPTION:Parents of Sixth Graders\, we can’t wait to welcome your children to student ministry at FPC! Join FPCYM for dinner and games on April 30 at 5:30. Come hang out and meet our staff! \nWe’re also excited to have sixth grade join us in the Youth House for Sunday School on May 3\, and at Midweek on Wednesday\, May 6.
URL:https://fpcjackson.org/event/sixth-grade-welcome-to-fpcym/
LOCATION:FPC Jackson Campus\, 1390 North State Street\, Jackson\, MS\, 39202\, United States
CATEGORIES:Children,Youth
ATTACH;FMTTYPE=image/png:https://fpcjackson.org/wp-content/uploads/2025/04/Welcome-Sixth-Grade.png
END:VEVENT
BEGIN:VEVENT
DTSTART;TZID=America/Chicago:20260503T163000
DTEND;TZID=America/Chicago:20260503T171500
DTSTAMP:20260421T215507
CREATED:20250909T190718Z
LAST-MODIFIED:20260417T164553Z
UID:10018428-1777825800-1777828500@fpcjackson.org
SUMMARY:Student Choir
DESCRIPTION:Students in grades six-twelve are invited to join us for Student Choir! We rehearse Sunday afternoons 4:30-5:15 with supper to follow. Students will develop and practice basic musical skills\, lead worship in one Sunday night service a month\, and enjoy meaningful fellowship with other student choir members\, mentors\, and staff. For questions\, email Levi Henkel at LeviH@fpcjackson.org.
URL:https://fpcjackson.org/event/student-choir-2/2026-05-03/
LOCATION:FPC Jackson Campus\, 1390 North State Street\, Jackson\, MS\, 39202\, United States
CATEGORIES:Youth
ATTACH;FMTTYPE=image/png:https://fpcjackson.org/wp-content/uploads/2025/09/Student-Choir-2025.png
END:VEVENT
BEGIN:VEVENT
DTSTART;TZID=America/Chicago:20260510T163000
DTEND;TZID=America/Chicago:20260510T171500
DTSTAMP:20260421T215507
CREATED:20250909T190718Z
LAST-MODIFIED:20260417T164553Z
UID:10018429-1778430600-1778433300@fpcjackson.org
SUMMARY:Student Choir
DESCRIPTION:Students in grades six-twelve are invited to join us for Student Choir! We rehearse Sunday afternoons 4:30-5:15 with supper to follow. Students will develop and practice basic musical skills\, lead worship in one Sunday night service a month\, and enjoy meaningful fellowship with other student choir members\, mentors\, and staff. For questions\, email Levi Henkel at LeviH@fpcjackson.org.
URL:https://fpcjackson.org/event/student-choir-2/2026-05-10/
LOCATION:FPC Jackson Campus\, 1390 North State Street\, Jackson\, MS\, 39202\, United States
CATEGORIES:Youth
ATTACH;FMTTYPE=image/png:https://fpcjackson.org/wp-content/uploads/2025/09/Student-Choir-2025.png
END:VEVENT
BEGIN:VEVENT
DTSTART;TZID=America/Chicago:20260517T163000
DTEND;TZID=America/Chicago:20260517T171500
DTSTAMP:20260421T215507
CREATED:20250909T190718Z
LAST-MODIFIED:20260417T164553Z
UID:10018430-1779035400-1779038100@fpcjackson.org
SUMMARY:Student Choir
DESCRIPTION:Students in grades six-twelve are invited to join us for Student Choir! We rehearse Sunday afternoons 4:30-5:15 with supper to follow. Students will develop and practice basic musical skills\, lead worship in one Sunday night service a month\, and enjoy meaningful fellowship with other student choir members\, mentors\, and staff. For questions\, email Levi Henkel at LeviH@fpcjackson.org.
URL:https://fpcjackson.org/event/student-choir-2/2026-05-17/
LOCATION:FPC Jackson Campus\, 1390 North State Street\, Jackson\, MS\, 39202\, United States
CATEGORIES:Youth
ATTACH;FMTTYPE=image/png:https://fpcjackson.org/wp-content/uploads/2025/09/Student-Choir-2025.png
END:VEVENT
BEGIN:VEVENT
DTSTART;TZID=America/Chicago:20260524T163000
DTEND;TZID=America/Chicago:20260524T171500
DTSTAMP:20260421T215507
CREATED:20250909T190718Z
LAST-MODIFIED:20260417T164553Z
UID:10018431-1779640200-1779642900@fpcjackson.org
SUMMARY:Student Choir
DESCRIPTION:Students in grades six-twelve are invited to join us for Student Choir! We rehearse Sunday afternoons 4:30-5:15 with supper to follow. Students will develop and practice basic musical skills\, lead worship in one Sunday night service a month\, and enjoy meaningful fellowship with other student choir members\, mentors\, and staff. For questions\, email Levi Henkel at LeviH@fpcjackson.org.
URL:https://fpcjackson.org/event/student-choir-2/2026-05-24/
LOCATION:FPC Jackson Campus\, 1390 North State Street\, Jackson\, MS\, 39202\, United States
CATEGORIES:Youth
ATTACH;FMTTYPE=image/png:https://fpcjackson.org/wp-content/uploads/2025/09/Student-Choir-2025.png
END:VEVENT
BEGIN:VEVENT
DTSTART;TZID=America/Chicago:20260531T163000
DTEND;TZID=America/Chicago:20260531T171500
DTSTAMP:20260421T215507
CREATED:20250909T190718Z
LAST-MODIFIED:20260417T164553Z
UID:10018432-1780245000-1780247700@fpcjackson.org
SUMMARY:Student Choir
DESCRIPTION:Students in grades six-twelve are invited to join us for Student Choir! We rehearse Sunday afternoons 4:30-5:15 with supper to follow. Students will develop and practice basic musical skills\, lead worship in one Sunday night service a month\, and enjoy meaningful fellowship with other student choir members\, mentors\, and staff. For questions\, email Levi Henkel at LeviH@fpcjackson.org.
URL:https://fpcjackson.org/event/student-choir-2/2026-05-31/
LOCATION:FPC Jackson Campus\, 1390 North State Street\, Jackson\, MS\, 39202\, United States
CATEGORIES:Youth
ATTACH;FMTTYPE=image/png:https://fpcjackson.org/wp-content/uploads/2025/09/Student-Choir-2025.png
END:VEVENT
BEGIN:VEVENT
DTSTART;TZID=America/Chicago:20260607T163000
DTEND;TZID=America/Chicago:20260607T171500
DTSTAMP:20260421T215507
CREATED:20250909T190718Z
LAST-MODIFIED:20260417T164553Z
UID:10018433-1780849800-1780852500@fpcjackson.org
SUMMARY:Student Choir
DESCRIPTION:Students in grades six-twelve are invited to join us for Student Choir! We rehearse Sunday afternoons 4:30-5:15 with supper to follow. Students will develop and practice basic musical skills\, lead worship in one Sunday night service a month\, and enjoy meaningful fellowship with other student choir members\, mentors\, and staff. For questions\, email Levi Henkel at LeviH@fpcjackson.org.
URL:https://fpcjackson.org/event/student-choir-2/2026-06-07/
LOCATION:FPC Jackson Campus\, 1390 North State Street\, Jackson\, MS\, 39202\, United States
CATEGORIES:Youth
ATTACH;FMTTYPE=image/png:https://fpcjackson.org/wp-content/uploads/2025/09/Student-Choir-2025.png
END:VEVENT
BEGIN:VEVENT
DTSTART;TZID=America/Chicago:20260614T163000
DTEND;TZID=America/Chicago:20260614T171500
DTSTAMP:20260421T215507
CREATED:20250909T190718Z
LAST-MODIFIED:20260417T164553Z
UID:10018434-1781454600-1781457300@fpcjackson.org
SUMMARY:Student Choir
DESCRIPTION:Students in grades six-twelve are invited to join us for Student Choir! We rehearse Sunday afternoons 4:30-5:15 with supper to follow. Students will develop and practice basic musical skills\, lead worship in one Sunday night service a month\, and enjoy meaningful fellowship with other student choir members\, mentors\, and staff. For questions\, email Levi Henkel at LeviH@fpcjackson.org.
URL:https://fpcjackson.org/event/student-choir-2/2026-06-14/
LOCATION:FPC Jackson Campus\, 1390 North State Street\, Jackson\, MS\, 39202\, United States
CATEGORIES:Youth
ATTACH;FMTTYPE=image/png:https://fpcjackson.org/wp-content/uploads/2025/09/Student-Choir-2025.png
END:VEVENT
BEGIN:VEVENT
DTSTART;TZID=America/Chicago:20260621T163000
DTEND;TZID=America/Chicago:20260621T171500
DTSTAMP:20260421T215507
CREATED:20250909T190718Z
LAST-MODIFIED:20260417T164553Z
UID:10018435-1782059400-1782062100@fpcjackson.org
SUMMARY:Student Choir
DESCRIPTION:Students in grades six-twelve are invited to join us for Student Choir! We rehearse Sunday afternoons 4:30-5:15 with supper to follow. Students will develop and practice basic musical skills\, lead worship in one Sunday night service a month\, and enjoy meaningful fellowship with other student choir members\, mentors\, and staff. For questions\, email Levi Henkel at LeviH@fpcjackson.org.
URL:https://fpcjackson.org/event/student-choir-2/2026-06-21/
LOCATION:FPC Jackson Campus\, 1390 North State Street\, Jackson\, MS\, 39202\, United States
CATEGORIES:Youth
ATTACH;FMTTYPE=image/png:https://fpcjackson.org/wp-content/uploads/2025/09/Student-Choir-2025.png
END:VEVENT
BEGIN:VEVENT
DTSTART;VALUE=DATE:20260622
DTEND;VALUE=DATE:20260627
DTSTAMP:20260421T215507
CREATED:20250206T192654Z
LAST-MODIFIED:20260220T175604Z
UID:10008834-1782086400-1782518399@fpcjackson.org
SUMMARY:Junior High RYM
DESCRIPTION:RYM Summer Conference 2025  \nSpeaker:Rev. Coleman Greene\nDates: June 22-26\nRising 7 through 9 Grade\nLocation: Laguna Beach Christian Retreat Center\, Panama City\, Florida\nCost: $450 \nDeadline: May 29 \nRegistration Is Open for RYM Summer 2026!\nRYM (Reformed Youth Ministries) is a youth conference that brings together students from across the country. At RYM the gospel is taught\, friendships are deepened\, and Mega Rec abounds. . For more information about RYM\, visit rym.org.
URL:https://fpcjackson.org/event/junior-high-rym-2/
LOCATION:Laguna Beach Christian Retreat\, 20016 Front Beach Rd\, Panama City Beach\, FL\, 32413
CATEGORIES:Youth
ATTACH;FMTTYPE=image/png:https://fpcjackson.org/wp-content/uploads/2025/02/RYM-2026.png
END:VEVENT
BEGIN:VEVENT
DTSTART;TZID=America/Chicago:20260628T163000
DTEND;TZID=America/Chicago:20260628T171500
DTSTAMP:20260421T215507
CREATED:20250909T190718Z
LAST-MODIFIED:20260417T164553Z
UID:10018436-1782664200-1782666900@fpcjackson.org
SUMMARY:Student Choir
DESCRIPTION:Students in grades six-twelve are invited to join us for Student Choir! We rehearse Sunday afternoons 4:30-5:15 with supper to follow. Students will develop and practice basic musical skills\, lead worship in one Sunday night service a month\, and enjoy meaningful fellowship with other student choir members\, mentors\, and staff. For questions\, email Levi Henkel at LeviH@fpcjackson.org.
URL:https://fpcjackson.org/event/student-choir-2/2026-06-28/
LOCATION:FPC Jackson Campus\, 1390 North State Street\, Jackson\, MS\, 39202\, United States
CATEGORIES:Youth
ATTACH;FMTTYPE=image/png:https://fpcjackson.org/wp-content/uploads/2025/09/Student-Choir-2025.png
END:VEVENT
BEGIN:VEVENT
DTSTART;VALUE=DATE:20260629
DTEND;VALUE=DATE:20260704
DTSTAMP:20260421T215507
CREATED:20250206T194156Z
LAST-MODIFIED:20260220T180857Z
UID:10008835-1782691200-1783123199@fpcjackson.org
SUMMARY:Senior High RYM
DESCRIPTION:RYM Summer Conference 2026\nSpeaker: Rev. Mac Holt\nDates: June 29-July 3\nRising 10-12th Grade/College Freshmen\nLocation: Laguna Beach Christian Retreat Center\, Panama City\, Florida\nCost: $475 \nDeadline: June 12 \nRYM (Reformed Youth Ministries) is a youth conference that brings together students from across the country. At RYM the gospel is taught\, friendships are deepened\, and Mega Rec abounds. Register online at fpcj.ms/events. For more information about RYM\, visit rym.org.
URL:https://fpcjackson.org/event/senior-high-rym/
LOCATION:Laguna Beach Christian Retreat\, 20016 Front Beach Rd\, Panama City Beach\, FL\, 32413
CATEGORIES:Youth
ATTACH;FMTTYPE=image/png:https://fpcjackson.org/wp-content/uploads/2025/02/RYM-2026.png
END:VEVENT
BEGIN:VEVENT
DTSTART;TZID=America/Chicago:20260705T163000
DTEND;TZID=America/Chicago:20260705T171500
DTSTAMP:20260421T215507
CREATED:20250909T190718Z
LAST-MODIFIED:20260417T164553Z
UID:10018437-1783269000-1783271700@fpcjackson.org
SUMMARY:Student Choir
DESCRIPTION:Students in grades six-twelve are invited to join us for Student Choir! We rehearse Sunday afternoons 4:30-5:15 with supper to follow. Students will develop and practice basic musical skills\, lead worship in one Sunday night service a month\, and enjoy meaningful fellowship with other student choir members\, mentors\, and staff. For questions\, email Levi Henkel at LeviH@fpcjackson.org.
URL:https://fpcjackson.org/event/student-choir-2/2026-07-05/
LOCATION:FPC Jackson Campus\, 1390 North State Street\, Jackson\, MS\, 39202\, United States
CATEGORIES:Youth
ATTACH;FMTTYPE=image/png:https://fpcjackson.org/wp-content/uploads/2025/09/Student-Choir-2025.png
END:VEVENT
BEGIN:VEVENT
DTSTART;TZID=America/Chicago:20260712T163000
DTEND;TZID=America/Chicago:20260712T171500
DTSTAMP:20260421T215507
CREATED:20250909T190718Z
LAST-MODIFIED:20260417T164553Z
UID:10018438-1783873800-1783876500@fpcjackson.org
SUMMARY:Student Choir
DESCRIPTION:Students in grades six-twelve are invited to join us for Student Choir! We rehearse Sunday afternoons 4:30-5:15 with supper to follow. Students will develop and practice basic musical skills\, lead worship in one Sunday night service a month\, and enjoy meaningful fellowship with other student choir members\, mentors\, and staff. For questions\, email Levi Henkel at LeviH@fpcjackson.org.
URL:https://fpcjackson.org/event/student-choir-2/2026-07-12/
LOCATION:FPC Jackson Campus\, 1390 North State Street\, Jackson\, MS\, 39202\, United States
CATEGORIES:Youth
ATTACH;FMTTYPE=image/png:https://fpcjackson.org/wp-content/uploads/2025/09/Student-Choir-2025.png
END:VEVENT
BEGIN:VEVENT
DTSTART;TZID=America/Chicago:20260719T163000
DTEND;TZID=America/Chicago:20260719T171500
DTSTAMP:20260421T215507
CREATED:20250909T190718Z
LAST-MODIFIED:20260417T164553Z
UID:10018439-1784478600-1784481300@fpcjackson.org
SUMMARY:Student Choir
DESCRIPTION:Students in grades six-twelve are invited to join us for Student Choir! We rehearse Sunday afternoons 4:30-5:15 with supper to follow. Students will develop and practice basic musical skills\, lead worship in one Sunday night service a month\, and enjoy meaningful fellowship with other student choir members\, mentors\, and staff. For questions\, email Levi Henkel at LeviH@fpcjackson.org.
URL:https://fpcjackson.org/event/student-choir-2/2026-07-19/
LOCATION:FPC Jackson Campus\, 1390 North State Street\, Jackson\, MS\, 39202\, United States
CATEGORIES:Youth
ATTACH;FMTTYPE=image/png:https://fpcjackson.org/wp-content/uploads/2025/09/Student-Choir-2025.png
END:VEVENT
BEGIN:VEVENT
DTSTART;TZID=America/Chicago:20260726T163000
DTEND;TZID=America/Chicago:20260726T171500
DTSTAMP:20260421T215507
CREATED:20250909T190718Z
LAST-MODIFIED:20260417T164553Z
UID:10018440-1785083400-1785086100@fpcjackson.org
SUMMARY:Student Choir
DESCRIPTION:Students in grades six-twelve are invited to join us for Student Choir! We rehearse Sunday afternoons 4:30-5:15 with supper to follow. Students will develop and practice basic musical skills\, lead worship in one Sunday night service a month\, and enjoy meaningful fellowship with other student choir members\, mentors\, and staff. For questions\, email Levi Henkel at LeviH@fpcjackson.org.
URL:https://fpcjackson.org/event/student-choir-2/2026-07-26/
LOCATION:FPC Jackson Campus\, 1390 North State Street\, Jackson\, MS\, 39202\, United States
CATEGORIES:Youth
ATTACH;FMTTYPE=image/png:https://fpcjackson.org/wp-content/uploads/2025/09/Student-Choir-2025.png
END:VEVENT
BEGIN:VEVENT
DTSTART;TZID=America/Chicago:20260802T163000
DTEND;TZID=America/Chicago:20260802T171500
DTSTAMP:20260421T215507
CREATED:20250909T190718Z
LAST-MODIFIED:20260417T164553Z
UID:10018441-1785688200-1785690900@fpcjackson.org
SUMMARY:Student Choir
DESCRIPTION:Students in grades six-twelve are invited to join us for Student Choir! We rehearse Sunday afternoons 4:30-5:15 with supper to follow. Students will develop and practice basic musical skills\, lead worship in one Sunday night service a month\, and enjoy meaningful fellowship with other student choir members\, mentors\, and staff. For questions\, email Levi Henkel at LeviH@fpcjackson.org.
URL:https://fpcjackson.org/event/student-choir-2/2026-08-02/
LOCATION:FPC Jackson Campus\, 1390 North State Street\, Jackson\, MS\, 39202\, United States
CATEGORIES:Youth
ATTACH;FMTTYPE=image/png:https://fpcjackson.org/wp-content/uploads/2025/09/Student-Choir-2025.png
END:VEVENT
BEGIN:VEVENT
DTSTART;TZID=America/Chicago:20260809T163000
DTEND;TZID=America/Chicago:20260809T171500
DTSTAMP:20260421T215507
CREATED:20250909T190718Z
LAST-MODIFIED:20260417T164553Z
UID:10018442-1786293000-1786295700@fpcjackson.org
SUMMARY:Student Choir
DESCRIPTION:Students in grades six-twelve are invited to join us for Student Choir! We rehearse Sunday afternoons 4:30-5:15 with supper to follow. Students will develop and practice basic musical skills\, lead worship in one Sunday night service a month\, and enjoy meaningful fellowship with other student choir members\, mentors\, and staff. For questions\, email Levi Henkel at LeviH@fpcjackson.org.
URL:https://fpcjackson.org/event/student-choir-2/2026-08-09/
LOCATION:FPC Jackson Campus\, 1390 North State Street\, Jackson\, MS\, 39202\, United States
CATEGORIES:Youth
ATTACH;FMTTYPE=image/png:https://fpcjackson.org/wp-content/uploads/2025/09/Student-Choir-2025.png
END:VEVENT
BEGIN:VEVENT
DTSTART;TZID=America/Chicago:20260816T163000
DTEND;TZID=America/Chicago:20260816T171500
DTSTAMP:20260421T215507
CREATED:20250909T190718Z
LAST-MODIFIED:20260417T164553Z
UID:10018443-1786897800-1786900500@fpcjackson.org
SUMMARY:Student Choir
DESCRIPTION:Students in grades six-twelve are invited to join us for Student Choir! We rehearse Sunday afternoons 4:30-5:15 with supper to follow. Students will develop and practice basic musical skills\, lead worship in one Sunday night service a month\, and enjoy meaningful fellowship with other student choir members\, mentors\, and staff. For questions\, email Levi Henkel at LeviH@fpcjackson.org.
URL:https://fpcjackson.org/event/student-choir-2/2026-08-16/
LOCATION:FPC Jackson Campus\, 1390 North State Street\, Jackson\, MS\, 39202\, United States
CATEGORIES:Youth
ATTACH;FMTTYPE=image/png:https://fpcjackson.org/wp-content/uploads/2025/09/Student-Choir-2025.png
END:VEVENT
BEGIN:VEVENT
DTSTART;TZID=America/Chicago:20260823T163000
DTEND;TZID=America/Chicago:20260823T171500
DTSTAMP:20260421T215507
CREATED:20250909T190718Z
LAST-MODIFIED:20260417T164553Z
UID:10018444-1787502600-1787505300@fpcjackson.org
SUMMARY:Student Choir
DESCRIPTION:Students in grades six-twelve are invited to join us for Student Choir! We rehearse Sunday afternoons 4:30-5:15 with supper to follow. Students will develop and practice basic musical skills\, lead worship in one Sunday night service a month\, and enjoy meaningful fellowship with other student choir members\, mentors\, and staff. For questions\, email Levi Henkel at LeviH@fpcjackson.org.
URL:https://fpcjackson.org/event/student-choir-2/2026-08-23/
LOCATION:FPC Jackson Campus\, 1390 North State Street\, Jackson\, MS\, 39202\, United States
CATEGORIES:Youth
ATTACH;FMTTYPE=image/png:https://fpcjackson.org/wp-content/uploads/2025/09/Student-Choir-2025.png
END:VEVENT
BEGIN:VEVENT
DTSTART;TZID=America/Chicago:20260830T163000
DTEND;TZID=America/Chicago:20260830T171500
DTSTAMP:20260421T215507
CREATED:20250909T190718Z
LAST-MODIFIED:20260417T164553Z
UID:10018445-1788107400-1788110100@fpcjackson.org
SUMMARY:Student Choir
DESCRIPTION:Students in grades six-twelve are invited to join us for Student Choir! We rehearse Sunday afternoons 4:30-5:15 with supper to follow. Students will develop and practice basic musical skills\, lead worship in one Sunday night service a month\, and enjoy meaningful fellowship with other student choir members\, mentors\, and staff. For questions\, email Levi Henkel at LeviH@fpcjackson.org.
URL:https://fpcjackson.org/event/student-choir-2/2026-08-30/
LOCATION:FPC Jackson Campus\, 1390 North State Street\, Jackson\, MS\, 39202\, United States
CATEGORIES:Youth
ATTACH;FMTTYPE=image/png:https://fpcjackson.org/wp-content/uploads/2025/09/Student-Choir-2025.png
END:VEVENT
BEGIN:VEVENT
DTSTART;TZID=America/Chicago:20260906T163000
DTEND;TZID=America/Chicago:20260906T171500
DTSTAMP:20260421T215507
CREATED:20250909T190718Z
LAST-MODIFIED:20260417T164553Z
UID:10018446-1788712200-1788714900@fpcjackson.org
SUMMARY:Student Choir
DESCRIPTION:Students in grades six-twelve are invited to join us for Student Choir! We rehearse Sunday afternoons 4:30-5:15 with supper to follow. Students will develop and practice basic musical skills\, lead worship in one Sunday night service a month\, and enjoy meaningful fellowship with other student choir members\, mentors\, and staff. For questions\, email Levi Henkel at LeviH@fpcjackson.org.
URL:https://fpcjackson.org/event/student-choir-2/2026-09-06/
LOCATION:FPC Jackson Campus\, 1390 North State Street\, Jackson\, MS\, 39202\, United States
CATEGORIES:Youth
ATTACH;FMTTYPE=image/png:https://fpcjackson.org/wp-content/uploads/2025/09/Student-Choir-2025.png
END:VEVENT
BEGIN:VEVENT
DTSTART;TZID=America/Chicago:20260913T163000
DTEND;TZID=America/Chicago:20260913T171500
DTSTAMP:20260421T215507
CREATED:20250909T190718Z
LAST-MODIFIED:20260417T164553Z
UID:10018447-1789317000-1789319700@fpcjackson.org
SUMMARY:Student Choir
DESCRIPTION:Students in grades six-twelve are invited to join us for Student Choir! We rehearse Sunday afternoons 4:30-5:15 with supper to follow. Students will develop and practice basic musical skills\, lead worship in one Sunday night service a month\, and enjoy meaningful fellowship with other student choir members\, mentors\, and staff. For questions\, email Levi Henkel at LeviH@fpcjackson.org.
URL:https://fpcjackson.org/event/student-choir-2/2026-09-13/
LOCATION:FPC Jackson Campus\, 1390 North State Street\, Jackson\, MS\, 39202\, United States
CATEGORIES:Youth
ATTACH;FMTTYPE=image/png:https://fpcjackson.org/wp-content/uploads/2025/09/Student-Choir-2025.png
END:VEVENT
BEGIN:VEVENT
DTSTART;TZID=America/Chicago:20260920T163000
DTEND;TZID=America/Chicago:20260920T171500
DTSTAMP:20260421T215507
CREATED:20250909T190718Z
LAST-MODIFIED:20260417T164553Z
UID:10018448-1789921800-1789924500@fpcjackson.org
SUMMARY:Student Choir
DESCRIPTION:Students in grades six-twelve are invited to join us for Student Choir! We rehearse Sunday afternoons 4:30-5:15 with supper to follow. Students will develop and practice basic musical skills\, lead worship in one Sunday night service a month\, and enjoy meaningful fellowship with other student choir members\, mentors\, and staff. For questions\, email Levi Henkel at LeviH@fpcjackson.org.
URL:https://fpcjackson.org/event/student-choir-2/2026-09-20/
LOCATION:FPC Jackson Campus\, 1390 North State Street\, Jackson\, MS\, 39202\, United States
CATEGORIES:Youth
ATTACH;FMTTYPE=image/png:https://fpcjackson.org/wp-content/uploads/2025/09/Student-Choir-2025.png
END:VEVENT
BEGIN:VEVENT
DTSTART;TZID=America/Chicago:20260927T163000
DTEND;TZID=America/Chicago:20260927T171500
DTSTAMP:20260421T215507
CREATED:20250909T190718Z
LAST-MODIFIED:20260417T164553Z
UID:10018449-1790526600-1790529300@fpcjackson.org
SUMMARY:Student Choir
DESCRIPTION:Students in grades six-twelve are invited to join us for Student Choir! We rehearse Sunday afternoons 4:30-5:15 with supper to follow. Students will develop and practice basic musical skills\, lead worship in one Sunday night service a month\, and enjoy meaningful fellowship with other student choir members\, mentors\, and staff. For questions\, email Levi Henkel at LeviH@fpcjackson.org.
URL:https://fpcjackson.org/event/student-choir-2/2026-09-27/
LOCATION:FPC Jackson Campus\, 1390 North State Street\, Jackson\, MS\, 39202\, United States
CATEGORIES:Youth
ATTACH;FMTTYPE=image/png:https://fpcjackson.org/wp-content/uploads/2025/09/Student-Choir-2025.png
END:VEVENT
BEGIN:VEVENT
DTSTART;TZID=America/Chicago:20261004T163000
DTEND;TZID=America/Chicago:20261004T171500
DTSTAMP:20260421T215507
CREATED:20250909T190718Z
LAST-MODIFIED:20260417T164553Z
UID:10018450-1791131400-1791134100@fpcjackson.org
SUMMARY:Student Choir
DESCRIPTION:Students in grades six-twelve are invited to join us for Student Choir! We rehearse Sunday afternoons 4:30-5:15 with supper to follow. Students will develop and practice basic musical skills\, lead worship in one Sunday night service a month\, and enjoy meaningful fellowship with other student choir members\, mentors\, and staff. For questions\, email Levi Henkel at LeviH@fpcjackson.org.
URL:https://fpcjackson.org/event/student-choir-2/2026-10-04/
LOCATION:FPC Jackson Campus\, 1390 North State Street\, Jackson\, MS\, 39202\, United States
CATEGORIES:Youth
ATTACH;FMTTYPE=image/png:https://fpcjackson.org/wp-content/uploads/2025/09/Student-Choir-2025.png
END:VEVENT
BEGIN:VEVENT
DTSTART;TZID=America/Chicago:20261011T163000
DTEND;TZID=America/Chicago:20261011T171500
DTSTAMP:20260421T215507
CREATED:20250909T190718Z
LAST-MODIFIED:20260417T164553Z
UID:10018451-1791736200-1791738900@fpcjackson.org
SUMMARY:Student Choir
DESCRIPTION:Students in grades six-twelve are invited to join us for Student Choir! We rehearse Sunday afternoons 4:30-5:15 with supper to follow. Students will develop and practice basic musical skills\, lead worship in one Sunday night service a month\, and enjoy meaningful fellowship with other student choir members\, mentors\, and staff. For questions\, email Levi Henkel at LeviH@fpcjackson.org.
URL:https://fpcjackson.org/event/student-choir-2/2026-10-11/
LOCATION:FPC Jackson Campus\, 1390 North State Street\, Jackson\, MS\, 39202\, United States
CATEGORIES:Youth
ATTACH;FMTTYPE=image/png:https://fpcjackson.org/wp-content/uploads/2025/09/Student-Choir-2025.png
END:VEVENT
BEGIN:VEVENT
DTSTART;TZID=America/Chicago:20261018T163000
DTEND;TZID=America/Chicago:20261018T171500
DTSTAMP:20260421T215507
CREATED:20250909T190718Z
LAST-MODIFIED:20260417T164553Z
UID:10018452-1792341000-1792343700@fpcjackson.org
SUMMARY:Student Choir
DESCRIPTION:Students in grades six-twelve are invited to join us for Student Choir! We rehearse Sunday afternoons 4:30-5:15 with supper to follow. Students will develop and practice basic musical skills\, lead worship in one Sunday night service a month\, and enjoy meaningful fellowship with other student choir members\, mentors\, and staff. For questions\, email Levi Henkel at LeviH@fpcjackson.org.
URL:https://fpcjackson.org/event/student-choir-2/2026-10-18/
LOCATION:FPC Jackson Campus\, 1390 North State Street\, Jackson\, MS\, 39202\, United States
CATEGORIES:Youth
ATTACH;FMTTYPE=image/png:https://fpcjackson.org/wp-content/uploads/2025/09/Student-Choir-2025.png
END:VEVENT
BEGIN:VEVENT
DTSTART;TZID=America/Chicago:20261025T163000
DTEND;TZID=America/Chicago:20261025T171500
DTSTAMP:20260421T215507
CREATED:20250909T190718Z
LAST-MODIFIED:20260417T164553Z
UID:10018453-1792945800-1792948500@fpcjackson.org
SUMMARY:Student Choir
DESCRIPTION:Students in grades six-twelve are invited to join us for Student Choir! We rehearse Sunday afternoons 4:30-5:15 with supper to follow. Students will develop and practice basic musical skills\, lead worship in one Sunday night service a month\, and enjoy meaningful fellowship with other student choir members\, mentors\, and staff. For questions\, email Levi Henkel at LeviH@fpcjackson.org.
URL:https://fpcjackson.org/event/student-choir-2/2026-10-25/
LOCATION:FPC Jackson Campus\, 1390 North State Street\, Jackson\, MS\, 39202\, United States
CATEGORIES:Youth
ATTACH;FMTTYPE=image/png:https://fpcjackson.org/wp-content/uploads/2025/09/Student-Choir-2025.png
END:VEVENT
BEGIN:VEVENT
DTSTART;TZID=America/Chicago:20261101T163000
DTEND;TZID=America/Chicago:20261101T171500
DTSTAMP:20260421T215507
CREATED:20250909T190718Z
LAST-MODIFIED:20260417T164553Z
UID:10018454-1793550600-1793553300@fpcjackson.org
SUMMARY:Student Choir
DESCRIPTION:Students in grades six-twelve are invited to join us for Student Choir! We rehearse Sunday afternoons 4:30-5:15 with supper to follow. Students will develop and practice basic musical skills\, lead worship in one Sunday night service a month\, and enjoy meaningful fellowship with other student choir members\, mentors\, and staff. For questions\, email Levi Henkel at LeviH@fpcjackson.org.
URL:https://fpcjackson.org/event/student-choir-2/2026-11-01/
LOCATION:FPC Jackson Campus\, 1390 North State Street\, Jackson\, MS\, 39202\, United States
CATEGORIES:Youth
ATTACH;FMTTYPE=image/png:https://fpcjackson.org/wp-content/uploads/2025/09/Student-Choir-2025.png
END:VEVENT
END:VCALENDAR