BEGIN:VCALENDAR
VERSION:2.0
PRODID:-//First Presbyterian Church - ECPv6.15.20//NONSGML v1.0//EN
CALSCALE:GREGORIAN
METHOD:PUBLISH
X-ORIGINAL-URL:https://fpcjackson.org
X-WR-CALDESC:Events for First Presbyterian Church
REFRESH-INTERVAL;VALUE=DURATION:PT1H
X-Robots-Tag:noindex
X-PUBLISHED-TTL:PT1H
BEGIN:VTIMEZONE
TZID:America/Chicago
BEGIN:DAYLIGHT
TZOFFSETFROM:-0600
TZOFFSETTO:-0500
TZNAME:CDT
DTSTART:20250309T080000
END:DAYLIGHT
BEGIN:STANDARD
TZOFFSETFROM:-0500
TZOFFSETTO:-0600
TZNAME:CST
DTSTART:20251102T070000
END:STANDARD
BEGIN:DAYLIGHT
TZOFFSETFROM:-0600
TZOFFSETTO:-0500
TZNAME:CDT
DTSTART:20260308T080000
END:DAYLIGHT
BEGIN:STANDARD
TZOFFSETFROM:-0500
TZOFFSETTO:-0600
TZNAME:CST
DTSTART:20261101T070000
END:STANDARD
BEGIN:DAYLIGHT
TZOFFSETFROM:-0600
TZOFFSETTO:-0500
TZNAME:CDT
DTSTART:20270314T080000
END:DAYLIGHT
BEGIN:STANDARD
TZOFFSETFROM:-0500
TZOFFSETTO:-0600
TZNAME:CST
DTSTART:20271107T070000
END:STANDARD
END:VTIMEZONE
BEGIN:VEVENT
DTSTART;TZID=America/Chicago:20260503T163000
DTEND;TZID=America/Chicago:20260503T171500
DTSTAMP:20260422T021308
CREATED:20250909T190718Z
LAST-MODIFIED:20260417T164553Z
UID:10018428-1777825800-1777828500@fpcjackson.org
SUMMARY:Student Choir
DESCRIPTION:Students in grades six-twelve are invited to join us for Student Choir! We rehearse Sunday afternoons 4:30-5:15 with supper to follow. Students will develop and practice basic musical skills\, lead worship in one Sunday night service a month\, and enjoy meaningful fellowship with other student choir members\, mentors\, and staff. For questions\, email Levi Henkel at LeviH@fpcjackson.org.
URL:https://fpcjackson.org/event/student-choir-2/2026-05-03/
LOCATION:FPC Jackson Campus\, 1390 North State Street\, Jackson\, MS\, 39202\, United States
CATEGORIES:Youth
ATTACH;FMTTYPE=image/png:https://fpcjackson.org/wp-content/uploads/2025/09/Student-Choir-2025.png
END:VEVENT
BEGIN:VEVENT
DTSTART;TZID=America/Chicago:20260510T163000
DTEND;TZID=America/Chicago:20260510T171500
DTSTAMP:20260422T021308
CREATED:20250909T190718Z
LAST-MODIFIED:20260417T164553Z
UID:10018429-1778430600-1778433300@fpcjackson.org
SUMMARY:Student Choir
DESCRIPTION:Students in grades six-twelve are invited to join us for Student Choir! We rehearse Sunday afternoons 4:30-5:15 with supper to follow. Students will develop and practice basic musical skills\, lead worship in one Sunday night service a month\, and enjoy meaningful fellowship with other student choir members\, mentors\, and staff. For questions\, email Levi Henkel at LeviH@fpcjackson.org.
URL:https://fpcjackson.org/event/student-choir-2/2026-05-10/
LOCATION:FPC Jackson Campus\, 1390 North State Street\, Jackson\, MS\, 39202\, United States
CATEGORIES:Youth
ATTACH;FMTTYPE=image/png:https://fpcjackson.org/wp-content/uploads/2025/09/Student-Choir-2025.png
END:VEVENT
BEGIN:VEVENT
DTSTART;TZID=America/Chicago:20260517T163000
DTEND;TZID=America/Chicago:20260517T171500
DTSTAMP:20260422T021308
CREATED:20250909T190718Z
LAST-MODIFIED:20260417T164553Z
UID:10018430-1779035400-1779038100@fpcjackson.org
SUMMARY:Student Choir
DESCRIPTION:Students in grades six-twelve are invited to join us for Student Choir! We rehearse Sunday afternoons 4:30-5:15 with supper to follow. Students will develop and practice basic musical skills\, lead worship in one Sunday night service a month\, and enjoy meaningful fellowship with other student choir members\, mentors\, and staff. For questions\, email Levi Henkel at LeviH@fpcjackson.org.
URL:https://fpcjackson.org/event/student-choir-2/2026-05-17/
LOCATION:FPC Jackson Campus\, 1390 North State Street\, Jackson\, MS\, 39202\, United States
CATEGORIES:Youth
ATTACH;FMTTYPE=image/png:https://fpcjackson.org/wp-content/uploads/2025/09/Student-Choir-2025.png
END:VEVENT
BEGIN:VEVENT
DTSTART;TZID=America/Chicago:20260524T163000
DTEND;TZID=America/Chicago:20260524T171500
DTSTAMP:20260422T021308
CREATED:20250909T190718Z
LAST-MODIFIED:20260417T164553Z
UID:10018431-1779640200-1779642900@fpcjackson.org
SUMMARY:Student Choir
DESCRIPTION:Students in grades six-twelve are invited to join us for Student Choir! We rehearse Sunday afternoons 4:30-5:15 with supper to follow. Students will develop and practice basic musical skills\, lead worship in one Sunday night service a month\, and enjoy meaningful fellowship with other student choir members\, mentors\, and staff. For questions\, email Levi Henkel at LeviH@fpcjackson.org.
URL:https://fpcjackson.org/event/student-choir-2/2026-05-24/
LOCATION:FPC Jackson Campus\, 1390 North State Street\, Jackson\, MS\, 39202\, United States
CATEGORIES:Youth
ATTACH;FMTTYPE=image/png:https://fpcjackson.org/wp-content/uploads/2025/09/Student-Choir-2025.png
END:VEVENT
BEGIN:VEVENT
DTSTART;TZID=America/Chicago:20260531T163000
DTEND;TZID=America/Chicago:20260531T171500
DTSTAMP:20260422T021308
CREATED:20250909T190718Z
LAST-MODIFIED:20260417T164553Z
UID:10018432-1780245000-1780247700@fpcjackson.org
SUMMARY:Student Choir
DESCRIPTION:Students in grades six-twelve are invited to join us for Student Choir! We rehearse Sunday afternoons 4:30-5:15 with supper to follow. Students will develop and practice basic musical skills\, lead worship in one Sunday night service a month\, and enjoy meaningful fellowship with other student choir members\, mentors\, and staff. For questions\, email Levi Henkel at LeviH@fpcjackson.org.
URL:https://fpcjackson.org/event/student-choir-2/2026-05-31/
LOCATION:FPC Jackson Campus\, 1390 North State Street\, Jackson\, MS\, 39202\, United States
CATEGORIES:Youth
ATTACH;FMTTYPE=image/png:https://fpcjackson.org/wp-content/uploads/2025/09/Student-Choir-2025.png
END:VEVENT
END:VCALENDAR