BEGIN:VCALENDAR
VERSION:2.0
PRODID:-//First Presbyterian Church - ECPv6.15.20//NONSGML v1.0//EN
CALSCALE:GREGORIAN
METHOD:PUBLISH
X-ORIGINAL-URL:https://fpcjackson.org
X-WR-CALDESC:Events for First Presbyterian Church
REFRESH-INTERVAL;VALUE=DURATION:PT1H
X-Robots-Tag:noindex
X-PUBLISHED-TTL:PT1H
BEGIN:VTIMEZONE
TZID:America/Chicago
BEGIN:DAYLIGHT
TZOFFSETFROM:-0600
TZOFFSETTO:-0500
TZNAME:CDT
DTSTART:20250309T080000
END:DAYLIGHT
BEGIN:STANDARD
TZOFFSETFROM:-0500
TZOFFSETTO:-0600
TZNAME:CST
DTSTART:20251102T070000
END:STANDARD
BEGIN:DAYLIGHT
TZOFFSETFROM:-0600
TZOFFSETTO:-0500
TZNAME:CDT
DTSTART:20260308T080000
END:DAYLIGHT
BEGIN:STANDARD
TZOFFSETFROM:-0500
TZOFFSETTO:-0600
TZNAME:CST
DTSTART:20261101T070000
END:STANDARD
BEGIN:DAYLIGHT
TZOFFSETFROM:-0600
TZOFFSETTO:-0500
TZNAME:CDT
DTSTART:20270314T080000
END:DAYLIGHT
BEGIN:STANDARD
TZOFFSETFROM:-0500
TZOFFSETTO:-0600
TZNAME:CST
DTSTART:20271107T070000
END:STANDARD
END:VTIMEZONE
BEGIN:VEVENT
DTSTART;TZID=America/Chicago:20260201T163000
DTEND;TZID=America/Chicago:20260201T171500
DTSTAMP:20260422T051003
CREATED:20250909T190718Z
LAST-MODIFIED:20260417T164553Z
UID:10018415-1769963400-1769966100@fpcjackson.org
SUMMARY:Student Choir
DESCRIPTION:Students in grades six-twelve are invited to join us for Student Choir! We rehearse Sunday afternoons 4:30-5:15 with supper to follow. Students will develop and practice basic musical skills\, lead worship in one Sunday night service a month\, and enjoy meaningful fellowship with other student choir members\, mentors\, and staff. For questions\, email Levi Henkel at LeviH@fpcjackson.org.
URL:https://fpcjackson.org/event/student-choir-2/2026-02-01/
LOCATION:FPC Jackson Campus\, 1390 North State Street\, Jackson\, MS\, 39202\, United States
CATEGORIES:Youth
ATTACH;FMTTYPE=image/png:https://fpcjackson.org/wp-content/uploads/2025/09/Student-Choir-2025.png
END:VEVENT
BEGIN:VEVENT
DTSTART;TZID=America/Chicago:20260207T093000
DTEND;TZID=America/Chicago:20260207T113000
DTSTAMP:20260422T051003
CREATED:20260123T175905Z
LAST-MODIFIED:20260123T175905Z
UID:10020344-1770456600-1770463800@fpcjackson.org
SUMMARY:FPCYM Mother Daughter Brunch
DESCRIPTION:7th-12th grade moms and daughters are invited to join us for a morning of good food\, fellowship\, and worship\, Saturday\, February 7\, at 9:30 a.m. in Hutton Chapel.
URL:https://fpcjackson.org/event/fpcym-mother-daughter-brunch/
LOCATION:Hutton Chapel\, 1390 North State Street\, Jackson\, MS\, 39202\, United States
CATEGORIES:Youth
ATTACH;FMTTYPE=image/png:https://fpcjackson.org/wp-content/uploads/2026/01/Mother-Daughter-Brunch.png
END:VEVENT
BEGIN:VEVENT
DTSTART;TZID=America/Chicago:20260208T163000
DTEND;TZID=America/Chicago:20260208T171500
DTSTAMP:20260422T051003
CREATED:20250909T190718Z
LAST-MODIFIED:20260417T164553Z
UID:10018416-1770568200-1770570900@fpcjackson.org
SUMMARY:Student Choir
DESCRIPTION:Students in grades six-twelve are invited to join us for Student Choir! We rehearse Sunday afternoons 4:30-5:15 with supper to follow. Students will develop and practice basic musical skills\, lead worship in one Sunday night service a month\, and enjoy meaningful fellowship with other student choir members\, mentors\, and staff. For questions\, email Levi Henkel at LeviH@fpcjackson.org.
URL:https://fpcjackson.org/event/student-choir-2/2026-02-08/
LOCATION:FPC Jackson Campus\, 1390 North State Street\, Jackson\, MS\, 39202\, United States
CATEGORIES:Youth
ATTACH;FMTTYPE=image/png:https://fpcjackson.org/wp-content/uploads/2025/09/Student-Choir-2025.png
END:VEVENT
BEGIN:VEVENT
DTSTART;TZID=America/Chicago:20260215T163000
DTEND;TZID=America/Chicago:20260215T171500
DTSTAMP:20260422T051003
CREATED:20250909T190718Z
LAST-MODIFIED:20260417T164553Z
UID:10018417-1771173000-1771175700@fpcjackson.org
SUMMARY:Student Choir
DESCRIPTION:Students in grades six-twelve are invited to join us for Student Choir! We rehearse Sunday afternoons 4:30-5:15 with supper to follow. Students will develop and practice basic musical skills\, lead worship in one Sunday night service a month\, and enjoy meaningful fellowship with other student choir members\, mentors\, and staff. For questions\, email Levi Henkel at LeviH@fpcjackson.org.
URL:https://fpcjackson.org/event/student-choir-2/2026-02-15/
LOCATION:FPC Jackson Campus\, 1390 North State Street\, Jackson\, MS\, 39202\, United States
CATEGORIES:Youth
ATTACH;FMTTYPE=image/png:https://fpcjackson.org/wp-content/uploads/2025/09/Student-Choir-2025.png
END:VEVENT
BEGIN:VEVENT
DTSTART;TZID=America/Chicago:20260222T163000
DTEND;TZID=America/Chicago:20260222T171500
DTSTAMP:20260422T051003
CREATED:20250909T190718Z
LAST-MODIFIED:20260417T164553Z
UID:10018418-1771777800-1771780500@fpcjackson.org
SUMMARY:Student Choir
DESCRIPTION:Students in grades six-twelve are invited to join us for Student Choir! We rehearse Sunday afternoons 4:30-5:15 with supper to follow. Students will develop and practice basic musical skills\, lead worship in one Sunday night service a month\, and enjoy meaningful fellowship with other student choir members\, mentors\, and staff. For questions\, email Levi Henkel at LeviH@fpcjackson.org.
URL:https://fpcjackson.org/event/student-choir-2/2026-02-22/
LOCATION:FPC Jackson Campus\, 1390 North State Street\, Jackson\, MS\, 39202\, United States
CATEGORIES:Youth
ATTACH;FMTTYPE=image/png:https://fpcjackson.org/wp-content/uploads/2025/09/Student-Choir-2025.png
END:VEVENT
END:VCALENDAR