BEGIN:VCALENDAR
VERSION:2.0
PRODID:-//First Presbyterian Church - ECPv6.15.20//NONSGML v1.0//EN
CALSCALE:GREGORIAN
METHOD:PUBLISH
X-WR-CALNAME:First Presbyterian Church
X-ORIGINAL-URL:https://fpcjackson.org
X-WR-CALDESC:Events for First Presbyterian Church
REFRESH-INTERVAL;VALUE=DURATION:PT1H
X-Robots-Tag:noindex
X-PUBLISHED-TTL:PT1H
BEGIN:VTIMEZONE
TZID:America/Chicago
BEGIN:DAYLIGHT
TZOFFSETFROM:-0600
TZOFFSETTO:-0500
TZNAME:CDT
DTSTART:20240310T080000
END:DAYLIGHT
BEGIN:STANDARD
TZOFFSETFROM:-0500
TZOFFSETTO:-0600
TZNAME:CST
DTSTART:20241103T070000
END:STANDARD
BEGIN:DAYLIGHT
TZOFFSETFROM:-0600
TZOFFSETTO:-0500
TZNAME:CDT
DTSTART:20250309T080000
END:DAYLIGHT
BEGIN:STANDARD
TZOFFSETFROM:-0500
TZOFFSETTO:-0600
TZNAME:CST
DTSTART:20251102T070000
END:STANDARD
BEGIN:DAYLIGHT
TZOFFSETFROM:-0600
TZOFFSETTO:-0500
TZNAME:CDT
DTSTART:20260308T080000
END:DAYLIGHT
BEGIN:STANDARD
TZOFFSETFROM:-0500
TZOFFSETTO:-0600
TZNAME:CST
DTSTART:20261101T070000
END:STANDARD
BEGIN:DAYLIGHT
TZOFFSETFROM:-0600
TZOFFSETTO:-0500
TZNAME:CDT
DTSTART:20270314T080000
END:DAYLIGHT
BEGIN:STANDARD
TZOFFSETFROM:-0500
TZOFFSETTO:-0600
TZNAME:CST
DTSTART:20271107T070000
END:STANDARD
END:VTIMEZONE
BEGIN:VEVENT
DTSTART;VALUE=DATE:20260418
DTEND;VALUE=DATE:20260420
DTSTAMP:20260425T075746
CREATED:20251114T162856Z
LAST-MODIFIED:20260202T185514Z
UID:10018988-1776470400-1776643199@fpcjackson.org
SUMMARY:Young Adults Retreat
DESCRIPTION:Young Adults\, our retreat has been rescheduled due to weather for April 18-19. We’re heading back to Twin Lakes for a weekend to rest and refocus with teaching from Jermaine Van Buren. 
URL:https://fpcjackson.org/event/young-adults-retreat/
LOCATION:Twin Lakes Camp & Conference Center\, 155 Milner Road\, Florence\, MS\, 39073\, United States
CATEGORIES:Young Adults
ATTACH;FMTTYPE=image/png:https://fpcjackson.org/wp-content/uploads/2025/11/Young-Adults-Retreat-Rescheduled.png
END:VEVENT
BEGIN:VEVENT
DTSTART;TZID=America/Chicago:20260207T100000
DTEND;TZID=America/Chicago:20260207T120000
DTSTAMP:20260425T075746
CREATED:20260123T171309Z
LAST-MODIFIED:20260123T171309Z
UID:10020343-1770458400-1770465600@fpcjackson.org
SUMMARY:Young Adults Girls Brunch
DESCRIPTION:Young Adults girls\, you’re invited to Saturday morning brunch with the Young Adults Ministry\, February 7\, at 10 a.m.\, at the Russ home. Come and join us as we hear personal testimonies from Cassie Graves & Ella Payne. See you there!
URL:https://fpcjackson.org/event/young-adults-girls-brunch/
LOCATION:Off-Site
CATEGORIES:Young Adults
ATTACH;FMTTYPE=image/png:https://fpcjackson.org/wp-content/uploads/2026/01/YA-Girls-Brunch-2026.png
END:VEVENT
BEGIN:VEVENT
DTSTART;TZID=America/Chicago:20251209T183000
DTEND;TZID=America/Chicago:20251209T193000
DTSTAMP:20260425T075746
CREATED:20251113T142228Z
LAST-MODIFIED:20251113T142229Z
UID:10018979-1765305000-1765308600@fpcjackson.org
SUMMARY:Young Adults Advent Fellowship
DESCRIPTION:The Advent season invites us to slow down and reflect on the hope and promise of Christ’s coming. Join the Young Adults on December 9 at 6:30 p.m. in Hutton Chapel for a time of teaching with David Strain\, fellowship\, and dessert as we enter this season together in faith and anticipation.
URL:https://fpcjackson.org/event/young-adults-advent-fellowship-4/
LOCATION:FPC Jackson Campus\, 1390 North State Street\, Jackson\, MS\, 39202\, United States
CATEGORIES:Young Adults
ATTACH;FMTTYPE=image/png:https://fpcjackson.org/wp-content/uploads/2025/11/Young-Adults-Advent-Fellowship-2025-scaled.png
END:VEVENT
BEGIN:VEVENT
DTSTART;TZID=America/Chicago:20251113T183000
DTEND;TZID=America/Chicago:20251113T200000
DTSTAMP:20260425T075746
CREATED:20251028T205846Z
LAST-MODIFIED:20251030T154249Z
UID:10018971-1763058600-1763064000@fpcjackson.org
SUMMARY:Young Adults Thanksgiving
DESCRIPTION:Gather with friends for our Young Adults Thanksgiving!\nThursday\, November 13\n6:30 p.m.\nThe Bean in Fondren \nBring a dish to share and enjoy a cozy evening of food\, friends\, and gratitude.\nSign up to bring food at fpcj.ms/ya.
URL:https://fpcjackson.org/event/ya-thanksgiving/
LOCATION:Off-Site
CATEGORIES:Young Adults
ATTACH;FMTTYPE=image/png:https://fpcjackson.org/wp-content/uploads/2025/10/Young-Adults-Thanksgiving-2025.png
END:VEVENT
BEGIN:VEVENT
DTSTART;TZID=America/Chicago:20251009T183000
DTEND;TZID=America/Chicago:20251009T200000
DTSTAMP:20260425T075746
CREATED:20251002T215419Z
LAST-MODIFIED:20251002T220400Z
UID:10018963-1760034600-1760040000@fpcjackson.org
SUMMARY:YA Fall Harvest
DESCRIPTION:Young adults\, join us for a night of fall fun and fierce chili competition\, Thursday\, October 9 at 6:30 p.m. at the Oakley Home\, 2006 Douglass Dr.\, Jackson. Bring your favorite chili or fall dish and see if you have what it takes to win the coveted chili crown! \nSign up to bring food here 👉 fpcj.ms/ya.
URL:https://fpcjackson.org/event/ya-fall-harvest/
LOCATION:FPC Jackson Campus\, 1390 North State Street\, Jackson\, MS\, 39202\, United States
CATEGORIES:Young Adults
ATTACH;FMTTYPE=image/png:https://fpcjackson.org/wp-content/uploads/2025/10/YA-Harvest-Fest-2025.png
END:VEVENT
BEGIN:VEVENT
DTSTART;TZID=America/Chicago:20250918T183000
DTEND;TZID=America/Chicago:20250918T183000
DTSTAMP:20260425T075746
CREATED:20250908T211408Z
LAST-MODIFIED:20250909T182301Z
UID:10018377-1758220200-1758220200@fpcjackson.org
SUMMARY:Medical Fellowship
DESCRIPTION:Medical school is a demanding season\, but the Lord calls us to find strength in His Word and in the fellowship of His people. Join us for a Medical Fellowship\, Thursday\, September 18\, at 6:30 p.m.\, in Patterson Hall at FPC. This gathering is especially for those in medical training or preparing to enter it. We will share a meal\, receive encouragement\, and hear how others have stayed rooted in the life of the church while navigating the challenges of school. \nThere’s no cost to attend. Please register below so we can plan for food.
URL:https://fpcjackson.org/event/58109/
LOCATION:FPC Jackson Campus\, 1390 North State Street\, Jackson\, MS\, 39202\, United States
CATEGORIES:Young Adults
ATTACH;FMTTYPE=image/png:https://fpcjackson.org/wp-content/uploads/2025/09/Young-Adults-Medical-Fellowship.png
END:VEVENT
BEGIN:VEVENT
DTSTART;VALUE=DATE:20250821
DTEND;VALUE=DATE:20250822
DTSTAMP:20260425T075746
CREATED:20250814T214214Z
LAST-MODIFIED:20250814T214214Z
UID:10018286-1755763200-1755795600@fpcjackson.org
SUMMARY:Young Adults Supper Clubs
DESCRIPTION:“And day by day\, attending the temple together and breaking bread in their homes\, they received their food with glad and generous hearts.” — Acts 2:46 \nYoung Adults Supper Clubs are an opportunity to cultivate community around the supper table. Gather with us in smaller groups to share a meal and form new friendships. If you’re looking to connect more deeply with others in our large church\, we invite you to join us August 18\, 19\, or 21. Sign up at fpcj.ms/ya.
URL:https://fpcjackson.org/event/young-adults-supper-clubs/2025-08-21/
LOCATION:FPC Jackson Campus\, 1390 North State Street\, Jackson\, MS\, 39202\, United States
CATEGORIES:Young Adults
ATTACH;FMTTYPE=image/png:https://fpcjackson.org/wp-content/uploads/2025/07/Young-Adults-Supper-Clubs-Fall-2025.png
END:VEVENT
BEGIN:VEVENT
DTSTART;VALUE=DATE:20250819
DTEND;VALUE=DATE:20250820
DTSTAMP:20260425T075746
CREATED:20250814T214214Z
LAST-MODIFIED:20250814T214214Z
UID:10018285-1755590400-1755622800@fpcjackson.org
SUMMARY:Young Adults Supper Clubs
DESCRIPTION:“And day by day\, attending the temple together and breaking bread in their homes\, they received their food with glad and generous hearts.” — Acts 2:46 \nYoung Adults Supper Clubs are an opportunity to cultivate community around the supper table. Gather with us in smaller groups to share a meal and form new friendships. If you’re looking to connect more deeply with others in our large church\, we invite you to join us August 18\, 19\, or 21. Sign up at fpcj.ms/ya.
URL:https://fpcjackson.org/event/young-adults-supper-clubs/2025-08-19/
LOCATION:FPC Jackson Campus\, 1390 North State Street\, Jackson\, MS\, 39202\, United States
CATEGORIES:Young Adults
ATTACH;FMTTYPE=image/png:https://fpcjackson.org/wp-content/uploads/2025/07/Young-Adults-Supper-Clubs-Fall-2025.png
END:VEVENT
BEGIN:VEVENT
DTSTART;VALUE=DATE:20250818
DTEND;VALUE=DATE:20250819
DTSTAMP:20260425T075746
CREATED:20250814T214214Z
LAST-MODIFIED:20250814T214214Z
UID:10018284-1755475200-1755561599@fpcjackson.org
SUMMARY:Young Adults Supper Clubs
DESCRIPTION:“And day by day\, attending the temple together and breaking bread in their homes\, they received their food with glad and generous hearts.” — Acts 2:46 \nYoung Adults Supper Clubs are an opportunity to cultivate community around the supper table. Gather with us in smaller groups to share a meal and form new friendships. If you’re looking to connect more deeply with others in our large church\, we invite you to join us August 18\, 19\, or 21. Sign up at fpcj.ms/ya.
URL:https://fpcjackson.org/event/young-adults-supper-clubs/2025-08-18/
LOCATION:FPC Jackson Campus\, 1390 North State Street\, Jackson\, MS\, 39202\, United States
CATEGORIES:Young Adults
ATTACH;FMTTYPE=image/png:https://fpcjackson.org/wp-content/uploads/2025/07/Young-Adults-Supper-Clubs-Fall-2025.png
END:VEVENT
BEGIN:VEVENT
DTSTART;TZID=America/Chicago:20250814T180000
DTEND;TZID=America/Chicago:20250814T200000
DTSTAMP:20260425T075746
CREATED:20250814T192601Z
LAST-MODIFIED:20250814T192601Z
UID:10018282-1755194400-1755201600@fpcjackson.org
SUMMARY:Young Adults Fall Kick Off
DESCRIPTION:Young Adults\, get together as we kick off our fall programming Thursday\, August 14\, 6-8 p.m.\, at the Belhaven Town Center. Come catch up with old friends and meet new ones as well. We’ll have a taco bar for dinner. With questions\, contact one of our Young Adults staff members: Scott Miller\, Rose Ohnstad\, and Stephen Christenbury.
URL:https://fpcjackson.org/event/young-adults-fall-kick-off/
LOCATION:FPC Jackson Campus\, 1390 North State Street\, Jackson\, MS\, 39202\, United States
CATEGORIES:Young Adults
ATTACH;FMTTYPE=image/png:https://fpcjackson.org/wp-content/uploads/2025/08/Young-Adults-Fall-Kickoff-2025.png
END:VEVENT
BEGIN:VEVENT
DTSTART;TZID=America/Chicago:20250612T173000
DTEND;TZID=America/Chicago:20250612T190000
DTSTAMP:20260425T075746
CREATED:20250522T162417Z
LAST-MODIFIED:20250522T184514Z
UID:10010004-1749749400-1749754800@fpcjackson.org
SUMMARY:Young Adults Summer Kickoff
DESCRIPTION:Young Adults\, join us as we kickoff the summer on Thursday\, June 12\, 5:30-7 p.m. at Urban Foxes. We can’t wait to see you!  \nThe summer is an excellent time to plug in to the Young Adults Ministry as many graduate from school or move to town to start new jobs. If you know a young-adult age person (22-30) new to town or looking to connect with a church community\, please relay his or her information to our Young Adults staff members\, Scott Miller and Rose Ohnstad.
URL:https://fpcjackson.org/event/young-adults-summer-kickoff-2/
LOCATION:Off-Site
CATEGORIES:Young Adults
ATTACH;FMTTYPE=image/png:https://fpcjackson.org/wp-content/uploads/2025/05/Young-Adults-Summer-Kickoff-2025.png
END:VEVENT
BEGIN:VEVENT
DTSTART;TZID=America/Chicago:20250526T170000
DTEND;TZID=America/Chicago:20250526T170000
DTSTAMP:20260425T075746
CREATED:20250107T162705Z
LAST-MODIFIED:20250513T160154Z
UID:10008807-1748278800-1748278800@fpcjackson.org
SUMMARY:YA Supper Clubs
DESCRIPTION:Get together with friends new and old and share a meal together! Text Rose to sign up at 601-850-6697\, and we will follow up with more information.
URL:https://fpcjackson.org/event/ya-supper-clubs/
LOCATION:Off-Site
CATEGORIES:Young Adults
ATTACH;FMTTYPE=image/png:https://fpcjackson.org/wp-content/uploads/2025/01/Young-Adults-Supper-Clubs-Summer-2025.png
END:VEVENT
BEGIN:VEVENT
DTSTART;TZID=America/Chicago:20250508T180000
DTEND;TZID=America/Chicago:20250508T200000
DTSTAMP:20260425T075746
CREATED:20250425T192212Z
LAST-MODIFIED:20250425T193621Z
UID:10009171-1746727200-1746734400@fpcjackson.org
SUMMARY:Young Adults Barbecue
DESCRIPTION:Young Adults\, make plans to join us for Barbecue\, May 8\, at 6 p.m. at 4797 Crestwood Drive in Jackson. Bring a friend!  \nThe summer is an excellent time to plug in to the Young Adults Ministry as many move to town to start new jobs\, graduate school\, etc. If you know a young-adult age person new to town or looking to connect with a church community\, please relay his or her information to our Young Adults staff members.
URL:https://fpcjackson.org/event/young-adults-barbecue/
LOCATION:Off-Site
CATEGORIES:Young Adults
ATTACH;FMTTYPE=image/png:https://fpcjackson.org/wp-content/uploads/2025/04/YA-BBQ-may-2025.png
END:VEVENT
END:VCALENDAR