BEGIN:VCALENDAR
VERSION:2.0
PRODID:-//First Presbyterian Church - ECPv6.15.20//NONSGML v1.0//EN
CALSCALE:GREGORIAN
METHOD:PUBLISH
X-WR-CALNAME:First Presbyterian Church
X-ORIGINAL-URL:https://fpcjackson.org
X-WR-CALDESC:Events for First Presbyterian Church
REFRESH-INTERVAL;VALUE=DURATION:PT1H
X-Robots-Tag:noindex
X-PUBLISHED-TTL:PT1H
BEGIN:VTIMEZONE
TZID:America/Chicago
BEGIN:DAYLIGHT
TZOFFSETFROM:-0600
TZOFFSETTO:-0500
TZNAME:CDT
DTSTART:20250309T080000
END:DAYLIGHT
BEGIN:STANDARD
TZOFFSETFROM:-0500
TZOFFSETTO:-0600
TZNAME:CST
DTSTART:20251102T070000
END:STANDARD
BEGIN:DAYLIGHT
TZOFFSETFROM:-0600
TZOFFSETTO:-0500
TZNAME:CDT
DTSTART:20260308T080000
END:DAYLIGHT
BEGIN:STANDARD
TZOFFSETFROM:-0500
TZOFFSETTO:-0600
TZNAME:CST
DTSTART:20261101T070000
END:STANDARD
BEGIN:DAYLIGHT
TZOFFSETFROM:-0600
TZOFFSETTO:-0500
TZNAME:CDT
DTSTART:20270314T080000
END:DAYLIGHT
BEGIN:STANDARD
TZOFFSETFROM:-0500
TZOFFSETTO:-0600
TZNAME:CST
DTSTART:20271107T070000
END:STANDARD
END:VTIMEZONE
BEGIN:VEVENT
DTSTART;TZID=America/Chicago:20260425T170000
DTEND;TZID=America/Chicago:20260425T180000
DTSTAMP:20260425T112712
CREATED:20260319T200937Z
LAST-MODIFIED:20260319T200937Z
UID:10021185-1777136400-1777140000@fpcjackson.org
SUMMARY:Choir and Organ Festival
DESCRIPTION:Our adult choir will participate in the American Guild of Organists’ Choir and Organ Festival on April 25 at FPC\, and we are inviting all singers to join us! The program of classic sacred anthems and congregational hymns will feature 12 local conductors and organists. If you are interested in singing\, please contact Levi at levih@fpcjackson.org for more information. The 5 p.m. concert is free and open to the public.
URL:https://fpcjackson.org/event/choir-and-organ-festival/
LOCATION:Sanctuary\, 1390 North State Street\, Jackson\, MS\, 39202\, United States
CATEGORIES:Choir,Worship
ATTACH;FMTTYPE=image/png:https://fpcjackson.org/wp-content/uploads/2026/03/Choir-and-Organ-Festival.png
END:VEVENT
BEGIN:VEVENT
DTSTART;TZID=America/Chicago:20260426T143000
DTEND;TZID=America/Chicago:20260426T193000
DTSTAMP:20260425T112712
CREATED:20250407T191056Z
LAST-MODIFIED:20260417T164742Z
UID:10009164-1777213800-1777231800@fpcjackson.org
SUMMARY:Evening Worship at Twin Lakes
DESCRIPTION:On April 26 our evening worship service will be held at Twin Lakes. The casual service will begin at 5 p.m.\, but we encourage you to come early for a time of play and fellowship before the service. The gates will open at 2:30 p.m. so that you can enjoy the grounds! Dinner will follow the service. Register for a boxed dinner below or bring your own picnic. If you would like for Twin Lakes to provide a boxed dinner for you\, please note your preferences on the form below. \nDress comfortably and come to enjoy a service surrounded by the beauty of God’s creation. If you prefer not to drive to Twin Lakes\, we would love to provide a ride for you. Please sign up for a ride below.
URL:https://fpcjackson.org/event/evening-worship-at-twin-lakes/
LOCATION:Twin Lakes Camp & Conference Center\, 155 Milner Road\, Florence\, MS\, 39073\, United States
CATEGORIES:Worship
ATTACH;FMTTYPE=image/png:https://fpcjackson.org/wp-content/uploads/2026/03/Evening-Worship-at-Twin-Lakes-2026.png
END:VEVENT
END:VCALENDAR