BEGIN:VCALENDAR
VERSION:2.0
PRODID:-//First Presbyterian Church - ECPv6.15.20//NONSGML v1.0//EN
CALSCALE:GREGORIAN
METHOD:PUBLISH
X-ORIGINAL-URL:https://fpcjackson.org
X-WR-CALDESC:Events for First Presbyterian Church
REFRESH-INTERVAL;VALUE=DURATION:PT1H
X-Robots-Tag:noindex
X-PUBLISHED-TTL:PT1H
BEGIN:VTIMEZONE
TZID:America/Chicago
BEGIN:DAYLIGHT
TZOFFSETFROM:-0600
TZOFFSETTO:-0500
TZNAME:CDT
DTSTART:20250309T080000
END:DAYLIGHT
BEGIN:STANDARD
TZOFFSETFROM:-0500
TZOFFSETTO:-0600
TZNAME:CST
DTSTART:20251102T070000
END:STANDARD
BEGIN:DAYLIGHT
TZOFFSETFROM:-0600
TZOFFSETTO:-0500
TZNAME:CDT
DTSTART:20260308T080000
END:DAYLIGHT
BEGIN:STANDARD
TZOFFSETFROM:-0500
TZOFFSETTO:-0600
TZNAME:CST
DTSTART:20261101T070000
END:STANDARD
BEGIN:DAYLIGHT
TZOFFSETFROM:-0600
TZOFFSETTO:-0500
TZNAME:CDT
DTSTART:20270314T080000
END:DAYLIGHT
BEGIN:STANDARD
TZOFFSETFROM:-0500
TZOFFSETTO:-0600
TZNAME:CST
DTSTART:20271107T070000
END:STANDARD
END:VTIMEZONE
BEGIN:VEVENT
DTSTART;TZID=America/Chicago:20260120T093000
DTEND;TZID=America/Chicago:20260120T120000
DTSTAMP:20260422T043942
CREATED:20241118T154626Z
LAST-MODIFIED:20251218T221646Z
UID:10007195-1768901400-1768910400@fpcjackson.org
SUMMARY:French Camp Quilters
DESCRIPTION:This group of ladies meets at the church on Tuesday and Thursday mornings from 9:30 a.m. – 12 p.m. (you do not have to stay for the full 3 hrs.) This ministry is open to all ladies who enjoy quilting and for those who would like to learn! Each year\, the quilts that are completed are auctioned at French Camp’s Harvest Festival in October. All the proceeds from the quilts go directly to French Camp. A nursery is provided. \nThis summer we will meet in the Parlor while the Bookstore’s A/C is being renovated. \n\n\n\nChairman: Sara Margaret Johnson
URL:https://fpcjackson.org/event/french-camp-quilters-3-2/2026-01-20/
LOCATION:Bookstore/Library\, 1390 North State Street\, Jackson\, MS\, 39202\, United States
CATEGORIES:Women
ATTACH;FMTTYPE=image/png:https://fpcjackson.org/wp-content/uploads/2024/05/French-Camp-Quilters.png
END:VEVENT
BEGIN:VEVENT
DTSTART;TZID=America/Chicago:20260120T180000
DTEND;TZID=America/Chicago:20260120T200000
DTSTAMP:20260422T043942
CREATED:20260102T185213Z
LAST-MODIFIED:20260102T185213Z
UID:10020001-1768932000-1768939200@fpcjackson.org
SUMMARY:MOMS at Night Bible Study
DESCRIPTION:MOMS is a Bible study for expectant moms\, those who hope to become moms\, and those whose youngest child is in the sixth grade or below. We have two options – one meeting every Wednesday morning and one meeting two Tuesday nights each month. A nursery for ages three and under and homeschool room/childcare for children ages twelve and under are available\, but space is limited. \nThis spring MOMS at Night will continue our study\, Revelation: Victory in Jesus. In the book of Revelation\, the apostle John records the visions he was given: visions which tell of the resurrected and glorified Jesus and the throne room of heaven. Among others\, there are images of angelic hosts and demons\, battles and wars\, a garden and a wedding. We are also given a picture of our earthly struggles\, our false idolatries\, our false securities and we discover that what we think is important is actually fleeting and much of what we may invest our lives in is not as certain and significant as we may think it is. \nOur study will give us a picture of life on earth through the lens of heaven. The first few chapters show us that God has pulled back the curtain of heaven and invited John and his readers to view what He has already done\, what He is doing at present\, and His plans for the future of His creation. John’s beautiful vision of Jesus on the throne will grow our desire to be with Him and we will say as the apostle writes in the last sentence of the book\, “Come\, Lord Jesus!”
URL:https://fpcjackson.org/event/moms-at-night-bible-study/
LOCATION:Miller Hall\, 1390 North State Street\, Jackson\, MS\, 39202\, United States
CATEGORIES:Women
ATTACH;FMTTYPE=image/png:https://fpcjackson.org/wp-content/uploads/2025/07/MOMS-at-Night-Fall-2025-1-1-scaled.png
END:VEVENT
BEGIN:VEVENT
DTSTART;TZID=America/Chicago:20260121T090000
DTEND;TZID=America/Chicago:20260121T103000
DTSTAMP:20260422T043942
CREATED:20250711T212949Z
LAST-MODIFIED:20251218T222050Z
UID:10018484-1768986000-1768991400@fpcjackson.org
SUMMARY:We Will Go Women's Bible Study
DESCRIPTION:You’re invited to be a part of a new Bible & Prayer Time for Women! FPC is partnering with We Will Go for this twice-monthly get-together beginning September 3. This opportunity is for neighbors who want to love and grow with one another in the Lord on the first and third Wednesdays each month at 9-10:30 AM. We will meet together at We Will Go for a time of prayer\, Bible reading\, and fellowship. Join us to be a part of this new group! If you have questions\, please contact Carol Anne Miconi at\n601-506-5033 or carolannem@fpcjackson.org. \n“Speaking the truth in love\, we are to grow up in every way into Him who is the Head\, into Christ\, from whom the whole Body\, joined and held together by every joint with which it is equipped\, when each part is working properly\, makes the body grow so that it builds itself up in love.” Ephesians 4:15-16
URL:https://fpcjackson.org/event/we-will-go-womens-bible-study/2026-01-21/
LOCATION:We Will Go\, 806 N Farish St\, Jackson\, MS\, 39202\, United States
CATEGORIES:Mission and Outreach,Outreach,Women
ATTACH;FMTTYPE=image/png:https://fpcjackson.org/wp-content/uploads/2025/07/Women-Bible-and-Prayer.png
END:VEVENT
END:VCALENDAR