BEGIN:VCALENDAR
VERSION:2.0
PRODID:-//First Presbyterian Church - ECPv6.15.20//NONSGML v1.0//EN
CALSCALE:GREGORIAN
METHOD:PUBLISH
X-ORIGINAL-URL:https://fpcjackson.org
X-WR-CALDESC:Events for First Presbyterian Church
REFRESH-INTERVAL;VALUE=DURATION:PT1H
X-Robots-Tag:noindex
X-PUBLISHED-TTL:PT1H
BEGIN:VTIMEZONE
TZID:America/Chicago
BEGIN:DAYLIGHT
TZOFFSETFROM:-0600
TZOFFSETTO:-0500
TZNAME:CDT
DTSTART:20240310T080000
END:DAYLIGHT
BEGIN:STANDARD
TZOFFSETFROM:-0500
TZOFFSETTO:-0600
TZNAME:CST
DTSTART:20241103T070000
END:STANDARD
BEGIN:DAYLIGHT
TZOFFSETFROM:-0600
TZOFFSETTO:-0500
TZNAME:CDT
DTSTART:20250309T080000
END:DAYLIGHT
BEGIN:STANDARD
TZOFFSETFROM:-0500
TZOFFSETTO:-0600
TZNAME:CST
DTSTART:20251102T070000
END:STANDARD
BEGIN:DAYLIGHT
TZOFFSETFROM:-0600
TZOFFSETTO:-0500
TZNAME:CDT
DTSTART:20260308T080000
END:DAYLIGHT
BEGIN:STANDARD
TZOFFSETFROM:-0500
TZOFFSETTO:-0600
TZNAME:CST
DTSTART:20261101T070000
END:STANDARD
END:VTIMEZONE
BEGIN:VEVENT
DTSTART;VALUE=DATE:20250908
DTEND;VALUE=DATE:20250910
DTSTAMP:20260422T230745
CREATED:20250711T213319Z
LAST-MODIFIED:20260206T202931Z
UID:10018126-1757289600-1757462399@fpcjackson.org
SUMMARY:Circle Bible Studies | FIRST & SECOND PETER: A Living Hope in a Hard World
DESCRIPTION:Graphic\, Notebook Cover\, Bookmarks FIRST & SECOND PETER: A Living Hope in a Hard World\nOriginally written to Gentile Christians living in the northern provinces of Asia Minor (or modern-day Turkey) who were beginning to suffer persecution for their faith\, Peter’s letters instruct believers about living as Christians in a society that is hostile to their values and lifestyle. Both letters encourage Christians who are suffering for their faith in all places and all times\, showing us how to live out our redemption in a hostile world. Although salvation may involve suffering\, the gospel brings hope also as the grace of God is amplified in our lives. \nJoining a Circle is a wonderful way to get involved in the life of the church and make a big church feel like family. Circles are groups of women who meet monthly (September–May) for Bible study\, prayer\, fellowship\, and to learn of opportunities for service and missions within our church. To register\, contact Lisa Oswalt at 769-333-5802 or lisao@fpcjackson.org.
URL:https://fpcjackson.org/event/circle/2025-09-08/
LOCATION:FPC Jackson Campus\, 1390 North State Street\, Jackson\, MS\, 39202\, United States
CATEGORIES:Women
ATTACH;FMTTYPE=image/png:https://fpcjackson.org/wp-content/uploads/2025/07/Circles-25-26-scaled.png
END:VEVENT
BEGIN:VEVENT
DTSTART;TZID=America/Chicago:20250909T093000
DTEND;TZID=America/Chicago:20250909T120000
DTSTAMP:20260422T230745
CREATED:20241118T154626Z
LAST-MODIFIED:20251218T221646Z
UID:10007176-1757410200-1757419200@fpcjackson.org
SUMMARY:French Camp Quilters
DESCRIPTION:This group of ladies meets at the church on Tuesday and Thursday mornings from 9:30 a.m. – 12 p.m. (you do not have to stay for the full 3 hrs.) This ministry is open to all ladies who enjoy quilting and for those who would like to learn! Each year\, the quilts that are completed are auctioned at French Camp’s Harvest Festival in October. All the proceeds from the quilts go directly to French Camp. A nursery is provided. \nThis summer we will meet in the Parlor while the Bookstore’s A/C is being renovated. \n\n\n\nChairman: Sara Margaret Johnson
URL:https://fpcjackson.org/event/french-camp-quilters-3-2/2025-09-09/
LOCATION:Bookstore/Library\, 1390 North State Street\, Jackson\, MS\, 39202\, United States
CATEGORIES:Women
ATTACH;FMTTYPE=image/png:https://fpcjackson.org/wp-content/uploads/2024/05/French-Camp-Quilters.png
END:VEVENT
BEGIN:VEVENT
DTSTART;TZID=America/Chicago:20250910T090000
DTEND;TZID=America/Chicago:20250910T110000
DTSTAMP:20260422T230745
CREATED:20250711T213722Z
LAST-MODIFIED:20250723T183356Z
UID:10018127-1757494800-1757502000@fpcjackson.org
SUMMARY:MOMS Welcome Back Coffee
DESCRIPTION:MOMS is a Bible study for expectant moms\, those who hope to become moms\, and those whose youngest child is in the sixth grade or below. We have two options – one meeting every Wednesday morning and one meeting two Tuesday nights each month. A nursery for ages three and under and homeschool room/childcare for children ages twelve and under are available\, but space is limited. \nThis fall our study is Revelation: Victory in Jesus. In the book of Revelation\, the apostle John records the visions he was given: visions which tell of the resurrected and glorified Jesus and the throne room of heaven. Among others\, there are images of angelic hosts and demons\, battles and wars\, a garden and a wedding. We are also given a picture of our earthly struggles\, our false idolatries\, our false securities and we discover that what we think is important is actually fleeting and much of what we may invest our lives in is not as certain and significant as we may think it is. \nOur study will give us a picture of life on earth through the lens of heaven. The first few chapters show us that God has pulled back the curtain of heaven and invited John and his readers to view what He has already done\, what He is doing at present\, and His plans for the future of His creation. John’s beautiful vision of Jesus on the throne will grow our desire to be with Him and we will say as the apostle writes in the last sentence of the book\, “Come\, Lord Jesus!”
URL:https://fpcjackson.org/event/moms-welcome-back-coffee-3/
LOCATION:FPC Jackson Campus\, 1390 North State Street\, Jackson\, MS\, 39202\, United States
CATEGORIES:Women
ATTACH;FMTTYPE=image/png:https://fpcjackson.org/wp-content/uploads/2025/07/MOMS-Welcome-Back-2025-scaled.png
END:VEVENT
END:VCALENDAR