BEGIN:VCALENDAR
VERSION:2.0
PRODID:-//First Presbyterian Church - ECPv6.15.20//NONSGML v1.0//EN
CALSCALE:GREGORIAN
METHOD:PUBLISH
X-ORIGINAL-URL:https://fpcjackson.org
X-WR-CALDESC:Events for First Presbyterian Church
REFRESH-INTERVAL;VALUE=DURATION:PT1H
X-Robots-Tag:noindex
X-PUBLISHED-TTL:PT1H
BEGIN:VTIMEZONE
TZID:America/Chicago
BEGIN:DAYLIGHT
TZOFFSETFROM:-0600
TZOFFSETTO:-0500
TZNAME:CDT
DTSTART:20240310T080000
END:DAYLIGHT
BEGIN:STANDARD
TZOFFSETFROM:-0500
TZOFFSETTO:-0600
TZNAME:CST
DTSTART:20241103T070000
END:STANDARD
BEGIN:DAYLIGHT
TZOFFSETFROM:-0600
TZOFFSETTO:-0500
TZNAME:CDT
DTSTART:20250309T080000
END:DAYLIGHT
BEGIN:STANDARD
TZOFFSETFROM:-0500
TZOFFSETTO:-0600
TZNAME:CST
DTSTART:20251102T070000
END:STANDARD
BEGIN:DAYLIGHT
TZOFFSETFROM:-0600
TZOFFSETTO:-0500
TZNAME:CDT
DTSTART:20260308T080000
END:DAYLIGHT
BEGIN:STANDARD
TZOFFSETFROM:-0500
TZOFFSETTO:-0600
TZNAME:CST
DTSTART:20261101T070000
END:STANDARD
END:VTIMEZONE
BEGIN:VEVENT
DTSTART;TZID=America/Chicago:20250609T180000
DTEND;TZID=America/Chicago:20250609T200000
DTSTAMP:20260423T053114
CREATED:20250513T194331Z
LAST-MODIFIED:20250520T191706Z
UID:10009182-1749492000-1749499200@fpcjackson.org
SUMMARY:Women's Ministry Game Night
DESCRIPTION:Mahjong is an old game\, but new to many. It doesn’t matter if you are an expert or if you have never even seen a mahjong tile (FYI\, it is a game played with tiles.). There will be a seat at the table for everyone. We will have teachers on hand ready to help anyone who needs it. We will have light refreshments. Come join us for a fun time of fellowship and games! \n**You will need to purchase an official 2025 Mahjong card (linked below) from The National Mah Jong League as soon as possible. It could take 2-3 weeks to ship. Beware that cards purchased from other vendors may be fake.** \nMahjong Card \nWow! That was fast! After just one day of registration\, we had 75 responses and have already reached capacity. To join the waiting list for this event email deboraho@fpcjackson.org. We are excited about the response we received to our summer Mahjong game night! We hope to have another game night in the future. Keep an eye out for information.
URL:https://fpcjackson.org/event/womens-ministry-game-night/
LOCATION:Patterson Hall\, 1390 North State Street\, Jackson\, MS\, 39202\, United States
CATEGORIES:Women
ATTACH;FMTTYPE=image/png:https://fpcjackson.org/wp-content/uploads/2025/05/Womens-Game-Night-2025.png
END:VEVENT
BEGIN:VEVENT
DTSTART;TZID=America/Chicago:20250610T093000
DTEND;TZID=America/Chicago:20250610T120000
DTSTAMP:20260423T053114
CREATED:20241118T154626Z
LAST-MODIFIED:20251218T221646Z
UID:10007163-1749547800-1749556800@fpcjackson.org
SUMMARY:French Camp Quilters
DESCRIPTION:This group of ladies meets at the church on Tuesday and Thursday mornings from 9:30 a.m. – 12 p.m. (you do not have to stay for the full 3 hrs.) This ministry is open to all ladies who enjoy quilting and for those who would like to learn! Each year\, the quilts that are completed are auctioned at French Camp’s Harvest Festival in October. All the proceeds from the quilts go directly to French Camp. A nursery is provided. \nThis summer we will meet in the Parlor while the Bookstore’s A/C is being renovated. \n\n\n\nChairman: Sara Margaret Johnson
URL:https://fpcjackson.org/event/french-camp-quilters-3-2/2025-06-10/
LOCATION:Bookstore/Library\, 1390 North State Street\, Jackson\, MS\, 39202\, United States
CATEGORIES:Women
ATTACH;FMTTYPE=image/png:https://fpcjackson.org/wp-content/uploads/2024/05/French-Camp-Quilters.png
END:VEVENT
END:VCALENDAR