BEGIN:VCALENDAR
VERSION:2.0
PRODID:-//First Presbyterian Church - ECPv6.15.20//NONSGML v1.0//EN
CALSCALE:GREGORIAN
METHOD:PUBLISH
X-WR-CALNAME:First Presbyterian Church
X-ORIGINAL-URL:https://fpcjackson.org
X-WR-CALDESC:Events for First Presbyterian Church
REFRESH-INTERVAL;VALUE=DURATION:PT1H
X-Robots-Tag:noindex
X-PUBLISHED-TTL:PT1H
BEGIN:VTIMEZONE
TZID:America/Chicago
BEGIN:DAYLIGHT
TZOFFSETFROM:-0600
TZOFFSETTO:-0500
TZNAME:CDT
DTSTART:20250309T080000
END:DAYLIGHT
BEGIN:STANDARD
TZOFFSETFROM:-0500
TZOFFSETTO:-0600
TZNAME:CST
DTSTART:20251102T070000
END:STANDARD
BEGIN:DAYLIGHT
TZOFFSETFROM:-0600
TZOFFSETTO:-0500
TZNAME:CDT
DTSTART:20260308T080000
END:DAYLIGHT
BEGIN:STANDARD
TZOFFSETFROM:-0500
TZOFFSETTO:-0600
TZNAME:CST
DTSTART:20261101T070000
END:STANDARD
BEGIN:DAYLIGHT
TZOFFSETFROM:-0600
TZOFFSETTO:-0500
TZNAME:CDT
DTSTART:20270314T080000
END:DAYLIGHT
BEGIN:STANDARD
TZOFFSETFROM:-0500
TZOFFSETTO:-0600
TZNAME:CST
DTSTART:20271107T070000
END:STANDARD
END:VTIMEZONE
BEGIN:VEVENT
DTSTART;TZID=America/Chicago:20260226T113000
DTEND;TZID=America/Chicago:20260226T130000
DTSTAMP:20260422T015825
CREATED:20260204T195133Z
LAST-MODIFIED:20260204T195133Z
UID:10020431-1772105400-1772110800@fpcjackson.org
SUMMARY:Women's Missions Events
DESCRIPTION:Women’s Missions Events\ntwo options to choose from:\n11:30 a.m. Lunch in Miller Hall\n6 p.m. Dinner in Patterson Hall\nwith Kiki Adams\, Katy Brink\, Elizabeth Busching\, and Elizabeth Conroy\nNursery available for children age 3 and younger upon request
URL:https://fpcjackson.org/event/womens-missions-events/2026-02-26/1/
LOCATION:FPC Jackson Campus\, 1390 North State Street\, Jackson\, MS\, 39202\, United States
CATEGORIES:Mission and Outreach,Women
ATTACH;FMTTYPE=image/png:https://fpcjackson.org/wp-content/uploads/2026/02/Missions-Conference-Women-2026.png
END:VEVENT
BEGIN:VEVENT
DTSTART;TZID=America/Chicago:20260226T180000
DTEND;TZID=America/Chicago:20260226T193000
DTSTAMP:20260422T015825
CREATED:20260204T195133Z
LAST-MODIFIED:20260204T195133Z
UID:10020432-1772128800-1772134200@fpcjackson.org
SUMMARY:Women's Missions Events
DESCRIPTION:Women’s Missions Events\ntwo options to choose from:\n11:30 a.m. Lunch in Miller Hall\n6 p.m. Dinner in Patterson Hall\nwith Kiki Adams\, Katy Brink\, Elizabeth Busching\, and Elizabeth Conroy\nNursery available for children age 3 and younger upon request
URL:https://fpcjackson.org/event/womens-missions-events/2026-02-26/2/
LOCATION:FPC Jackson Campus\, 1390 North State Street\, Jackson\, MS\, 39202\, United States
CATEGORIES:Mission and Outreach,Women
ATTACH;FMTTYPE=image/png:https://fpcjackson.org/wp-content/uploads/2026/02/Missions-Conference-Women-2026.png
END:VEVENT
END:VCALENDAR