BEGIN:VCALENDAR
VERSION:2.0
PRODID:-//First Presbyterian Church - ECPv6.15.20//NONSGML v1.0//EN
CALSCALE:GREGORIAN
METHOD:PUBLISH
X-ORIGINAL-URL:https://fpcjackson.org
X-WR-CALDESC:Events for First Presbyterian Church
REFRESH-INTERVAL;VALUE=DURATION:PT1H
X-Robots-Tag:noindex
X-PUBLISHED-TTL:PT1H
BEGIN:VTIMEZONE
TZID:America/Chicago
BEGIN:DAYLIGHT
TZOFFSETFROM:-0600
TZOFFSETTO:-0500
TZNAME:CDT
DTSTART:20280312T080000
END:DAYLIGHT
BEGIN:STANDARD
TZOFFSETFROM:-0500
TZOFFSETTO:-0600
TZNAME:CST
DTSTART:20281105T070000
END:STANDARD
BEGIN:DAYLIGHT
TZOFFSETFROM:-0600
TZOFFSETTO:-0500
TZNAME:CDT
DTSTART:20290311T080000
END:DAYLIGHT
BEGIN:STANDARD
TZOFFSETFROM:-0500
TZOFFSETTO:-0600
TZNAME:CST
DTSTART:20291104T070000
END:STANDARD
BEGIN:DAYLIGHT
TZOFFSETFROM:-0600
TZOFFSETTO:-0500
TZNAME:CDT
DTSTART:20300310T080000
END:DAYLIGHT
BEGIN:STANDARD
TZOFFSETFROM:-0500
TZOFFSETTO:-0600
TZNAME:CST
DTSTART:20301103T070000
END:STANDARD
END:VTIMEZONE
BEGIN:VEVENT
DTSTART;TZID=America/Chicago:20290404T180000
DTEND;TZID=America/Chicago:20290404T190000
DTSTAMP:20260423T104554
CREATED:20241204T213629Z
LAST-MODIFIED:20260306T160529Z
UID:10006819-1870020000-1870023600@fpcjackson.org
SUMMARY:Midweek Adult Programs
DESCRIPTION:
URL:https://fpcjackson.org/event/midweek-adult-programs-2/2029-04-04/
LOCATION:Various\, 1390 North State Street\, Jackson\, MS\, 39202\, United States
CATEGORIES:Bible Study,Class,Discipleship,Midweek,Teaching
END:VEVENT
BEGIN:VEVENT
DTSTART;TZID=America/Chicago:20290411T180000
DTEND;TZID=America/Chicago:20290411T190000
DTSTAMP:20260423T104554
CREATED:20241204T213629Z
LAST-MODIFIED:20260306T160529Z
UID:10006820-1870624800-1870628400@fpcjackson.org
SUMMARY:Midweek Adult Programs
DESCRIPTION:
URL:https://fpcjackson.org/event/midweek-adult-programs-2/2029-04-11/
LOCATION:Various\, 1390 North State Street\, Jackson\, MS\, 39202\, United States
CATEGORIES:Bible Study,Class,Discipleship,Midweek,Teaching
END:VEVENT
BEGIN:VEVENT
DTSTART;TZID=America/Chicago:20290418T180000
DTEND;TZID=America/Chicago:20290418T190000
DTSTAMP:20260423T104554
CREATED:20241204T213629Z
LAST-MODIFIED:20260306T160529Z
UID:10006821-1871229600-1871233200@fpcjackson.org
SUMMARY:Midweek Adult Programs
DESCRIPTION:
URL:https://fpcjackson.org/event/midweek-adult-programs-2/2029-04-18/
LOCATION:Various\, 1390 North State Street\, Jackson\, MS\, 39202\, United States
CATEGORIES:Bible Study,Class,Discipleship,Midweek,Teaching
END:VEVENT
BEGIN:VEVENT
DTSTART;TZID=America/Chicago:20290425T180000
DTEND;TZID=America/Chicago:20290425T190000
DTSTAMP:20260423T104554
CREATED:20241204T213629Z
LAST-MODIFIED:20260306T160529Z
UID:10006822-1871834400-1871838000@fpcjackson.org
SUMMARY:Midweek Adult Programs
DESCRIPTION:
URL:https://fpcjackson.org/event/midweek-adult-programs-2/2029-04-25/
LOCATION:Various\, 1390 North State Street\, Jackson\, MS\, 39202\, United States
CATEGORIES:Bible Study,Class,Discipleship,Midweek,Teaching
END:VEVENT
END:VCALENDAR