BEGIN:VCALENDAR
VERSION:2.0
PRODID:-//First Presbyterian Church - ECPv6.15.20//NONSGML v1.0//EN
CALSCALE:GREGORIAN
METHOD:PUBLISH
X-WR-CALNAME:First Presbyterian Church
X-ORIGINAL-URL:https://fpcjackson.org
X-WR-CALDESC:Events for First Presbyterian Church
REFRESH-INTERVAL;VALUE=DURATION:PT1H
X-Robots-Tag:noindex
X-PUBLISHED-TTL:PT1H
BEGIN:VTIMEZONE
TZID:America/Chicago
BEGIN:DAYLIGHT
TZOFFSETFROM:-0600
TZOFFSETTO:-0500
TZNAME:CDT
DTSTART:20240310T080000
END:DAYLIGHT
BEGIN:STANDARD
TZOFFSETFROM:-0500
TZOFFSETTO:-0600
TZNAME:CST
DTSTART:20241103T070000
END:STANDARD
BEGIN:DAYLIGHT
TZOFFSETFROM:-0600
TZOFFSETTO:-0500
TZNAME:CDT
DTSTART:20250309T080000
END:DAYLIGHT
BEGIN:STANDARD
TZOFFSETFROM:-0500
TZOFFSETTO:-0600
TZNAME:CST
DTSTART:20251102T070000
END:STANDARD
BEGIN:DAYLIGHT
TZOFFSETFROM:-0600
TZOFFSETTO:-0500
TZNAME:CDT
DTSTART:20260308T080000
END:DAYLIGHT
BEGIN:STANDARD
TZOFFSETFROM:-0500
TZOFFSETTO:-0600
TZNAME:CST
DTSTART:20261101T070000
END:STANDARD
END:VTIMEZONE
BEGIN:VEVENT
DTSTART;TZID=America/Chicago:20250615T094500
DTEND;TZID=America/Chicago:20250615T105000
DTSTAMP:20260423T154046
CREATED:20230607T195344Z
LAST-MODIFIED:20260306T155904Z
UID:10002852-1749980700-1749984600@fpcjackson.org
SUMMARY:Special Friends Sunday School
DESCRIPTION:
URL:https://fpcjackson.org/event/special-friends-sunday-school/2025-06-15/
LOCATION:M120 (Main Building)\, 1390 North State Street\, Jackson\, MS\, 39202\, United States
CATEGORIES:Children,Sunday School
END:VEVENT
BEGIN:VEVENT
DTSTART;TZID=America/Chicago:20250615T094500
DTEND;TZID=America/Chicago:20250615T104500
DTSTAMP:20260423T154046
CREATED:20250429T203917Z
LAST-MODIFIED:20250429T203917Z
UID:10009176-1749980700-1749984300@fpcjackson.org
SUMMARY:Membership Class
DESCRIPTION:The next offering of the Membership Class will begin June 1 and will meet on Sundays at 9:45 a.m. This is the place to begin if you are considering membership at FPC or would like to know more about our church and the basics of our faith and practice. During the class we will learn what we share in common with all Bible-believing Christians\, as well as about the distinctives of Presbyterianism. We will hear from ministry leaders about what’s taking place at First Pres\, while providing a great opportunity to meet others who have recently found a home here at FPC.
URL:https://fpcjackson.org/event/membership-class-6/2025-06-15/
LOCATION:FPC Jackson Campus\, 1390 North State Street\, Jackson\, MS\, 39202\, United States
CATEGORIES:Class,New Members,Sunday School
ATTACH;FMTTYPE=image/png:https://fpcjackson.org/wp-content/uploads/2025/04/Membership-Class-Mar-2025-1.png
END:VEVENT
BEGIN:VEVENT
DTSTART;TZID=America/Chicago:20250615T094500
DTEND;TZID=America/Chicago:20250615T104500
DTSTAMP:20260423T154047
CREATED:20220916T133506Z
LAST-MODIFIED:20260306T155627Z
UID:10005822-1749980700-1749984300@fpcjackson.org
SUMMARY:Adult Sunday School Classes
DESCRIPTION:
URL:https://fpcjackson.org/event/adult-sunday-school-classes/2025-06-15/
LOCATION:Various\, 1390 North State Street\, Jackson\, MS\, 39202\, United States
CATEGORIES:Sunday School
END:VEVENT
BEGIN:VEVENT
DTSTART;TZID=America/Chicago:20250615T094500
DTEND;TZID=America/Chicago:20250615T104500
DTSTAMP:20260423T154047
CREATED:20220916T133350Z
LAST-MODIFIED:20260306T155638Z
UID:10006097-1749980700-1749984300@fpcjackson.org
SUMMARY:Young Adults Sunday School
DESCRIPTION:
URL:https://fpcjackson.org/event/young-adults-sunday-school/2025-06-15/
LOCATION:Patterson Hall\, 1390 North State Street\, Jackson\, MS\, 39202\, United States
CATEGORIES:Sunday School
END:VEVENT
BEGIN:VEVENT
DTSTART;TZID=America/Chicago:20250608T094500
DTEND;TZID=America/Chicago:20250608T105000
DTSTAMP:20260423T154047
CREATED:20230607T195344Z
LAST-MODIFIED:20260306T155904Z
UID:10002851-1749375900-1749379800@fpcjackson.org
SUMMARY:Special Friends Sunday School
DESCRIPTION:
URL:https://fpcjackson.org/event/special-friends-sunday-school/2025-06-08/
LOCATION:M120 (Main Building)\, 1390 North State Street\, Jackson\, MS\, 39202\, United States
CATEGORIES:Children,Sunday School
END:VEVENT
BEGIN:VEVENT
DTSTART;TZID=America/Chicago:20250608T094500
DTEND;TZID=America/Chicago:20250608T104500
DTSTAMP:20260423T154047
CREATED:20250429T203917Z
LAST-MODIFIED:20250429T203917Z
UID:10009175-1749375900-1749379500@fpcjackson.org
SUMMARY:Membership Class
DESCRIPTION:The next offering of the Membership Class will begin June 1 and will meet on Sundays at 9:45 a.m. This is the place to begin if you are considering membership at FPC or would like to know more about our church and the basics of our faith and practice. During the class we will learn what we share in common with all Bible-believing Christians\, as well as about the distinctives of Presbyterianism. We will hear from ministry leaders about what’s taking place at First Pres\, while providing a great opportunity to meet others who have recently found a home here at FPC.
URL:https://fpcjackson.org/event/membership-class-6/2025-06-08/
LOCATION:FPC Jackson Campus\, 1390 North State Street\, Jackson\, MS\, 39202\, United States
CATEGORIES:Class,New Members,Sunday School
ATTACH;FMTTYPE=image/png:https://fpcjackson.org/wp-content/uploads/2025/04/Membership-Class-Mar-2025-1.png
END:VEVENT
BEGIN:VEVENT
DTSTART;TZID=America/Chicago:20250608T094500
DTEND;TZID=America/Chicago:20250608T104500
DTSTAMP:20260423T154047
CREATED:20220916T133506Z
LAST-MODIFIED:20260306T155627Z
UID:10005821-1749375900-1749379500@fpcjackson.org
SUMMARY:Adult Sunday School Classes
DESCRIPTION:
URL:https://fpcjackson.org/event/adult-sunday-school-classes/2025-06-08/
LOCATION:Various\, 1390 North State Street\, Jackson\, MS\, 39202\, United States
CATEGORIES:Sunday School
END:VEVENT
BEGIN:VEVENT
DTSTART;TZID=America/Chicago:20250608T094500
DTEND;TZID=America/Chicago:20250608T104500
DTSTAMP:20260423T154047
CREATED:20220916T133350Z
LAST-MODIFIED:20260306T155638Z
UID:10006096-1749375900-1749379500@fpcjackson.org
SUMMARY:Young Adults Sunday School
DESCRIPTION:
URL:https://fpcjackson.org/event/young-adults-sunday-school/2025-06-08/
LOCATION:Patterson Hall\, 1390 North State Street\, Jackson\, MS\, 39202\, United States
CATEGORIES:Sunday School
END:VEVENT
BEGIN:VEVENT
DTSTART;TZID=America/Chicago:20250601T094500
DTEND;TZID=America/Chicago:20250601T105000
DTSTAMP:20260423T154047
CREATED:20230607T195344Z
LAST-MODIFIED:20260306T155904Z
UID:10002850-1748771100-1748775000@fpcjackson.org
SUMMARY:Special Friends Sunday School
DESCRIPTION:
URL:https://fpcjackson.org/event/special-friends-sunday-school/2025-06-01/
LOCATION:M120 (Main Building)\, 1390 North State Street\, Jackson\, MS\, 39202\, United States
CATEGORIES:Children,Sunday School
END:VEVENT
BEGIN:VEVENT
DTSTART;TZID=America/Chicago:20250601T094500
DTEND;TZID=America/Chicago:20250601T104500
DTSTAMP:20260423T154047
CREATED:20250429T203804Z
LAST-MODIFIED:20250429T203804Z
UID:10009173-1748771100-1748774700@fpcjackson.org
SUMMARY:Membership Class
DESCRIPTION:The next offering of the Membership Class will begin June 1 and will meet on Sundays at 9:45 a.m. This is the place to begin if you are considering membership at FPC or would like to know more about our church and the basics of our faith and practice. During the class we will learn what we share in common with all Bible-believing Christians\, as well as about the distinctives of Presbyterianism. We will hear from ministry leaders about what’s taking place at First Pres\, while providing a great opportunity to meet others who have recently found a home here at FPC.
URL:https://fpcjackson.org/event/membership-class-5/
LOCATION:FPC Jackson Campus\, 1390 North State Street\, Jackson\, MS\, 39202\, United States
CATEGORIES:Class,New Members,Sunday School
ATTACH;FMTTYPE=image/png:https://fpcjackson.org/wp-content/uploads/2025/04/Membership-Class-Mar-2025-1.png
END:VEVENT
BEGIN:VEVENT
DTSTART;TZID=America/Chicago:20250601T094500
DTEND;TZID=America/Chicago:20250601T104500
DTSTAMP:20260423T154047
CREATED:20220916T133506Z
LAST-MODIFIED:20260306T155627Z
UID:10005820-1748771100-1748774700@fpcjackson.org
SUMMARY:Adult Sunday School Classes
DESCRIPTION:
URL:https://fpcjackson.org/event/adult-sunday-school-classes/2025-06-01/
LOCATION:Various\, 1390 North State Street\, Jackson\, MS\, 39202\, United States
CATEGORIES:Sunday School
END:VEVENT
BEGIN:VEVENT
DTSTART;TZID=America/Chicago:20250601T094500
DTEND;TZID=America/Chicago:20250601T104500
DTSTAMP:20260423T154047
CREATED:20220916T133350Z
LAST-MODIFIED:20260306T155638Z
UID:10006095-1748771100-1748774700@fpcjackson.org
SUMMARY:Young Adults Sunday School
DESCRIPTION:
URL:https://fpcjackson.org/event/young-adults-sunday-school/2025-06-01/
LOCATION:Patterson Hall\, 1390 North State Street\, Jackson\, MS\, 39202\, United States
CATEGORIES:Sunday School
END:VEVENT
BEGIN:VEVENT
DTSTART;TZID=America/Chicago:20250525T094500
DTEND;TZID=America/Chicago:20250525T105000
DTSTAMP:20260423T154047
CREATED:20230607T195344Z
LAST-MODIFIED:20260306T155904Z
UID:10002849-1748166300-1748170200@fpcjackson.org
SUMMARY:Special Friends Sunday School
DESCRIPTION:
URL:https://fpcjackson.org/event/special-friends-sunday-school/2025-05-25/
LOCATION:M120 (Main Building)\, 1390 North State Street\, Jackson\, MS\, 39202\, United States
CATEGORIES:Children,Sunday School
END:VEVENT
BEGIN:VEVENT
DTSTART;TZID=America/Chicago:20250525T094500
DTEND;TZID=America/Chicago:20250525T104500
DTSTAMP:20260423T154047
CREATED:20220916T133506Z
LAST-MODIFIED:20260306T155627Z
UID:10005819-1748166300-1748169900@fpcjackson.org
SUMMARY:Adult Sunday School Classes
DESCRIPTION:
URL:https://fpcjackson.org/event/adult-sunday-school-classes/2025-05-25/
LOCATION:Various\, 1390 North State Street\, Jackson\, MS\, 39202\, United States
CATEGORIES:Sunday School
END:VEVENT
BEGIN:VEVENT
DTSTART;TZID=America/Chicago:20250525T094500
DTEND;TZID=America/Chicago:20250525T104500
DTSTAMP:20260423T154047
CREATED:20220916T133350Z
LAST-MODIFIED:20260306T155638Z
UID:10006094-1748166300-1748169900@fpcjackson.org
SUMMARY:Young Adults Sunday School
DESCRIPTION:
URL:https://fpcjackson.org/event/young-adults-sunday-school/2025-05-25/
LOCATION:Patterson Hall\, 1390 North State Street\, Jackson\, MS\, 39202\, United States
CATEGORIES:Sunday School
END:VEVENT
BEGIN:VEVENT
DTSTART;TZID=America/Chicago:20250518T094500
DTEND;TZID=America/Chicago:20250518T105000
DTSTAMP:20260423T154047
CREATED:20230607T195344Z
LAST-MODIFIED:20260306T155904Z
UID:10002848-1747561500-1747565400@fpcjackson.org
SUMMARY:Special Friends Sunday School
DESCRIPTION:
URL:https://fpcjackson.org/event/special-friends-sunday-school/2025-05-18/
LOCATION:M120 (Main Building)\, 1390 North State Street\, Jackson\, MS\, 39202\, United States
CATEGORIES:Children,Sunday School
END:VEVENT
BEGIN:VEVENT
DTSTART;TZID=America/Chicago:20250518T094500
DTEND;TZID=America/Chicago:20250518T104500
DTSTAMP:20260423T154047
CREATED:20220916T133506Z
LAST-MODIFIED:20260306T155627Z
UID:10005818-1747561500-1747565100@fpcjackson.org
SUMMARY:Adult Sunday School Classes
DESCRIPTION:
URL:https://fpcjackson.org/event/adult-sunday-school-classes/2025-05-18/
LOCATION:Various\, 1390 North State Street\, Jackson\, MS\, 39202\, United States
CATEGORIES:Sunday School
END:VEVENT
BEGIN:VEVENT
DTSTART;TZID=America/Chicago:20250518T094500
DTEND;TZID=America/Chicago:20250518T104500
DTSTAMP:20260423T154047
CREATED:20220916T133350Z
LAST-MODIFIED:20260306T155638Z
UID:10006093-1747561500-1747565100@fpcjackson.org
SUMMARY:Young Adults Sunday School
DESCRIPTION:
URL:https://fpcjackson.org/event/young-adults-sunday-school/2025-05-18/
LOCATION:Patterson Hall\, 1390 North State Street\, Jackson\, MS\, 39202\, United States
CATEGORIES:Sunday School
END:VEVENT
BEGIN:VEVENT
DTSTART;TZID=America/Chicago:20250511T094500
DTEND;TZID=America/Chicago:20250511T105000
DTSTAMP:20260423T154047
CREATED:20230607T195344Z
LAST-MODIFIED:20260306T155904Z
UID:10002847-1746956700-1746960600@fpcjackson.org
SUMMARY:Special Friends Sunday School
DESCRIPTION:
URL:https://fpcjackson.org/event/special-friends-sunday-school/2025-05-11/
LOCATION:M120 (Main Building)\, 1390 North State Street\, Jackson\, MS\, 39202\, United States
CATEGORIES:Children,Sunday School
END:VEVENT
BEGIN:VEVENT
DTSTART;TZID=America/Chicago:20250511T094500
DTEND;TZID=America/Chicago:20250511T104500
DTSTAMP:20260423T154047
CREATED:20220916T133506Z
LAST-MODIFIED:20260306T155627Z
UID:10005817-1746956700-1746960300@fpcjackson.org
SUMMARY:Adult Sunday School Classes
DESCRIPTION:
URL:https://fpcjackson.org/event/adult-sunday-school-classes/2025-05-11/
LOCATION:Various\, 1390 North State Street\, Jackson\, MS\, 39202\, United States
CATEGORIES:Sunday School
END:VEVENT
BEGIN:VEVENT
DTSTART;TZID=America/Chicago:20250511T094500
DTEND;TZID=America/Chicago:20250511T104500
DTSTAMP:20260423T154047
CREATED:20220916T133350Z
LAST-MODIFIED:20260306T155638Z
UID:10006092-1746956700-1746960300@fpcjackson.org
SUMMARY:Young Adults Sunday School
DESCRIPTION:
URL:https://fpcjackson.org/event/young-adults-sunday-school/2025-05-11/
LOCATION:Patterson Hall\, 1390 North State Street\, Jackson\, MS\, 39202\, United States
CATEGORIES:Sunday School
END:VEVENT
BEGIN:VEVENT
DTSTART;TZID=America/Chicago:20250504T094500
DTEND;TZID=America/Chicago:20250504T105000
DTSTAMP:20260423T154047
CREATED:20230607T195344Z
LAST-MODIFIED:20260306T155904Z
UID:10002846-1746351900-1746355800@fpcjackson.org
SUMMARY:Special Friends Sunday School
DESCRIPTION:
URL:https://fpcjackson.org/event/special-friends-sunday-school/2025-05-04/
LOCATION:M120 (Main Building)\, 1390 North State Street\, Jackson\, MS\, 39202\, United States
CATEGORIES:Children,Sunday School
END:VEVENT
BEGIN:VEVENT
DTSTART;TZID=America/Chicago:20250504T094500
DTEND;TZID=America/Chicago:20250504T104500
DTSTAMP:20260423T154047
CREATED:20220916T133506Z
LAST-MODIFIED:20260306T155627Z
UID:10005816-1746351900-1746355500@fpcjackson.org
SUMMARY:Adult Sunday School Classes
DESCRIPTION:
URL:https://fpcjackson.org/event/adult-sunday-school-classes/2025-05-04/
LOCATION:Various\, 1390 North State Street\, Jackson\, MS\, 39202\, United States
CATEGORIES:Sunday School
END:VEVENT
BEGIN:VEVENT
DTSTART;TZID=America/Chicago:20250504T094500
DTEND;TZID=America/Chicago:20250504T104500
DTSTAMP:20260423T154047
CREATED:20220916T133350Z
LAST-MODIFIED:20260306T155638Z
UID:10006091-1746351900-1746355500@fpcjackson.org
SUMMARY:Young Adults Sunday School
DESCRIPTION:
URL:https://fpcjackson.org/event/young-adults-sunday-school/2025-05-04/
LOCATION:Patterson Hall\, 1390 North State Street\, Jackson\, MS\, 39202\, United States
CATEGORIES:Sunday School
END:VEVENT
BEGIN:VEVENT
DTSTART;TZID=America/Chicago:20250427T094500
DTEND;TZID=America/Chicago:20250427T105000
DTSTAMP:20260423T154047
CREATED:20230607T195344Z
LAST-MODIFIED:20260306T155904Z
UID:10002845-1745747100-1745751000@fpcjackson.org
SUMMARY:Special Friends Sunday School
DESCRIPTION:
URL:https://fpcjackson.org/event/special-friends-sunday-school/2025-04-27/
LOCATION:M120 (Main Building)\, 1390 North State Street\, Jackson\, MS\, 39202\, United States
CATEGORIES:Children,Sunday School
END:VEVENT
BEGIN:VEVENT
DTSTART;TZID=America/Chicago:20250427T094500
DTEND;TZID=America/Chicago:20250427T104500
DTSTAMP:20260423T154047
CREATED:20220916T133506Z
LAST-MODIFIED:20260306T155627Z
UID:10005815-1745747100-1745750700@fpcjackson.org
SUMMARY:Adult Sunday School Classes
DESCRIPTION:
URL:https://fpcjackson.org/event/adult-sunday-school-classes/2025-04-27/
LOCATION:Various\, 1390 North State Street\, Jackson\, MS\, 39202\, United States
CATEGORIES:Sunday School
END:VEVENT
BEGIN:VEVENT
DTSTART;TZID=America/Chicago:20250427T094500
DTEND;TZID=America/Chicago:20250427T104500
DTSTAMP:20260423T154047
CREATED:20220916T133350Z
LAST-MODIFIED:20260306T155638Z
UID:10006090-1745747100-1745750700@fpcjackson.org
SUMMARY:Young Adults Sunday School
DESCRIPTION:
URL:https://fpcjackson.org/event/young-adults-sunday-school/2025-04-27/
LOCATION:Patterson Hall\, 1390 North State Street\, Jackson\, MS\, 39202\, United States
CATEGORIES:Sunday School
END:VEVENT
END:VCALENDAR