BEGIN:VCALENDAR
VERSION:2.0
PRODID:-//First Presbyterian Church - ECPv6.15.20//NONSGML v1.0//EN
CALSCALE:GREGORIAN
METHOD:PUBLISH
X-ORIGINAL-URL:https://fpcjackson.org
X-WR-CALDESC:Events for First Presbyterian Church
REFRESH-INTERVAL;VALUE=DURATION:PT1H
X-Robots-Tag:noindex
X-PUBLISHED-TTL:PT1H
BEGIN:VTIMEZONE
TZID:America/Chicago
BEGIN:DAYLIGHT
TZOFFSETFROM:-0600
TZOFFSETTO:-0500
TZNAME:CDT
DTSTART:20240310T080000
END:DAYLIGHT
BEGIN:STANDARD
TZOFFSETFROM:-0500
TZOFFSETTO:-0600
TZNAME:CST
DTSTART:20241103T070000
END:STANDARD
BEGIN:DAYLIGHT
TZOFFSETFROM:-0600
TZOFFSETTO:-0500
TZNAME:CDT
DTSTART:20250309T080000
END:DAYLIGHT
BEGIN:STANDARD
TZOFFSETFROM:-0500
TZOFFSETTO:-0600
TZNAME:CST
DTSTART:20251102T070000
END:STANDARD
BEGIN:DAYLIGHT
TZOFFSETFROM:-0600
TZOFFSETTO:-0500
TZNAME:CDT
DTSTART:20260308T080000
END:DAYLIGHT
BEGIN:STANDARD
TZOFFSETFROM:-0500
TZOFFSETTO:-0600
TZNAME:CST
DTSTART:20261101T070000
END:STANDARD
BEGIN:DAYLIGHT
TZOFFSETFROM:-0600
TZOFFSETTO:-0500
TZNAME:CDT
DTSTART:20270314T080000
END:DAYLIGHT
BEGIN:STANDARD
TZOFFSETFROM:-0500
TZOFFSETTO:-0600
TZNAME:CST
DTSTART:20271107T070000
END:STANDARD
END:VTIMEZONE
BEGIN:VEVENT
DTSTART;TZID=America/Chicago:20260201T094500
DTEND;TZID=America/Chicago:20260201T104500
DTSTAMP:20260422T211946
CREATED:20220916T133350Z
LAST-MODIFIED:20260306T155638Z
UID:10006130-1769939100-1769942700@fpcjackson.org
SUMMARY:Young Adults Sunday School
DESCRIPTION:
URL:https://fpcjackson.org/event/young-adults-sunday-school/2026-02-01/
LOCATION:Patterson Hall\, 1390 North State Street\, Jackson\, MS\, 39202\, United States
CATEGORIES:Sunday School
END:VEVENT
BEGIN:VEVENT
DTSTART;TZID=America/Chicago:20260125T094500
DTEND;TZID=America/Chicago:20260125T105000
DTSTAMP:20260422T211946
CREATED:20230607T195344Z
LAST-MODIFIED:20260306T155904Z
UID:10002884-1769334300-1769338200@fpcjackson.org
SUMMARY:Special Friends Sunday School
DESCRIPTION:
URL:https://fpcjackson.org/event/special-friends-sunday-school/2026-01-25/
LOCATION:M120 (Main Building)\, 1390 North State Street\, Jackson\, MS\, 39202\, United States
CATEGORIES:Children,Sunday School
END:VEVENT
BEGIN:VEVENT
DTSTART;TZID=America/Chicago:20260125T094500
DTEND;TZID=America/Chicago:20260125T104500
DTSTAMP:20260422T211946
CREATED:20220916T133506Z
LAST-MODIFIED:20260306T155627Z
UID:10005854-1769334300-1769337900@fpcjackson.org
SUMMARY:Adult Sunday School Classes
DESCRIPTION:
URL:https://fpcjackson.org/event/adult-sunday-school-classes/2026-01-25/
LOCATION:Various\, 1390 North State Street\, Jackson\, MS\, 39202\, United States
CATEGORIES:Sunday School
END:VEVENT
BEGIN:VEVENT
DTSTART;TZID=America/Chicago:20260125T094500
DTEND;TZID=America/Chicago:20260125T104500
DTSTAMP:20260422T211946
CREATED:20220916T133350Z
LAST-MODIFIED:20260306T155638Z
UID:10006129-1769334300-1769337900@fpcjackson.org
SUMMARY:Young Adults Sunday School
DESCRIPTION:
URL:https://fpcjackson.org/event/young-adults-sunday-school/2026-01-25/
LOCATION:Patterson Hall\, 1390 North State Street\, Jackson\, MS\, 39202\, United States
CATEGORIES:Sunday School
END:VEVENT
BEGIN:VEVENT
DTSTART;TZID=America/Chicago:20260118T094500
DTEND;TZID=America/Chicago:20260118T105000
DTSTAMP:20260422T211946
CREATED:20230607T195344Z
LAST-MODIFIED:20260306T155904Z
UID:10002883-1768729500-1768733400@fpcjackson.org
SUMMARY:Special Friends Sunday School
DESCRIPTION:
URL:https://fpcjackson.org/event/special-friends-sunday-school/2026-01-18/
LOCATION:M120 (Main Building)\, 1390 North State Street\, Jackson\, MS\, 39202\, United States
CATEGORIES:Children,Sunday School
END:VEVENT
BEGIN:VEVENT
DTSTART;TZID=America/Chicago:20260118T094500
DTEND;TZID=America/Chicago:20260118T104500
DTSTAMP:20260422T211946
CREATED:20220916T133506Z
LAST-MODIFIED:20260306T155627Z
UID:10005853-1768729500-1768733100@fpcjackson.org
SUMMARY:Adult Sunday School Classes
DESCRIPTION:
URL:https://fpcjackson.org/event/adult-sunday-school-classes/2026-01-18/
LOCATION:Various\, 1390 North State Street\, Jackson\, MS\, 39202\, United States
CATEGORIES:Sunday School
END:VEVENT
BEGIN:VEVENT
DTSTART;TZID=America/Chicago:20260118T094500
DTEND;TZID=America/Chicago:20260118T104500
DTSTAMP:20260422T211946
CREATED:20220916T133350Z
LAST-MODIFIED:20260306T155638Z
UID:10006128-1768729500-1768733100@fpcjackson.org
SUMMARY:Young Adults Sunday School
DESCRIPTION:
URL:https://fpcjackson.org/event/young-adults-sunday-school/2026-01-18/
LOCATION:Patterson Hall\, 1390 North State Street\, Jackson\, MS\, 39202\, United States
CATEGORIES:Sunday School
END:VEVENT
BEGIN:VEVENT
DTSTART;TZID=America/Chicago:20260111T094500
DTEND;TZID=America/Chicago:20260111T105000
DTSTAMP:20260422T211946
CREATED:20230607T195344Z
LAST-MODIFIED:20260306T155904Z
UID:10002882-1768124700-1768128600@fpcjackson.org
SUMMARY:Special Friends Sunday School
DESCRIPTION:
URL:https://fpcjackson.org/event/special-friends-sunday-school/2026-01-11/
LOCATION:M120 (Main Building)\, 1390 North State Street\, Jackson\, MS\, 39202\, United States
CATEGORIES:Children,Sunday School
END:VEVENT
BEGIN:VEVENT
DTSTART;TZID=America/Chicago:20260111T094500
DTEND;TZID=America/Chicago:20260111T104500
DTSTAMP:20260422T211946
CREATED:20220916T133506Z
LAST-MODIFIED:20260306T155627Z
UID:10005852-1768124700-1768128300@fpcjackson.org
SUMMARY:Adult Sunday School Classes
DESCRIPTION:
URL:https://fpcjackson.org/event/adult-sunday-school-classes/2026-01-11/
LOCATION:Various\, 1390 North State Street\, Jackson\, MS\, 39202\, United States
CATEGORIES:Sunday School
END:VEVENT
BEGIN:VEVENT
DTSTART;TZID=America/Chicago:20260111T094500
DTEND;TZID=America/Chicago:20260111T104500
DTSTAMP:20260422T211946
CREATED:20220916T133350Z
LAST-MODIFIED:20260306T155638Z
UID:10006127-1768124700-1768128300@fpcjackson.org
SUMMARY:Young Adults Sunday School
DESCRIPTION:
URL:https://fpcjackson.org/event/young-adults-sunday-school/2026-01-11/
LOCATION:Patterson Hall\, 1390 North State Street\, Jackson\, MS\, 39202\, United States
CATEGORIES:Sunday School
END:VEVENT
BEGIN:VEVENT
DTSTART;TZID=America/Chicago:20260104T094500
DTEND;TZID=America/Chicago:20260104T105000
DTSTAMP:20260422T211946
CREATED:20230607T195344Z
LAST-MODIFIED:20260306T155904Z
UID:10002881-1767519900-1767523800@fpcjackson.org
SUMMARY:Special Friends Sunday School
DESCRIPTION:
URL:https://fpcjackson.org/event/special-friends-sunday-school/2026-01-04/
LOCATION:M120 (Main Building)\, 1390 North State Street\, Jackson\, MS\, 39202\, United States
CATEGORIES:Children,Sunday School
END:VEVENT
BEGIN:VEVENT
DTSTART;TZID=America/Chicago:20260104T094500
DTEND;TZID=America/Chicago:20260104T104500
DTSTAMP:20260422T211946
CREATED:20220916T133506Z
LAST-MODIFIED:20260306T155627Z
UID:10005851-1767519900-1767523500@fpcjackson.org
SUMMARY:Adult Sunday School Classes
DESCRIPTION:
URL:https://fpcjackson.org/event/adult-sunday-school-classes/2026-01-04/
LOCATION:Various\, 1390 North State Street\, Jackson\, MS\, 39202\, United States
CATEGORIES:Sunday School
END:VEVENT
BEGIN:VEVENT
DTSTART;TZID=America/Chicago:20260104T094500
DTEND;TZID=America/Chicago:20260104T104500
DTSTAMP:20260422T211946
CREATED:20220916T133350Z
LAST-MODIFIED:20260306T155638Z
UID:10006126-1767519900-1767523500@fpcjackson.org
SUMMARY:Young Adults Sunday School
DESCRIPTION:
URL:https://fpcjackson.org/event/young-adults-sunday-school/2026-01-04/
LOCATION:Patterson Hall\, 1390 North State Street\, Jackson\, MS\, 39202\, United States
CATEGORIES:Sunday School
END:VEVENT
BEGIN:VEVENT
DTSTART;TZID=America/Chicago:20251221T094500
DTEND;TZID=America/Chicago:20251221T105000
DTSTAMP:20260422T211946
CREATED:20230607T195344Z
LAST-MODIFIED:20260306T155904Z
UID:10002879-1766310300-1766314200@fpcjackson.org
SUMMARY:Special Friends Sunday School
DESCRIPTION:
URL:https://fpcjackson.org/event/special-friends-sunday-school/2025-12-21/
LOCATION:M120 (Main Building)\, 1390 North State Street\, Jackson\, MS\, 39202\, United States
CATEGORIES:Children,Sunday School
END:VEVENT
BEGIN:VEVENT
DTSTART;TZID=America/Chicago:20251221T094500
DTEND;TZID=America/Chicago:20251221T104500
DTSTAMP:20260422T211946
CREATED:20220916T133506Z
LAST-MODIFIED:20260306T155627Z
UID:10005849-1766310300-1766313900@fpcjackson.org
SUMMARY:Adult Sunday School Classes
DESCRIPTION:
URL:https://fpcjackson.org/event/adult-sunday-school-classes/2025-12-21/
LOCATION:Various\, 1390 North State Street\, Jackson\, MS\, 39202\, United States
CATEGORIES:Sunday School
END:VEVENT
BEGIN:VEVENT
DTSTART;TZID=America/Chicago:20251221T094500
DTEND;TZID=America/Chicago:20251221T104500
DTSTAMP:20260422T211946
CREATED:20220916T133350Z
LAST-MODIFIED:20260306T155638Z
UID:10006124-1766310300-1766313900@fpcjackson.org
SUMMARY:Young Adults Sunday School
DESCRIPTION:
URL:https://fpcjackson.org/event/young-adults-sunday-school/2025-12-21/
LOCATION:Patterson Hall\, 1390 North State Street\, Jackson\, MS\, 39202\, United States
CATEGORIES:Sunday School
END:VEVENT
BEGIN:VEVENT
DTSTART;TZID=America/Chicago:20251214T094500
DTEND;TZID=America/Chicago:20251214T105000
DTSTAMP:20260422T211946
CREATED:20230607T195344Z
LAST-MODIFIED:20260306T155904Z
UID:10002878-1765705500-1765709400@fpcjackson.org
SUMMARY:Special Friends Sunday School
DESCRIPTION:
URL:https://fpcjackson.org/event/special-friends-sunday-school/2025-12-14/
LOCATION:M120 (Main Building)\, 1390 North State Street\, Jackson\, MS\, 39202\, United States
CATEGORIES:Children,Sunday School
END:VEVENT
BEGIN:VEVENT
DTSTART;TZID=America/Chicago:20251214T094500
DTEND;TZID=America/Chicago:20251214T104500
DTSTAMP:20260422T211946
CREATED:20220916T133506Z
LAST-MODIFIED:20260306T155627Z
UID:10005848-1765705500-1765709100@fpcjackson.org
SUMMARY:Adult Sunday School Classes
DESCRIPTION:
URL:https://fpcjackson.org/event/adult-sunday-school-classes/2025-12-14/
LOCATION:Various\, 1390 North State Street\, Jackson\, MS\, 39202\, United States
CATEGORIES:Sunday School
END:VEVENT
BEGIN:VEVENT
DTSTART;TZID=America/Chicago:20251214T094500
DTEND;TZID=America/Chicago:20251214T104500
DTSTAMP:20260422T211946
CREATED:20220916T133350Z
LAST-MODIFIED:20260306T155638Z
UID:10006123-1765705500-1765709100@fpcjackson.org
SUMMARY:Young Adults Sunday School
DESCRIPTION:
URL:https://fpcjackson.org/event/young-adults-sunday-school/2025-12-14/
LOCATION:Patterson Hall\, 1390 North State Street\, Jackson\, MS\, 39202\, United States
CATEGORIES:Sunday School
END:VEVENT
BEGIN:VEVENT
DTSTART;TZID=America/Chicago:20251207T094500
DTEND;TZID=America/Chicago:20251207T105000
DTSTAMP:20260422T211946
CREATED:20230607T195344Z
LAST-MODIFIED:20260306T155904Z
UID:10002877-1765100700-1765104600@fpcjackson.org
SUMMARY:Special Friends Sunday School
DESCRIPTION:
URL:https://fpcjackson.org/event/special-friends-sunday-school/2025-12-07/
LOCATION:M120 (Main Building)\, 1390 North State Street\, Jackson\, MS\, 39202\, United States
CATEGORIES:Children,Sunday School
END:VEVENT
BEGIN:VEVENT
DTSTART;TZID=America/Chicago:20251207T094500
DTEND;TZID=America/Chicago:20251207T104500
DTSTAMP:20260422T211946
CREATED:20220916T133506Z
LAST-MODIFIED:20260306T155627Z
UID:10005847-1765100700-1765104300@fpcjackson.org
SUMMARY:Adult Sunday School Classes
DESCRIPTION:
URL:https://fpcjackson.org/event/adult-sunday-school-classes/2025-12-07/
LOCATION:Various\, 1390 North State Street\, Jackson\, MS\, 39202\, United States
CATEGORIES:Sunday School
END:VEVENT
BEGIN:VEVENT
DTSTART;TZID=America/Chicago:20251207T094500
DTEND;TZID=America/Chicago:20251207T104500
DTSTAMP:20260422T211946
CREATED:20220916T133350Z
LAST-MODIFIED:20260306T155638Z
UID:10006122-1765100700-1765104300@fpcjackson.org
SUMMARY:Young Adults Sunday School
DESCRIPTION:
URL:https://fpcjackson.org/event/young-adults-sunday-school/2025-12-07/
LOCATION:Patterson Hall\, 1390 North State Street\, Jackson\, MS\, 39202\, United States
CATEGORIES:Sunday School
END:VEVENT
BEGIN:VEVENT
DTSTART;TZID=America/Chicago:20251130T094500
DTEND;TZID=America/Chicago:20251130T105000
DTSTAMP:20260422T211946
CREATED:20230607T195344Z
LAST-MODIFIED:20260306T155904Z
UID:10002876-1764495900-1764499800@fpcjackson.org
SUMMARY:Special Friends Sunday School
DESCRIPTION:
URL:https://fpcjackson.org/event/special-friends-sunday-school/2025-11-30/
LOCATION:M120 (Main Building)\, 1390 North State Street\, Jackson\, MS\, 39202\, United States
CATEGORIES:Children,Sunday School
END:VEVENT
BEGIN:VEVENT
DTSTART;TZID=America/Chicago:20251130T094500
DTEND;TZID=America/Chicago:20251130T104500
DTSTAMP:20260422T211946
CREATED:20220916T133506Z
LAST-MODIFIED:20260306T155627Z
UID:10005846-1764495900-1764499500@fpcjackson.org
SUMMARY:Adult Sunday School Classes
DESCRIPTION:
URL:https://fpcjackson.org/event/adult-sunday-school-classes/2025-11-30/
LOCATION:Various\, 1390 North State Street\, Jackson\, MS\, 39202\, United States
CATEGORIES:Sunday School
END:VEVENT
BEGIN:VEVENT
DTSTART;TZID=America/Chicago:20251130T094500
DTEND;TZID=America/Chicago:20251130T104500
DTSTAMP:20260422T211946
CREATED:20220916T133350Z
LAST-MODIFIED:20260306T155638Z
UID:10006121-1764495900-1764499500@fpcjackson.org
SUMMARY:Young Adults Sunday School
DESCRIPTION:
URL:https://fpcjackson.org/event/young-adults-sunday-school/2025-11-30/
LOCATION:Patterson Hall\, 1390 North State Street\, Jackson\, MS\, 39202\, United States
CATEGORIES:Sunday School
END:VEVENT
BEGIN:VEVENT
DTSTART;TZID=America/Chicago:20251123T094500
DTEND;TZID=America/Chicago:20251123T105000
DTSTAMP:20260422T211946
CREATED:20230607T195344Z
LAST-MODIFIED:20260306T155904Z
UID:10002875-1763891100-1763895000@fpcjackson.org
SUMMARY:Special Friends Sunday School
DESCRIPTION:
URL:https://fpcjackson.org/event/special-friends-sunday-school/2025-11-23/
LOCATION:M120 (Main Building)\, 1390 North State Street\, Jackson\, MS\, 39202\, United States
CATEGORIES:Children,Sunday School
END:VEVENT
BEGIN:VEVENT
DTSTART;TZID=America/Chicago:20251123T094500
DTEND;TZID=America/Chicago:20251123T104500
DTSTAMP:20260422T211946
CREATED:20220916T133506Z
LAST-MODIFIED:20260306T155627Z
UID:10005845-1763891100-1763894700@fpcjackson.org
SUMMARY:Adult Sunday School Classes
DESCRIPTION:
URL:https://fpcjackson.org/event/adult-sunday-school-classes/2025-11-23/
LOCATION:Various\, 1390 North State Street\, Jackson\, MS\, 39202\, United States
CATEGORIES:Sunday School
END:VEVENT
BEGIN:VEVENT
DTSTART;TZID=America/Chicago:20251123T094500
DTEND;TZID=America/Chicago:20251123T104500
DTSTAMP:20260422T211946
CREATED:20220916T133350Z
LAST-MODIFIED:20260306T155638Z
UID:10006120-1763891100-1763894700@fpcjackson.org
SUMMARY:Young Adults Sunday School
DESCRIPTION:
URL:https://fpcjackson.org/event/young-adults-sunday-school/2025-11-23/
LOCATION:Patterson Hall\, 1390 North State Street\, Jackson\, MS\, 39202\, United States
CATEGORIES:Sunday School
END:VEVENT
BEGIN:VEVENT
DTSTART;TZID=America/Chicago:20251116T094500
DTEND;TZID=America/Chicago:20251116T105000
DTSTAMP:20260422T211946
CREATED:20230607T195344Z
LAST-MODIFIED:20260306T155904Z
UID:10002874-1763286300-1763290200@fpcjackson.org
SUMMARY:Special Friends Sunday School
DESCRIPTION:
URL:https://fpcjackson.org/event/special-friends-sunday-school/2025-11-16/
LOCATION:M120 (Main Building)\, 1390 North State Street\, Jackson\, MS\, 39202\, United States
CATEGORIES:Children,Sunday School
END:VEVENT
BEGIN:VEVENT
DTSTART;TZID=America/Chicago:20251116T094500
DTEND;TZID=America/Chicago:20251116T104500
DTSTAMP:20260422T211946
CREATED:20220916T133506Z
LAST-MODIFIED:20260306T155627Z
UID:10005844-1763286300-1763289900@fpcjackson.org
SUMMARY:Adult Sunday School Classes
DESCRIPTION:
URL:https://fpcjackson.org/event/adult-sunday-school-classes/2025-11-16/
LOCATION:Various\, 1390 North State Street\, Jackson\, MS\, 39202\, United States
CATEGORIES:Sunday School
END:VEVENT
END:VCALENDAR