BEGIN:VCALENDAR
VERSION:2.0
PRODID:-//First Presbyterian Church - ECPv6.15.20//NONSGML v1.0//EN
CALSCALE:GREGORIAN
METHOD:PUBLISH
X-WR-CALNAME:First Presbyterian Church
X-ORIGINAL-URL:https://fpcjackson.org
X-WR-CALDESC:Events for First Presbyterian Church
REFRESH-INTERVAL;VALUE=DURATION:PT1H
X-Robots-Tag:noindex
X-PUBLISHED-TTL:PT1H
BEGIN:VTIMEZONE
TZID:America/Chicago
BEGIN:DAYLIGHT
TZOFFSETFROM:-0600
TZOFFSETTO:-0500
TZNAME:CDT
DTSTART:20250309T080000
END:DAYLIGHT
BEGIN:STANDARD
TZOFFSETFROM:-0500
TZOFFSETTO:-0600
TZNAME:CST
DTSTART:20251102T070000
END:STANDARD
BEGIN:DAYLIGHT
TZOFFSETFROM:-0600
TZOFFSETTO:-0500
TZNAME:CDT
DTSTART:20260308T080000
END:DAYLIGHT
BEGIN:STANDARD
TZOFFSETFROM:-0500
TZOFFSETTO:-0600
TZNAME:CST
DTSTART:20261101T070000
END:STANDARD
BEGIN:DAYLIGHT
TZOFFSETFROM:-0600
TZOFFSETTO:-0500
TZNAME:CDT
DTSTART:20270314T080000
END:DAYLIGHT
BEGIN:STANDARD
TZOFFSETFROM:-0500
TZOFFSETTO:-0600
TZNAME:CST
DTSTART:20271107T070000
END:STANDARD
END:VTIMEZONE
BEGIN:VEVENT
DTSTART;TZID=America/Chicago:20260531T094500
DTEND;TZID=America/Chicago:20260531T104500
DTSTAMP:20260422T212334
CREATED:20220916T133350Z
LAST-MODIFIED:20260306T155638Z
UID:10006147-1780220700-1780224300@fpcjackson.org
SUMMARY:Young Adults Sunday School
DESCRIPTION:
URL:https://fpcjackson.org/event/young-adults-sunday-school/2026-05-31/
LOCATION:Patterson Hall\, 1390 North State Street\, Jackson\, MS\, 39202\, United States
CATEGORIES:Sunday School
END:VEVENT
BEGIN:VEVENT
DTSTART;TZID=America/Chicago:20260531T094500
DTEND;TZID=America/Chicago:20260531T104500
DTSTAMP:20260422T212334
CREATED:20220916T133506Z
LAST-MODIFIED:20260306T155627Z
UID:10005872-1780220700-1780224300@fpcjackson.org
SUMMARY:Adult Sunday School Classes
DESCRIPTION:
URL:https://fpcjackson.org/event/adult-sunday-school-classes/2026-05-31/
LOCATION:Various\, 1390 North State Street\, Jackson\, MS\, 39202\, United States
CATEGORIES:Sunday School
END:VEVENT
BEGIN:VEVENT
DTSTART;TZID=America/Chicago:20260531T094500
DTEND;TZID=America/Chicago:20260531T104500
DTSTAMP:20260422T212334
CREATED:20241003T182926Z
LAST-MODIFIED:20260306T160134Z
UID:10020634-1780220700-1780224300@fpcjackson.org
SUMMARY:Children's Sunday School
DESCRIPTION:Staffed by members of the congregation of First Presbyterian Church\, the Sunday school hour is by design an instrument to assist parents in the Christian nurture of their children\, the covenant children of the church. The Sunday school hour is from 9:45-10:40 a.m. \nMemory work (Scripture and Catechism) is encouraged in each class beginning in the three-year-old department. Children ages 3 through the third grade learn the Children’s Catechism (First Catechism: Teaching Children Bible Truths). Children in grades 4-6 study and learn The Westminster Shorter Catechism. \nThere are Sunday school classes for each grade\, beginning with pre-school through sixth grade. There is also the Special Friends Class for those with Special Needs. \nFor those new to Sunday School at FPC\, please complete the enrollment form to be added to one of our children’s Sunday School classes.
URL:https://fpcjackson.org/event/childrens-sunday-school-2/2026-05-31/
LOCATION:Various\, 1390 North State Street\, Jackson\, MS\, 39202\, United States
CATEGORIES:Children,Sunday School
END:VEVENT
BEGIN:VEVENT
DTSTART;TZID=America/Chicago:20260531T094500
DTEND;TZID=America/Chicago:20260531T105000
DTSTAMP:20260422T212334
CREATED:20230607T195344Z
LAST-MODIFIED:20260306T155904Z
UID:10002902-1780220700-1780224600@fpcjackson.org
SUMMARY:Special Friends Sunday School
DESCRIPTION:
URL:https://fpcjackson.org/event/special-friends-sunday-school/2026-05-31/
LOCATION:M120 (Main Building)\, 1390 North State Street\, Jackson\, MS\, 39202\, United States
CATEGORIES:Children,Sunday School
END:VEVENT
END:VCALENDAR