BEGIN:VCALENDAR
VERSION:2.0
PRODID:-//First Presbyterian Church - ECPv6.15.20//NONSGML v1.0//EN
CALSCALE:GREGORIAN
METHOD:PUBLISH
X-ORIGINAL-URL:https://fpcjackson.org
X-WR-CALDESC:Events for First Presbyterian Church
REFRESH-INTERVAL;VALUE=DURATION:PT1H
X-Robots-Tag:noindex
X-PUBLISHED-TTL:PT1H
BEGIN:VTIMEZONE
TZID:America/Chicago
BEGIN:DAYLIGHT
TZOFFSETFROM:-0600
TZOFFSETTO:-0500
TZNAME:CDT
DTSTART:20280312T080000
END:DAYLIGHT
BEGIN:STANDARD
TZOFFSETFROM:-0500
TZOFFSETTO:-0600
TZNAME:CST
DTSTART:20281105T070000
END:STANDARD
BEGIN:DAYLIGHT
TZOFFSETFROM:-0600
TZOFFSETTO:-0500
TZNAME:CDT
DTSTART:20290311T080000
END:DAYLIGHT
BEGIN:STANDARD
TZOFFSETFROM:-0500
TZOFFSETTO:-0600
TZNAME:CST
DTSTART:20291104T070000
END:STANDARD
BEGIN:DAYLIGHT
TZOFFSETFROM:-0600
TZOFFSETTO:-0500
TZNAME:CDT
DTSTART:20300310T080000
END:DAYLIGHT
BEGIN:STANDARD
TZOFFSETFROM:-0500
TZOFFSETTO:-0600
TZNAME:CST
DTSTART:20301103T070000
END:STANDARD
BEGIN:DAYLIGHT
TZOFFSETFROM:-0600
TZOFFSETTO:-0500
TZNAME:CDT
DTSTART:20310309T080000
END:DAYLIGHT
BEGIN:STANDARD
TZOFFSETFROM:-0500
TZOFFSETTO:-0600
TZNAME:CST
DTSTART:20311102T070000
END:STANDARD
END:VTIMEZONE
BEGIN:VEVENT
DTSTART;TZID=America/Chicago:20290910T103000
DTEND;TZID=America/Chicago:20290910T120000
DTSTAMP:20260425T104514
CREATED:20250602T172158Z
LAST-MODIFIED:20250602T172349Z
UID:10018108-1883730600-1883736000@fpcjackson.org
SUMMARY:Caregivers Support Group
DESCRIPTION:The Caregivers’ Support Group takes place every second Monday of the month in Westminster Hall 202B from 10:30 a.m.-12 p.m. The purpose of our Caregivers’ Ministry is to gather similarly situated caregivers who desire to learn\, share stories\, and grieve as we walk together through the valley of a loved one’s suffering with dementia and dementia-related illness. The meeting will provide a safe and friendly forum to talk with others who understand the toils of caregiving for the cognitively impaired. With questions\, please contact Ken Fairly at 601-941-5004.
URL:https://fpcjackson.org/event/caregivers-support-group-2-2/2029-09-10/
LOCATION:FPC Jackson Campus\, 1390 North State Street\, Jackson\, MS\, 39202\, United States
CATEGORIES:Care and Support,Senior Adults
ATTACH;FMTTYPE=application/pdf:https://fpcjackson.org/wp-content/uploads/2023/07/Caregivers-Support-Group-3.pdf
END:VEVENT
BEGIN:VEVENT
DTSTART;TZID=America/Chicago:20291008T103000
DTEND;TZID=America/Chicago:20291008T120000
DTSTAMP:20260425T104514
CREATED:20250602T172158Z
LAST-MODIFIED:20250602T172349Z
UID:10018109-1886149800-1886155200@fpcjackson.org
SUMMARY:Caregivers Support Group
DESCRIPTION:The Caregivers’ Support Group takes place every second Monday of the month in Westminster Hall 202B from 10:30 a.m.-12 p.m. The purpose of our Caregivers’ Ministry is to gather similarly situated caregivers who desire to learn\, share stories\, and grieve as we walk together through the valley of a loved one’s suffering with dementia and dementia-related illness. The meeting will provide a safe and friendly forum to talk with others who understand the toils of caregiving for the cognitively impaired. With questions\, please contact Ken Fairly at 601-941-5004.
URL:https://fpcjackson.org/event/caregivers-support-group-2-2/2029-10-08/
LOCATION:FPC Jackson Campus\, 1390 North State Street\, Jackson\, MS\, 39202\, United States
CATEGORIES:Care and Support,Senior Adults
ATTACH;FMTTYPE=application/pdf:https://fpcjackson.org/wp-content/uploads/2023/07/Caregivers-Support-Group-3.pdf
END:VEVENT
BEGIN:VEVENT
DTSTART;TZID=America/Chicago:20291112T103000
DTEND;TZID=America/Chicago:20291112T120000
DTSTAMP:20260425T104514
CREATED:20250602T172158Z
LAST-MODIFIED:20250602T172349Z
UID:10018110-1889173800-1889179200@fpcjackson.org
SUMMARY:Caregivers Support Group
DESCRIPTION:The Caregivers’ Support Group takes place every second Monday of the month in Westminster Hall 202B from 10:30 a.m.-12 p.m. The purpose of our Caregivers’ Ministry is to gather similarly situated caregivers who desire to learn\, share stories\, and grieve as we walk together through the valley of a loved one’s suffering with dementia and dementia-related illness. The meeting will provide a safe and friendly forum to talk with others who understand the toils of caregiving for the cognitively impaired. With questions\, please contact Ken Fairly at 601-941-5004.
URL:https://fpcjackson.org/event/caregivers-support-group-2-2/2029-11-12/
LOCATION:FPC Jackson Campus\, 1390 North State Street\, Jackson\, MS\, 39202\, United States
CATEGORIES:Care and Support,Senior Adults
ATTACH;FMTTYPE=application/pdf:https://fpcjackson.org/wp-content/uploads/2023/07/Caregivers-Support-Group-3.pdf
END:VEVENT
BEGIN:VEVENT
DTSTART;TZID=America/Chicago:20291210T103000
DTEND;TZID=America/Chicago:20291210T120000
DTSTAMP:20260425T104514
CREATED:20250602T172158Z
LAST-MODIFIED:20250602T172349Z
UID:10018111-1891593000-1891598400@fpcjackson.org
SUMMARY:Caregivers Support Group
DESCRIPTION:The Caregivers’ Support Group takes place every second Monday of the month in Westminster Hall 202B from 10:30 a.m.-12 p.m. The purpose of our Caregivers’ Ministry is to gather similarly situated caregivers who desire to learn\, share stories\, and grieve as we walk together through the valley of a loved one’s suffering with dementia and dementia-related illness. The meeting will provide a safe and friendly forum to talk with others who understand the toils of caregiving for the cognitively impaired. With questions\, please contact Ken Fairly at 601-941-5004.
URL:https://fpcjackson.org/event/caregivers-support-group-2-2/2029-12-10/
LOCATION:FPC Jackson Campus\, 1390 North State Street\, Jackson\, MS\, 39202\, United States
CATEGORIES:Care and Support,Senior Adults
ATTACH;FMTTYPE=application/pdf:https://fpcjackson.org/wp-content/uploads/2023/07/Caregivers-Support-Group-3.pdf
END:VEVENT
BEGIN:VEVENT
DTSTART;TZID=America/Chicago:20300114T103000
DTEND;TZID=America/Chicago:20300114T120000
DTSTAMP:20260425T104514
CREATED:20250602T172158Z
LAST-MODIFIED:20250602T172349Z
UID:10018112-1894617000-1894622400@fpcjackson.org
SUMMARY:Caregivers Support Group
DESCRIPTION:The Caregivers’ Support Group takes place every second Monday of the month in Westminster Hall 202B from 10:30 a.m.-12 p.m. The purpose of our Caregivers’ Ministry is to gather similarly situated caregivers who desire to learn\, share stories\, and grieve as we walk together through the valley of a loved one’s suffering with dementia and dementia-related illness. The meeting will provide a safe and friendly forum to talk with others who understand the toils of caregiving for the cognitively impaired. With questions\, please contact Ken Fairly at 601-941-5004.
URL:https://fpcjackson.org/event/caregivers-support-group-2-2/2030-01-14/
LOCATION:FPC Jackson Campus\, 1390 North State Street\, Jackson\, MS\, 39202\, United States
CATEGORIES:Care and Support,Senior Adults
ATTACH;FMTTYPE=application/pdf:https://fpcjackson.org/wp-content/uploads/2023/07/Caregivers-Support-Group-3.pdf
END:VEVENT
BEGIN:VEVENT
DTSTART;TZID=America/Chicago:20300211T103000
DTEND;TZID=America/Chicago:20300211T120000
DTSTAMP:20260425T104514
CREATED:20250602T172158Z
LAST-MODIFIED:20250602T172349Z
UID:10018113-1897036200-1897041600@fpcjackson.org
SUMMARY:Caregivers Support Group
DESCRIPTION:The Caregivers’ Support Group takes place every second Monday of the month in Westminster Hall 202B from 10:30 a.m.-12 p.m. The purpose of our Caregivers’ Ministry is to gather similarly situated caregivers who desire to learn\, share stories\, and grieve as we walk together through the valley of a loved one’s suffering with dementia and dementia-related illness. The meeting will provide a safe and friendly forum to talk with others who understand the toils of caregiving for the cognitively impaired. With questions\, please contact Ken Fairly at 601-941-5004.
URL:https://fpcjackson.org/event/caregivers-support-group-2-2/2030-02-11/
LOCATION:FPC Jackson Campus\, 1390 North State Street\, Jackson\, MS\, 39202\, United States
CATEGORIES:Care and Support,Senior Adults
ATTACH;FMTTYPE=application/pdf:https://fpcjackson.org/wp-content/uploads/2023/07/Caregivers-Support-Group-3.pdf
END:VEVENT
BEGIN:VEVENT
DTSTART;TZID=America/Chicago:20300311T103000
DTEND;TZID=America/Chicago:20300311T120000
DTSTAMP:20260425T104514
CREATED:20250602T172158Z
LAST-MODIFIED:20250602T172349Z
UID:10018114-1899455400-1899460800@fpcjackson.org
SUMMARY:Caregivers Support Group
DESCRIPTION:The Caregivers’ Support Group takes place every second Monday of the month in Westminster Hall 202B from 10:30 a.m.-12 p.m. The purpose of our Caregivers’ Ministry is to gather similarly situated caregivers who desire to learn\, share stories\, and grieve as we walk together through the valley of a loved one’s suffering with dementia and dementia-related illness. The meeting will provide a safe and friendly forum to talk with others who understand the toils of caregiving for the cognitively impaired. With questions\, please contact Ken Fairly at 601-941-5004.
URL:https://fpcjackson.org/event/caregivers-support-group-2-2/2030-03-11/
LOCATION:FPC Jackson Campus\, 1390 North State Street\, Jackson\, MS\, 39202\, United States
CATEGORIES:Care and Support,Senior Adults
ATTACH;FMTTYPE=application/pdf:https://fpcjackson.org/wp-content/uploads/2023/07/Caregivers-Support-Group-3.pdf
END:VEVENT
BEGIN:VEVENT
DTSTART;TZID=America/Chicago:20300408T103000
DTEND;TZID=America/Chicago:20300408T120000
DTSTAMP:20260425T104514
CREATED:20250602T172158Z
LAST-MODIFIED:20250602T172349Z
UID:10018115-1901874600-1901880000@fpcjackson.org
SUMMARY:Caregivers Support Group
DESCRIPTION:The Caregivers’ Support Group takes place every second Monday of the month in Westminster Hall 202B from 10:30 a.m.-12 p.m. The purpose of our Caregivers’ Ministry is to gather similarly situated caregivers who desire to learn\, share stories\, and grieve as we walk together through the valley of a loved one’s suffering with dementia and dementia-related illness. The meeting will provide a safe and friendly forum to talk with others who understand the toils of caregiving for the cognitively impaired. With questions\, please contact Ken Fairly at 601-941-5004.
URL:https://fpcjackson.org/event/caregivers-support-group-2-2/2030-04-08/
LOCATION:FPC Jackson Campus\, 1390 North State Street\, Jackson\, MS\, 39202\, United States
CATEGORIES:Care and Support,Senior Adults
ATTACH;FMTTYPE=application/pdf:https://fpcjackson.org/wp-content/uploads/2023/07/Caregivers-Support-Group-3.pdf
END:VEVENT
BEGIN:VEVENT
DTSTART;TZID=America/Chicago:20300513T103000
DTEND;TZID=America/Chicago:20300513T120000
DTSTAMP:20260425T104514
CREATED:20250602T172158Z
LAST-MODIFIED:20250602T172349Z
UID:10018116-1904898600-1904904000@fpcjackson.org
SUMMARY:Caregivers Support Group
DESCRIPTION:The Caregivers’ Support Group takes place every second Monday of the month in Westminster Hall 202B from 10:30 a.m.-12 p.m. The purpose of our Caregivers’ Ministry is to gather similarly situated caregivers who desire to learn\, share stories\, and grieve as we walk together through the valley of a loved one’s suffering with dementia and dementia-related illness. The meeting will provide a safe and friendly forum to talk with others who understand the toils of caregiving for the cognitively impaired. With questions\, please contact Ken Fairly at 601-941-5004.
URL:https://fpcjackson.org/event/caregivers-support-group-2-2/2030-05-13/
LOCATION:FPC Jackson Campus\, 1390 North State Street\, Jackson\, MS\, 39202\, United States
CATEGORIES:Care and Support,Senior Adults
ATTACH;FMTTYPE=application/pdf:https://fpcjackson.org/wp-content/uploads/2023/07/Caregivers-Support-Group-3.pdf
END:VEVENT
END:VCALENDAR