BEGIN:VCALENDAR
VERSION:2.0
PRODID:-//First Presbyterian Church - ECPv6.15.20//NONSGML v1.0//EN
CALSCALE:GREGORIAN
METHOD:PUBLISH
X-ORIGINAL-URL:https://fpcjackson.org
X-WR-CALDESC:Events for First Presbyterian Church
REFRESH-INTERVAL;VALUE=DURATION:PT1H
X-Robots-Tag:noindex
X-PUBLISHED-TTL:PT1H
BEGIN:VTIMEZONE
TZID:America/Chicago
BEGIN:DAYLIGHT
TZOFFSETFROM:-0600
TZOFFSETTO:-0500
TZNAME:CDT
DTSTART:20240310T080000
END:DAYLIGHT
BEGIN:STANDARD
TZOFFSETFROM:-0500
TZOFFSETTO:-0600
TZNAME:CST
DTSTART:20241103T070000
END:STANDARD
BEGIN:DAYLIGHT
TZOFFSETFROM:-0600
TZOFFSETTO:-0500
TZNAME:CDT
DTSTART:20250309T080000
END:DAYLIGHT
BEGIN:STANDARD
TZOFFSETFROM:-0500
TZOFFSETTO:-0600
TZNAME:CST
DTSTART:20251102T070000
END:STANDARD
BEGIN:DAYLIGHT
TZOFFSETFROM:-0600
TZOFFSETTO:-0500
TZNAME:CDT
DTSTART:20260308T080000
END:DAYLIGHT
BEGIN:STANDARD
TZOFFSETFROM:-0500
TZOFFSETTO:-0600
TZNAME:CST
DTSTART:20261101T070000
END:STANDARD
BEGIN:DAYLIGHT
TZOFFSETFROM:-0600
TZOFFSETTO:-0500
TZNAME:CDT
DTSTART:20270314T080000
END:DAYLIGHT
BEGIN:STANDARD
TZOFFSETFROM:-0500
TZOFFSETTO:-0600
TZNAME:CST
DTSTART:20271107T070000
END:STANDARD
END:VTIMEZONE
BEGIN:VEVENT
DTSTART;TZID=America/Chicago:20260417T080000
DTEND;TZID=America/Chicago:20260417T163000
DTSTAMP:20260425T055847
CREATED:20260324T161254Z
LAST-MODIFIED:20260324T161254Z
UID:10021196-1776412800-1776443400@fpcjackson.org
SUMMARY:Senior Adults Day Trip
DESCRIPTION:Join us on a tour of Mississippi’s Presbyterian history with Dr. David Irving on Friday\, April 17. We will depart from the church campus at 8 a.m. and arrive back by 4:30 p.m. Along the way we will enjoy a delicious\, southern lunch. The cost for the trip is $30\, in addition to the cost of lunch. To register for the event\, please email Emily Eastman at emilye@fpcjackson.org or call 769-572-3535.
URL:https://fpcjackson.org/event/senior-adults-day-trip/
LOCATION:Off-Site
CATEGORIES:Senior Adults
ATTACH;FMTTYPE=image/png:https://fpcjackson.org/wp-content/uploads/2026/03/Senior-Adults-Day-Trip-2026.png
END:VEVENT
BEGIN:VEVENT
DTSTART;TZID=America/Chicago:20260413T103000
DTEND;TZID=America/Chicago:20260413T120000
DTSTAMP:20260425T055847
CREATED:20250602T172158Z
LAST-MODIFIED:20250602T172349Z
UID:10018067-1776076200-1776081600@fpcjackson.org
SUMMARY:Caregivers Support Group
DESCRIPTION:The Caregivers’ Support Group takes place every second Monday of the month in Westminster Hall 202B from 10:30 a.m.-12 p.m. The purpose of our Caregivers’ Ministry is to gather similarly situated caregivers who desire to learn\, share stories\, and grieve as we walk together through the valley of a loved one’s suffering with dementia and dementia-related illness. The meeting will provide a safe and friendly forum to talk with others who understand the toils of caregiving for the cognitively impaired. With questions\, please contact Ken Fairly at 601-941-5004.
URL:https://fpcjackson.org/event/caregivers-support-group-2-2/2026-04-13/
LOCATION:FPC Jackson Campus\, 1390 North State Street\, Jackson\, MS\, 39202\, United States
CATEGORIES:Care and Support,Senior Adults
ATTACH;FMTTYPE=application/pdf:https://fpcjackson.org/wp-content/uploads/2023/07/Caregivers-Support-Group-3.pdf
END:VEVENT
BEGIN:VEVENT
DTSTART;TZID=America/Chicago:20260323T090000
DTEND;TZID=America/Chicago:20260323T130000
DTSTAMP:20260425T055847
CREATED:20260227T201926Z
LAST-MODIFIED:20260227T201927Z
UID:10020517-1774256400-1774270800@fpcjackson.org
SUMMARY:Senior Adults Serve Day
DESCRIPTION:Senior Adults\, join us on Monday\, March 23\, anytime between 9 a.m. and 1 p.m. as we partner with the PEARSON Foundation to serve children and families in disadvantaged communities in Central Mississippi. Together\, we will assist with their community garden pilot project. We will also prepare packets for the Foundation’s summer reading program\, part of its Learning Institute\, which provides tutoring and mentoring opportunities designed to strengthen students academically and personally. Come for an hour or stay for the morning as we participate in this tangible opportunity to reflect the hope of the gospel.
URL:https://fpcjackson.org/event/senior-adults-serve-day-2/
LOCATION:FPC Jackson Campus\, 1390 North State Street\, Jackson\, MS\, 39202\, United States
CATEGORIES:Senior Adults
ATTACH;FMTTYPE=image/png:https://fpcjackson.org/wp-content/uploads/2026/02/Senior-Adults-Serve-Day-2026.png
END:VEVENT
BEGIN:VEVENT
DTSTART;TZID=America/Chicago:20260309T103000
DTEND;TZID=America/Chicago:20260309T120000
DTSTAMP:20260425T055847
CREATED:20250602T172158Z
LAST-MODIFIED:20250602T172349Z
UID:10018066-1773052200-1773057600@fpcjackson.org
SUMMARY:Caregivers Support Group
DESCRIPTION:The Caregivers’ Support Group takes place every second Monday of the month in Westminster Hall 202B from 10:30 a.m.-12 p.m. The purpose of our Caregivers’ Ministry is to gather similarly situated caregivers who desire to learn\, share stories\, and grieve as we walk together through the valley of a loved one’s suffering with dementia and dementia-related illness. The meeting will provide a safe and friendly forum to talk with others who understand the toils of caregiving for the cognitively impaired. With questions\, please contact Ken Fairly at 601-941-5004.
URL:https://fpcjackson.org/event/caregivers-support-group-2-2/2026-03-09/
LOCATION:FPC Jackson Campus\, 1390 North State Street\, Jackson\, MS\, 39202\, United States
CATEGORIES:Care and Support,Senior Adults
ATTACH;FMTTYPE=application/pdf:https://fpcjackson.org/wp-content/uploads/2023/07/Caregivers-Support-Group-3.pdf
END:VEVENT
BEGIN:VEVENT
DTSTART;TZID=America/Chicago:20260213T120000
DTEND;TZID=America/Chicago:20260213T130000
DTSTAMP:20260425T055847
CREATED:20260123T180246Z
LAST-MODIFIED:20260210T152715Z
UID:10020345-1770984000-1770987600@fpcjackson.org
SUMMARY:Senior Adults Luncheon
DESCRIPTION:Senior Adults\, join us for food\, fellowship\, and fun on February 13\, at 12:00 p.m. in Patterson Hall\, at our February Holidays Extravaganza. We couldn’t choose just one holiday\, so come and celebrate them all with the Senior Adults Ministry! We will begin with lunch\, followed by a short message. The cost of the event is $3 per person. We are asking all attendees whose last name starts with letters H-Z to bring a side dish\, and those with last names beginning with A-G to bring a dessert. The church will provide chicken piccata as the main dish. If you would like to attend\, RSVP by contacting Emily Eastman at 769-572-3535 or emilye@fpcjackson.org.
URL:https://fpcjackson.org/event/senior-adults-luncheon-6/
LOCATION:Patterson Hall\, 1390 North State Street\, Jackson\, MS\, 39202\, United States
CATEGORIES:Senior Adults
ATTACH;FMTTYPE=image/png:https://fpcjackson.org/wp-content/uploads/2026/01/Senior-Adults-Luncheon-Feb-2026.png
END:VEVENT
BEGIN:VEVENT
DTSTART;TZID=America/Chicago:20260209T103000
DTEND;TZID=America/Chicago:20260209T120000
DTSTAMP:20260425T055847
CREATED:20250602T172158Z
LAST-MODIFIED:20250602T172349Z
UID:10018065-1770633000-1770638400@fpcjackson.org
SUMMARY:Caregivers Support Group
DESCRIPTION:The Caregivers’ Support Group takes place every second Monday of the month in Westminster Hall 202B from 10:30 a.m.-12 p.m. The purpose of our Caregivers’ Ministry is to gather similarly situated caregivers who desire to learn\, share stories\, and grieve as we walk together through the valley of a loved one’s suffering with dementia and dementia-related illness. The meeting will provide a safe and friendly forum to talk with others who understand the toils of caregiving for the cognitively impaired. With questions\, please contact Ken Fairly at 601-941-5004.
URL:https://fpcjackson.org/event/caregivers-support-group-2-2/2026-02-09/
LOCATION:FPC Jackson Campus\, 1390 North State Street\, Jackson\, MS\, 39202\, United States
CATEGORIES:Care and Support,Senior Adults
ATTACH;FMTTYPE=application/pdf:https://fpcjackson.org/wp-content/uploads/2023/07/Caregivers-Support-Group-3.pdf
END:VEVENT
BEGIN:VEVENT
DTSTART;TZID=America/Chicago:20260112T103000
DTEND;TZID=America/Chicago:20260112T120000
DTSTAMP:20260425T055847
CREATED:20250602T172158Z
LAST-MODIFIED:20250602T172349Z
UID:10018064-1768213800-1768219200@fpcjackson.org
SUMMARY:Caregivers Support Group
DESCRIPTION:The Caregivers’ Support Group takes place every second Monday of the month in Westminster Hall 202B from 10:30 a.m.-12 p.m. The purpose of our Caregivers’ Ministry is to gather similarly situated caregivers who desire to learn\, share stories\, and grieve as we walk together through the valley of a loved one’s suffering with dementia and dementia-related illness. The meeting will provide a safe and friendly forum to talk with others who understand the toils of caregiving for the cognitively impaired. With questions\, please contact Ken Fairly at 601-941-5004.
URL:https://fpcjackson.org/event/caregivers-support-group-2-2/2026-01-12/
LOCATION:FPC Jackson Campus\, 1390 North State Street\, Jackson\, MS\, 39202\, United States
CATEGORIES:Care and Support,Senior Adults
ATTACH;FMTTYPE=application/pdf:https://fpcjackson.org/wp-content/uploads/2023/07/Caregivers-Support-Group-3.pdf
END:VEVENT
BEGIN:VEVENT
DTSTART;TZID=America/Chicago:20260112T090000
DTEND;TZID=America/Chicago:20260112T170000
DTSTAMP:20260425T055847
CREATED:20251219T185107Z
LAST-MODIFIED:20251219T185107Z
UID:10019991-1768208400-1768237200@fpcjackson.org
SUMMARY:Senior Adults Serve Day
DESCRIPTION:Senior Adults\, join us Monday\, January 12 anytime between 9 a.m. and 5 p.m. as we work together to prepare arts and crafts for PEARSON Foundation’s 2026 Spring Break Youth Retreat.
URL:https://fpcjackson.org/event/senior-adults-serve-day/
LOCATION:Off-Site
CATEGORIES:Senior Adults
ATTACH;FMTTYPE=image/png:https://fpcjackson.org/wp-content/uploads/2025/12/Senior-Adults-Serve-Day-Jan-26.png
END:VEVENT
BEGIN:VEVENT
DTSTART;TZID=America/Chicago:20251212T113000
DTEND;TZID=America/Chicago:20251212T130000
DTSTAMP:20260425T055847
CREATED:20251114T162051Z
LAST-MODIFIED:20251114T162051Z
UID:10018983-1765539000-1765544400@fpcjackson.org
SUMMARY:Senior Adults Christmas Luncheon
DESCRIPTION:Senior Adults\, join us for an afternoon of food\, fellowship\, and fun on December 12 at 11:30 a.m. in Patterson Hall! We’ll begin with lunch\, followed by a Christmas Cookie Decorating Contest and a time in God’s Word. The cost is $3 per person. \nPlease bring your favorite Christmas dish to share!\n• Last names A–H: bring a dessert\n•Last names G–Z: bring a side\n•The church will provide the main dish. \nTo RSVP\, contact Emily Eastman at 769-572-3535 or emilye@fpcjackson.org
URL:https://fpcjackson.org/event/senior-adults-christmas-luncheon-2/
LOCATION:Patterson Hall\, 1390 North State Street\, Jackson\, MS\, 39202\, United States
CATEGORIES:Senior Adults
ATTACH;FMTTYPE=image/png:https://fpcjackson.org/wp-content/uploads/2025/11/Senior-Adults-Christmas-Luncheon-2025-scaled.png
END:VEVENT
BEGIN:VEVENT
DTSTART;TZID=America/Chicago:20251208T103000
DTEND;TZID=America/Chicago:20251208T120000
DTSTAMP:20260425T055847
CREATED:20250602T172158Z
LAST-MODIFIED:20250602T172349Z
UID:10018063-1765189800-1765195200@fpcjackson.org
SUMMARY:Caregivers Support Group
DESCRIPTION:The Caregivers’ Support Group takes place every second Monday of the month in Westminster Hall 202B from 10:30 a.m.-12 p.m. The purpose of our Caregivers’ Ministry is to gather similarly situated caregivers who desire to learn\, share stories\, and grieve as we walk together through the valley of a loved one’s suffering with dementia and dementia-related illness. The meeting will provide a safe and friendly forum to talk with others who understand the toils of caregiving for the cognitively impaired. With questions\, please contact Ken Fairly at 601-941-5004.
URL:https://fpcjackson.org/event/caregivers-support-group-2-2/2025-12-08/
LOCATION:FPC Jackson Campus\, 1390 North State Street\, Jackson\, MS\, 39202\, United States
CATEGORIES:Care and Support,Senior Adults
ATTACH;FMTTYPE=application/pdf:https://fpcjackson.org/wp-content/uploads/2023/07/Caregivers-Support-Group-3.pdf
END:VEVENT
BEGIN:VEVENT
DTSTART;TZID=America/Chicago:20251117T090000
DTEND;TZID=America/Chicago:20251117T170000
DTSTAMP:20260425T055847
CREATED:20251105T175703Z
LAST-MODIFIED:20251105T175704Z
UID:10018977-1763370000-1763398800@fpcjackson.org
SUMMARY:Senior Adults Serve Day at PEARSON
DESCRIPTION:Senior Adults\, join us Monday\, November 17 anytime between 9 a.m. and 5 p.m. as we work together to decorate the PEARSON Foundation facility interior with Christmas decorations for their annual Holiday Open House in December. The group will meet at the facility (206 Old Whitfield Rd.\, Pearl). Please contact Emily Eastman if you would like to participate at emilye@fpcjackson.org or 769-572-3535.
URL:https://fpcjackson.org/event/senior-adults-serve-day-at-pearson/
LOCATION:FPC Jackson Campus\, 1390 North State Street\, Jackson\, MS\, 39202\, United States
CATEGORIES:Senior Adults
ATTACH;FMTTYPE=image/png:https://fpcjackson.org/wp-content/uploads/2025/11/Senior-Adults-Serve-Day-at-Pearson-scaled.png
END:VEVENT
BEGIN:VEVENT
DTSTART;TZID=America/Chicago:20251110T103000
DTEND;TZID=America/Chicago:20251110T120000
DTSTAMP:20260425T055847
CREATED:20250602T172158Z
LAST-MODIFIED:20250602T172349Z
UID:10018062-1762770600-1762776000@fpcjackson.org
SUMMARY:Caregivers Support Group
DESCRIPTION:The Caregivers’ Support Group takes place every second Monday of the month in Westminster Hall 202B from 10:30 a.m.-12 p.m. The purpose of our Caregivers’ Ministry is to gather similarly situated caregivers who desire to learn\, share stories\, and grieve as we walk together through the valley of a loved one’s suffering with dementia and dementia-related illness. The meeting will provide a safe and friendly forum to talk with others who understand the toils of caregiving for the cognitively impaired. With questions\, please contact Ken Fairly at 601-941-5004.
URL:https://fpcjackson.org/event/caregivers-support-group-2-2/2025-11-10/
LOCATION:FPC Jackson Campus\, 1390 North State Street\, Jackson\, MS\, 39202\, United States
CATEGORIES:Care and Support,Senior Adults
ATTACH;FMTTYPE=application/pdf:https://fpcjackson.org/wp-content/uploads/2023/07/Caregivers-Support-Group-3.pdf
END:VEVENT
BEGIN:VEVENT
DTSTART;TZID=America/Chicago:20251013T103000
DTEND;TZID=America/Chicago:20251013T120000
DTSTAMP:20260425T055847
CREATED:20250602T172158Z
LAST-MODIFIED:20250602T172349Z
UID:10018061-1760351400-1760356800@fpcjackson.org
SUMMARY:Caregivers Support Group
DESCRIPTION:The Caregivers’ Support Group takes place every second Monday of the month in Westminster Hall 202B from 10:30 a.m.-12 p.m. The purpose of our Caregivers’ Ministry is to gather similarly situated caregivers who desire to learn\, share stories\, and grieve as we walk together through the valley of a loved one’s suffering with dementia and dementia-related illness. The meeting will provide a safe and friendly forum to talk with others who understand the toils of caregiving for the cognitively impaired. With questions\, please contact Ken Fairly at 601-941-5004.
URL:https://fpcjackson.org/event/caregivers-support-group-2-2/2025-10-13/
LOCATION:FPC Jackson Campus\, 1390 North State Street\, Jackson\, MS\, 39202\, United States
CATEGORIES:Care and Support,Senior Adults
ATTACH;FMTTYPE=application/pdf:https://fpcjackson.org/wp-content/uploads/2023/07/Caregivers-Support-Group-3.pdf
END:VEVENT
BEGIN:VEVENT
DTSTART;TZID=America/Chicago:20250919T113000
DTEND;TZID=America/Chicago:20250919T113000
DTSTAMP:20260425T055847
CREATED:20250912T214052Z
LAST-MODIFIED:20250912T214103Z
UID:10018464-1758281400-1758281400@fpcjackson.org
SUMMARY:Senior Adults Luncheon
DESCRIPTION:Join us for an afternoon of food\, fellowship\, and fun on September 19\, at 11:30 a.m. in Patterson Hall. We will begin with lunch\, followed by a short message on the Household of God. \nThe cost of the event is $3 per person. We ask attendees with last names A-N to bring a side and those with O-Z to bring a dessert. The church will provide shrimp po-boys as the main dish. \nRSVP to Emily Eastman at 769-572-3535 or emilye@fpcjackson.org.
URL:https://fpcjackson.org/event/senior-adults-luncheon-5/
LOCATION:FPC Jackson Campus\, 1390 North State Street\, Jackson\, MS\, 39202\, United States
CATEGORIES:Senior Adults
ATTACH;FMTTYPE=image/png:https://fpcjackson.org/wp-content/uploads/2025/09/Senior-Adults-Luncheon-Sept-2025.png
END:VEVENT
BEGIN:VEVENT
DTSTART;TZID=America/Chicago:20250908T103000
DTEND;TZID=America/Chicago:20250908T120000
DTSTAMP:20260425T055847
CREATED:20250602T172158Z
LAST-MODIFIED:20250602T172349Z
UID:10018060-1757327400-1757332800@fpcjackson.org
SUMMARY:Caregivers Support Group
DESCRIPTION:The Caregivers’ Support Group takes place every second Monday of the month in Westminster Hall 202B from 10:30 a.m.-12 p.m. The purpose of our Caregivers’ Ministry is to gather similarly situated caregivers who desire to learn\, share stories\, and grieve as we walk together through the valley of a loved one’s suffering with dementia and dementia-related illness. The meeting will provide a safe and friendly forum to talk with others who understand the toils of caregiving for the cognitively impaired. With questions\, please contact Ken Fairly at 601-941-5004.
URL:https://fpcjackson.org/event/caregivers-support-group-2-2/2025-09-08/
LOCATION:FPC Jackson Campus\, 1390 North State Street\, Jackson\, MS\, 39202\, United States
CATEGORIES:Care and Support,Senior Adults
ATTACH;FMTTYPE=application/pdf:https://fpcjackson.org/wp-content/uploads/2023/07/Caregivers-Support-Group-3.pdf
END:VEVENT
BEGIN:VEVENT
DTSTART;TZID=America/Chicago:20250815T093000
DTEND;TZID=America/Chicago:20250815T140000
DTSTAMP:20260425T055847
CREATED:20250728T192838Z
LAST-MODIFIED:20250805T192442Z
UID:10018212-1755250200-1755266400@fpcjackson.org
SUMMARY:Senior Adults Museum Visit
DESCRIPTION:Experience a day of fellowship while deepening your understanding of our state’s history as you tour The Two Mississippi Museums. As part of the itinerary\, you can expect a delicious lunch prepared by famous Mississippi chef Nick Wallace at the Nissan Cafe. We will meet at the Two Museums at 9:30 a.m. and plan to leave by 2:00 p.m. after our lunch. There is no charge for admission to the Museums. Everyone will be responsible for their own lunch. The whole country is raving about The Two Mississippi Museums. Let’s go see what all the hullabaloo is about!
URL:https://fpcjackson.org/event/senior-adults-museum-visit/
LOCATION:FPC Jackson Campus\, 1390 North State Street\, Jackson\, MS\, 39202\, United States
CATEGORIES:Senior Adults
ATTACH;FMTTYPE=image/png:https://fpcjackson.org/wp-content/uploads/2025/07/Senior-Adults-Two-Museums.png
END:VEVENT
BEGIN:VEVENT
DTSTART;TZID=America/Chicago:20250811T103000
DTEND;TZID=America/Chicago:20250811T120000
DTSTAMP:20260425T055847
CREATED:20250602T172158Z
LAST-MODIFIED:20250602T172349Z
UID:10018059-1754908200-1754913600@fpcjackson.org
SUMMARY:Caregivers Support Group
DESCRIPTION:The Caregivers’ Support Group takes place every second Monday of the month in Westminster Hall 202B from 10:30 a.m.-12 p.m. The purpose of our Caregivers’ Ministry is to gather similarly situated caregivers who desire to learn\, share stories\, and grieve as we walk together through the valley of a loved one’s suffering with dementia and dementia-related illness. The meeting will provide a safe and friendly forum to talk with others who understand the toils of caregiving for the cognitively impaired. With questions\, please contact Ken Fairly at 601-941-5004.
URL:https://fpcjackson.org/event/caregivers-support-group-2-2/2025-08-11/
LOCATION:FPC Jackson Campus\, 1390 North State Street\, Jackson\, MS\, 39202\, United States
CATEGORIES:Care and Support,Senior Adults
ATTACH;FMTTYPE=application/pdf:https://fpcjackson.org/wp-content/uploads/2023/07/Caregivers-Support-Group-3.pdf
END:VEVENT
BEGIN:VEVENT
DTSTART;TZID=America/Chicago:20250714T103000
DTEND;TZID=America/Chicago:20250714T120000
DTSTAMP:20260425T055847
CREATED:20250602T172158Z
LAST-MODIFIED:20250602T172349Z
UID:10018058-1752489000-1752494400@fpcjackson.org
SUMMARY:Caregivers Support Group
DESCRIPTION:The Caregivers’ Support Group takes place every second Monday of the month in Westminster Hall 202B from 10:30 a.m.-12 p.m. The purpose of our Caregivers’ Ministry is to gather similarly situated caregivers who desire to learn\, share stories\, and grieve as we walk together through the valley of a loved one’s suffering with dementia and dementia-related illness. The meeting will provide a safe and friendly forum to talk with others who understand the toils of caregiving for the cognitively impaired. With questions\, please contact Ken Fairly at 601-941-5004.
URL:https://fpcjackson.org/event/caregivers-support-group-2-2/2025-07-14/
LOCATION:FPC Jackson Campus\, 1390 North State Street\, Jackson\, MS\, 39202\, United States
CATEGORIES:Care and Support,Senior Adults
ATTACH;FMTTYPE=application/pdf:https://fpcjackson.org/wp-content/uploads/2023/07/Caregivers-Support-Group-3.pdf
END:VEVENT
BEGIN:VEVENT
DTSTART;TZID=America/Chicago:20250613T113000
DTEND;TZID=America/Chicago:20250613T140000
DTSTAMP:20260425T055847
CREATED:20250520T161228Z
LAST-MODIFIED:20250520T161228Z
UID:10009183-1749814200-1749823200@fpcjackson.org
SUMMARY:Senior Adults Picnic
DESCRIPTION:Join us for an afternoon of food\, fellowship\, and fun on June 13\, at 11:30 a.m. at Old Trace Park in Ridgeland (422 Post Rd\, Ridgeland\, MS 39157). We will start off with a lunch followed by a short program. The cost of the event is $3 per person plus $5 for parking per vehicle. We are asking all attendees with the last name starting with letters A-N to bring a side and those with O-Z to bring a dessert. The main dish will be provided by the church. If you would like to attend\, please RSVP by contacting Emily Eastman at 769-572-3535 or emilye@fpcjackson.org.
URL:https://fpcjackson.org/event/senior-adults-picnic/
LOCATION:Off-Site
CATEGORIES:Senior Adults
ATTACH;FMTTYPE=image/png:https://fpcjackson.org/wp-content/uploads/2025/05/Senior-Adults-Picnic.png
END:VEVENT
BEGIN:VEVENT
DTSTART;TZID=America/Chicago:20250609T103000
DTEND;TZID=America/Chicago:20250609T120000
DTSTAMP:20260425T055847
CREATED:20250602T172158Z
LAST-MODIFIED:20250602T172349Z
UID:10018057-1749465000-1749470400@fpcjackson.org
SUMMARY:Caregivers Support Group
DESCRIPTION:The Caregivers’ Support Group takes place every second Monday of the month in Westminster Hall 202B from 10:30 a.m.-12 p.m. The purpose of our Caregivers’ Ministry is to gather similarly situated caregivers who desire to learn\, share stories\, and grieve as we walk together through the valley of a loved one’s suffering with dementia and dementia-related illness. The meeting will provide a safe and friendly forum to talk with others who understand the toils of caregiving for the cognitively impaired. With questions\, please contact Ken Fairly at 601-941-5004.
URL:https://fpcjackson.org/event/caregivers-support-group-2-2/2025-06-09/
LOCATION:FPC Jackson Campus\, 1390 North State Street\, Jackson\, MS\, 39202\, United States
CATEGORIES:Care and Support,Senior Adults
ATTACH;FMTTYPE=application/pdf:https://fpcjackson.org/wp-content/uploads/2023/07/Caregivers-Support-Group-3.pdf
END:VEVENT
END:VCALENDAR