BEGIN:VCALENDAR
VERSION:2.0
PRODID:-//First Presbyterian Church - ECPv6.15.20//NONSGML v1.0//EN
CALSCALE:GREGORIAN
METHOD:PUBLISH
X-ORIGINAL-URL:https://fpcjackson.org
X-WR-CALDESC:Events for First Presbyterian Church
REFRESH-INTERVAL;VALUE=DURATION:PT1H
X-Robots-Tag:noindex
X-PUBLISHED-TTL:PT1H
BEGIN:VTIMEZONE
TZID:America/Chicago
BEGIN:DAYLIGHT
TZOFFSETFROM:-0600
TZOFFSETTO:-0500
TZNAME:CDT
DTSTART:20250309T080000
END:DAYLIGHT
BEGIN:STANDARD
TZOFFSETFROM:-0500
TZOFFSETTO:-0600
TZNAME:CST
DTSTART:20251102T070000
END:STANDARD
BEGIN:DAYLIGHT
TZOFFSETFROM:-0600
TZOFFSETTO:-0500
TZNAME:CDT
DTSTART:20260308T080000
END:DAYLIGHT
BEGIN:STANDARD
TZOFFSETFROM:-0500
TZOFFSETTO:-0600
TZNAME:CST
DTSTART:20261101T070000
END:STANDARD
BEGIN:DAYLIGHT
TZOFFSETFROM:-0600
TZOFFSETTO:-0500
TZNAME:CDT
DTSTART:20270314T080000
END:DAYLIGHT
BEGIN:STANDARD
TZOFFSETFROM:-0500
TZOFFSETTO:-0600
TZNAME:CST
DTSTART:20271107T070000
END:STANDARD
END:VTIMEZONE
BEGIN:VEVENT
DTSTART;TZID=America/Chicago:20260126T150000
DTEND;TZID=America/Chicago:20260126T163000
DTSTAMP:20260425T182130
CREATED:20250521T161143Z
LAST-MODIFIED:20251218T222804Z
UID:10009219-1769439600-1769445000@fpcjackson.org
SUMMARY:Oasis at Mission First FPC Tutoring Team
DESCRIPTION:Meets Mondays during the school year \n3-4:30 p.m. at Peyton’s House (417 West Ash Street) \nFPC Team Leader: Ashley Meena – 601-573-3389 – ashleymeena@aol.com \nAssist in the weekly elementary-aged\, after-school tutoring program. Your love matters! Contact Ashley to be added to the team communications.
URL:https://fpcjackson.org/event/oasis-at-mission-first-fpc-tutoring-team/2026-01-26/
LOCATION:Peyton’s House\, 417 West Ash Street\, Jackson\, 39203\, United States
CATEGORIES:Outreach
END:VEVENT
BEGIN:VEVENT
DTSTART;TZID=America/Chicago:20260127T090000
DTEND;TZID=America/Chicago:20260127T110000
DTSTAMP:20260425T182130
CREATED:20250926T191029Z
LAST-MODIFIED:20251218T221526Z
UID:10018610-1769504400-1769511600@fpcjackson.org
SUMMARY:We Will Go - Grocery Delivery
DESCRIPTION:Join the FPC team at We Will Go\, praying with and giving groceries to neighbors from 9-11 a.m. Contact Rae Ann Lawrence at 601-278-4935 or lawrence.raeann@gmail.com for more information & to join us.
URL:https://fpcjackson.org/event/we-will-go-grocery-delivery/2026-01-27/
LOCATION:We Will Go\, 806 N Farish St\, Jackson\, MS\, 39202\, United States
CATEGORIES:Mission and Outreach,Outreach
ATTACH;FMTTYPE=image/png:https://fpcjackson.org/wp-content/uploads/2025/09/WWGLogoColor.png
END:VEVENT
BEGIN:VEVENT
DTSTART;TZID=America/Chicago:20260127T103000
DTEND;TZID=America/Chicago:20260127T113000
DTSTAMP:20260425T182130
CREATED:20250926T191558Z
LAST-MODIFIED:20251218T221813Z
UID:10018684-1769509800-1769513400@fpcjackson.org
SUMMARY:Center for Pregnancy Choices - Gift Wrapping
DESCRIPTION:Join us at the Center for Pregnancy Choices each Tuesday 10:30-11:30 AM as we wrap diaper gifts for new moms. Contact Mary Ellison with questions or to join our team at 601-942-3507 or honeysuckle2g@gmail.com.
URL:https://fpcjackson.org/event/center-for-pregnancy-gift-wrapping/2026-01-27/
LOCATION:Center for Pregnancy Choices\, 2685 Crane Ridge Dr Suite B\, Jackson\, 39216\, United States
CATEGORIES:Mission and Outreach,Outreach
ATTACH;FMTTYPE=image/png:https://fpcjackson.org/wp-content/uploads/2025/03/CPC.png
END:VEVENT
BEGIN:VEVENT
DTSTART;TZID=America/Chicago:20260128T111500
DTEND;TZID=America/Chicago:20260128T123000
DTSTAMP:20260425T182130
CREATED:20250521T163219Z
LAST-MODIFIED:20251218T222133Z
UID:10009515-1769598900-1769603400@fpcjackson.org
SUMMARY:Gateway Rescue Mission FPC Team
DESCRIPTION:Meets Wednesdays 11:15 a.m. – 12:30 p.m. at Gateway (328 South Gallatin Street) \nFPC Team Leader: Cheryl Crawford 601-918-4953 – clcrawfor@aol.com \nVolunteers serve lunch to homeless and program men at Gateway Rescue Mission. Most on this team serve once a month\, though you can go visit with participants weekly during this time. Contact Lou Ann Flatgard at 601-940-3012 or louflatgard@gmail.com for more information or to join our team.
URL:https://fpcjackson.org/event/gateway-rescue-mission-fpc-team/2026-01-28/
LOCATION:Gateway Rescue Mission\, 328 S Gallatin St.\, Jackson\, 39203\, United States
CATEGORIES:Outreach
END:VEVENT
END:VCALENDAR