BEGIN:VCALENDAR
VERSION:2.0
PRODID:-//First Presbyterian Church - ECPv6.15.20//NONSGML v1.0//EN
CALSCALE:GREGORIAN
METHOD:PUBLISH
X-WR-CALNAME:First Presbyterian Church
X-ORIGINAL-URL:https://fpcjackson.org
X-WR-CALDESC:Events for First Presbyterian Church
REFRESH-INTERVAL;VALUE=DURATION:PT1H
X-Robots-Tag:noindex
X-PUBLISHED-TTL:PT1H
BEGIN:VTIMEZONE
TZID:America/Chicago
BEGIN:DAYLIGHT
TZOFFSETFROM:-0600
TZOFFSETTO:-0500
TZNAME:CDT
DTSTART:20250309T080000
END:DAYLIGHT
BEGIN:STANDARD
TZOFFSETFROM:-0500
TZOFFSETTO:-0600
TZNAME:CST
DTSTART:20251102T070000
END:STANDARD
BEGIN:DAYLIGHT
TZOFFSETFROM:-0600
TZOFFSETTO:-0500
TZNAME:CDT
DTSTART:20260308T080000
END:DAYLIGHT
BEGIN:STANDARD
TZOFFSETFROM:-0500
TZOFFSETTO:-0600
TZNAME:CST
DTSTART:20261101T070000
END:STANDARD
BEGIN:DAYLIGHT
TZOFFSETFROM:-0600
TZOFFSETTO:-0500
TZNAME:CDT
DTSTART:20270314T080000
END:DAYLIGHT
BEGIN:STANDARD
TZOFFSETFROM:-0500
TZOFFSETTO:-0600
TZNAME:CST
DTSTART:20271107T070000
END:STANDARD
END:VTIMEZONE
BEGIN:VEVENT
DTSTART;TZID=America/Chicago:20260504T150000
DTEND;TZID=America/Chicago:20260504T163000
DTSTAMP:20260425T110138
CREATED:20250521T161143Z
LAST-MODIFIED:20251218T222804Z
UID:10009233-1777906800-1777912200@fpcjackson.org
SUMMARY:Oasis at Mission First FPC Tutoring Team
DESCRIPTION:Meets Mondays during the school year \n3-4:30 p.m. at Peyton’s House (417 West Ash Street) \nFPC Team Leader: Ashley Meena – 601-573-3389 – ashleymeena@aol.com \nAssist in the weekly elementary-aged\, after-school tutoring program. Your love matters! Contact Ashley to be added to the team communications.
URL:https://fpcjackson.org/event/oasis-at-mission-first-fpc-tutoring-team/2026-05-04/
LOCATION:Peyton’s House\, 417 West Ash Street\, Jackson\, 39203\, United States
CATEGORIES:Outreach
END:VEVENT
BEGIN:VEVENT
DTSTART;TZID=America/Chicago:20260505T103000
DTEND;TZID=America/Chicago:20260505T113000
DTSTAMP:20260425T110138
CREATED:20250926T191558Z
LAST-MODIFIED:20251218T221813Z
UID:10018698-1777977000-1777980600@fpcjackson.org
SUMMARY:Center for Pregnancy Choices - Gift Wrapping
DESCRIPTION:Join us at the Center for Pregnancy Choices each Tuesday 10:30-11:30 AM as we wrap diaper gifts for new moms. Contact Mary Ellison with questions or to join our team at 601-942-3507 or honeysuckle2g@gmail.com.
URL:https://fpcjackson.org/event/center-for-pregnancy-gift-wrapping/2026-05-05/
LOCATION:Center for Pregnancy Choices\, 2685 Crane Ridge Dr Suite B\, Jackson\, 39216\, United States
CATEGORIES:Mission and Outreach,Outreach
ATTACH;FMTTYPE=image/png:https://fpcjackson.org/wp-content/uploads/2025/03/CPC.png
END:VEVENT
BEGIN:VEVENT
DTSTART;TZID=America/Chicago:20260505T184500
DTEND;TZID=America/Chicago:20260505T200000
DTSTAMP:20260425T110138
CREATED:20250521T163601Z
LAST-MODIFIED:20260306T160327Z
UID:10009789-1778006700-1778011200@fpcjackson.org
SUMMARY:FPC Internationals Class
DESCRIPTION:Meets Tuesdays at 6:45-8 p.m. on the FPC Campus – Patterson Hall or Via Zoom \nFPC Team Leader: Steve Edwards 601-668-7422 – alice5176@aol.com \nWithout leaving Jackson (or your home if you’d like to Zoom) you can answer God’s calling to love our international neighbors by helping them with their English. By the power of Holy Spirit we are praying that as has happened in past years\, many will become a part of God’s family for eternity. Contact Steve to learn more\, or just show up on Tuesday evenings in Patterson Hall.
URL:https://fpcjackson.org/event/fpc-internationals-class/2026-05-05/
LOCATION:Patterson Hall\, 1390 North State Street\, Jackson\, MS\, 39202\, United States
CATEGORIES:Outreach
ATTACH;FMTTYPE=image/png:https://fpcjackson.org/wp-content/uploads/2025/05/Internationals-Class-scaled.png
END:VEVENT
BEGIN:VEVENT
DTSTART;TZID=America/Chicago:20260506T111500
DTEND;TZID=America/Chicago:20260506T123000
DTSTAMP:20260425T110138
CREATED:20250521T163219Z
LAST-MODIFIED:20251218T222133Z
UID:10009529-1778066100-1778070600@fpcjackson.org
SUMMARY:Gateway Rescue Mission FPC Team
DESCRIPTION:Meets Wednesdays 11:15 a.m. – 12:30 p.m. at Gateway (328 South Gallatin Street) \nFPC Team Leader: Cheryl Crawford 601-918-4953 – clcrawfor@aol.com \nVolunteers serve lunch to homeless and program men at Gateway Rescue Mission. Most on this team serve once a month\, though you can go visit with participants weekly during this time. Contact Lou Ann Flatgard at 601-940-3012 or louflatgard@gmail.com for more information or to join our team.
URL:https://fpcjackson.org/event/gateway-rescue-mission-fpc-team/2026-05-06/
LOCATION:Gateway Rescue Mission\, 328 S Gallatin St.\, Jackson\, 39203\, United States
CATEGORIES:Outreach
END:VEVENT
BEGIN:VEVENT
DTSTART;TZID=America/Chicago:20260511T150000
DTEND;TZID=America/Chicago:20260511T163000
DTSTAMP:20260425T110138
CREATED:20250521T161143Z
LAST-MODIFIED:20251218T222804Z
UID:10009234-1778511600-1778517000@fpcjackson.org
SUMMARY:Oasis at Mission First FPC Tutoring Team
DESCRIPTION:Meets Mondays during the school year \n3-4:30 p.m. at Peyton’s House (417 West Ash Street) \nFPC Team Leader: Ashley Meena – 601-573-3389 – ashleymeena@aol.com \nAssist in the weekly elementary-aged\, after-school tutoring program. Your love matters! Contact Ashley to be added to the team communications.
URL:https://fpcjackson.org/event/oasis-at-mission-first-fpc-tutoring-team/2026-05-11/
LOCATION:Peyton’s House\, 417 West Ash Street\, Jackson\, 39203\, United States
CATEGORIES:Outreach
END:VEVENT
BEGIN:VEVENT
DTSTART;TZID=America/Chicago:20260512T103000
DTEND;TZID=America/Chicago:20260512T113000
DTSTAMP:20260425T110138
CREATED:20250926T191558Z
LAST-MODIFIED:20251218T221813Z
UID:10018699-1778581800-1778585400@fpcjackson.org
SUMMARY:Center for Pregnancy Choices - Gift Wrapping
DESCRIPTION:Join us at the Center for Pregnancy Choices each Tuesday 10:30-11:30 AM as we wrap diaper gifts for new moms. Contact Mary Ellison with questions or to join our team at 601-942-3507 or honeysuckle2g@gmail.com.
URL:https://fpcjackson.org/event/center-for-pregnancy-gift-wrapping/2026-05-12/
LOCATION:Center for Pregnancy Choices\, 2685 Crane Ridge Dr Suite B\, Jackson\, 39216\, United States
CATEGORIES:Mission and Outreach,Outreach
ATTACH;FMTTYPE=image/png:https://fpcjackson.org/wp-content/uploads/2025/03/CPC.png
END:VEVENT
BEGIN:VEVENT
DTSTART;TZID=America/Chicago:20260512T184500
DTEND;TZID=America/Chicago:20260512T200000
DTSTAMP:20260425T110138
CREATED:20250521T163601Z
LAST-MODIFIED:20260306T160327Z
UID:10009790-1778611500-1778616000@fpcjackson.org
SUMMARY:FPC Internationals Class
DESCRIPTION:Meets Tuesdays at 6:45-8 p.m. on the FPC Campus – Patterson Hall or Via Zoom \nFPC Team Leader: Steve Edwards 601-668-7422 – alice5176@aol.com \nWithout leaving Jackson (or your home if you’d like to Zoom) you can answer God’s calling to love our international neighbors by helping them with their English. By the power of Holy Spirit we are praying that as has happened in past years\, many will become a part of God’s family for eternity. Contact Steve to learn more\, or just show up on Tuesday evenings in Patterson Hall.
URL:https://fpcjackson.org/event/fpc-internationals-class/2026-05-12/
LOCATION:Patterson Hall\, 1390 North State Street\, Jackson\, MS\, 39202\, United States
CATEGORIES:Outreach
ATTACH;FMTTYPE=image/png:https://fpcjackson.org/wp-content/uploads/2025/05/Internationals-Class-scaled.png
END:VEVENT
BEGIN:VEVENT
DTSTART;TZID=America/Chicago:20260513T090000
DTEND;TZID=America/Chicago:20260513T103000
DTSTAMP:20260425T110138
CREATED:20250711T212949Z
LAST-MODIFIED:20251218T222050Z
UID:10018492-1778662800-1778668200@fpcjackson.org
SUMMARY:We Will Go Women's Bible Study
DESCRIPTION:You’re invited to be a part of a new Bible & Prayer Time for Women! FPC is partnering with We Will Go for this twice-monthly get-together beginning September 3. This opportunity is for neighbors who want to love and grow with one another in the Lord on the first and third Wednesdays each month at 9-10:30 AM. We will meet together at We Will Go for a time of prayer\, Bible reading\, and fellowship. Join us to be a part of this new group! If you have questions\, please contact Carol Anne Miconi at\n601-506-5033 or carolannem@fpcjackson.org. \n“Speaking the truth in love\, we are to grow up in every way into Him who is the Head\, into Christ\, from whom the whole Body\, joined and held together by every joint with which it is equipped\, when each part is working properly\, makes the body grow so that it builds itself up in love.” Ephesians 4:15-16
URL:https://fpcjackson.org/event/we-will-go-womens-bible-study/2026-05-13/
LOCATION:We Will Go\, 806 N Farish St\, Jackson\, MS\, 39202\, United States
CATEGORIES:Mission and Outreach,Outreach,Women
ATTACH;FMTTYPE=image/png:https://fpcjackson.org/wp-content/uploads/2025/07/Women-Bible-and-Prayer.png
END:VEVENT
BEGIN:VEVENT
DTSTART;TZID=America/Chicago:20260513T111500
DTEND;TZID=America/Chicago:20260513T123000
DTSTAMP:20260425T110138
CREATED:20250521T163219Z
LAST-MODIFIED:20251218T222133Z
UID:10009530-1778670900-1778675400@fpcjackson.org
SUMMARY:Gateway Rescue Mission FPC Team
DESCRIPTION:Meets Wednesdays 11:15 a.m. – 12:30 p.m. at Gateway (328 South Gallatin Street) \nFPC Team Leader: Cheryl Crawford 601-918-4953 – clcrawfor@aol.com \nVolunteers serve lunch to homeless and program men at Gateway Rescue Mission. Most on this team serve once a month\, though you can go visit with participants weekly during this time. Contact Lou Ann Flatgard at 601-940-3012 or louflatgard@gmail.com for more information or to join our team.
URL:https://fpcjackson.org/event/gateway-rescue-mission-fpc-team/2026-05-13/
LOCATION:Gateway Rescue Mission\, 328 S Gallatin St.\, Jackson\, 39203\, United States
CATEGORIES:Outreach
END:VEVENT
BEGIN:VEVENT
DTSTART;TZID=America/Chicago:20260518T150000
DTEND;TZID=America/Chicago:20260518T163000
DTSTAMP:20260425T110138
CREATED:20250521T161143Z
LAST-MODIFIED:20251218T222804Z
UID:10009235-1779116400-1779121800@fpcjackson.org
SUMMARY:Oasis at Mission First FPC Tutoring Team
DESCRIPTION:Meets Mondays during the school year \n3-4:30 p.m. at Peyton’s House (417 West Ash Street) \nFPC Team Leader: Ashley Meena – 601-573-3389 – ashleymeena@aol.com \nAssist in the weekly elementary-aged\, after-school tutoring program. Your love matters! Contact Ashley to be added to the team communications.
URL:https://fpcjackson.org/event/oasis-at-mission-first-fpc-tutoring-team/2026-05-18/
LOCATION:Peyton’s House\, 417 West Ash Street\, Jackson\, 39203\, United States
CATEGORIES:Outreach
END:VEVENT
BEGIN:VEVENT
DTSTART;TZID=America/Chicago:20260519T103000
DTEND;TZID=America/Chicago:20260519T113000
DTSTAMP:20260425T110138
CREATED:20250926T191558Z
LAST-MODIFIED:20251218T221813Z
UID:10018700-1779186600-1779190200@fpcjackson.org
SUMMARY:Center for Pregnancy Choices - Gift Wrapping
DESCRIPTION:Join us at the Center for Pregnancy Choices each Tuesday 10:30-11:30 AM as we wrap diaper gifts for new moms. Contact Mary Ellison with questions or to join our team at 601-942-3507 or honeysuckle2g@gmail.com.
URL:https://fpcjackson.org/event/center-for-pregnancy-gift-wrapping/2026-05-19/
LOCATION:Center for Pregnancy Choices\, 2685 Crane Ridge Dr Suite B\, Jackson\, 39216\, United States
CATEGORIES:Mission and Outreach,Outreach
ATTACH;FMTTYPE=image/png:https://fpcjackson.org/wp-content/uploads/2025/03/CPC.png
END:VEVENT
BEGIN:VEVENT
DTSTART;TZID=America/Chicago:20260519T184500
DTEND;TZID=America/Chicago:20260519T200000
DTSTAMP:20260425T110138
CREATED:20250521T163601Z
LAST-MODIFIED:20260306T160327Z
UID:10009791-1779216300-1779220800@fpcjackson.org
SUMMARY:FPC Internationals Class
DESCRIPTION:Meets Tuesdays at 6:45-8 p.m. on the FPC Campus – Patterson Hall or Via Zoom \nFPC Team Leader: Steve Edwards 601-668-7422 – alice5176@aol.com \nWithout leaving Jackson (or your home if you’d like to Zoom) you can answer God’s calling to love our international neighbors by helping them with their English. By the power of Holy Spirit we are praying that as has happened in past years\, many will become a part of God’s family for eternity. Contact Steve to learn more\, or just show up on Tuesday evenings in Patterson Hall.
URL:https://fpcjackson.org/event/fpc-internationals-class/2026-05-19/
LOCATION:Patterson Hall\, 1390 North State Street\, Jackson\, MS\, 39202\, United States
CATEGORIES:Outreach
ATTACH;FMTTYPE=image/png:https://fpcjackson.org/wp-content/uploads/2025/05/Internationals-Class-scaled.png
END:VEVENT
BEGIN:VEVENT
DTSTART;TZID=America/Chicago:20260520T111500
DTEND;TZID=America/Chicago:20260520T123000
DTSTAMP:20260425T110138
CREATED:20250521T163219Z
LAST-MODIFIED:20251218T222133Z
UID:10009531-1779275700-1779280200@fpcjackson.org
SUMMARY:Gateway Rescue Mission FPC Team
DESCRIPTION:Meets Wednesdays 11:15 a.m. – 12:30 p.m. at Gateway (328 South Gallatin Street) \nFPC Team Leader: Cheryl Crawford 601-918-4953 – clcrawfor@aol.com \nVolunteers serve lunch to homeless and program men at Gateway Rescue Mission. Most on this team serve once a month\, though you can go visit with participants weekly during this time. Contact Lou Ann Flatgard at 601-940-3012 or louflatgard@gmail.com for more information or to join our team.
URL:https://fpcjackson.org/event/gateway-rescue-mission-fpc-team/2026-05-20/
LOCATION:Gateway Rescue Mission\, 328 S Gallatin St.\, Jackson\, 39203\, United States
CATEGORIES:Outreach
END:VEVENT
BEGIN:VEVENT
DTSTART;TZID=America/Chicago:20260525T150000
DTEND;TZID=America/Chicago:20260525T163000
DTSTAMP:20260425T110138
CREATED:20250521T161143Z
LAST-MODIFIED:20251218T222804Z
UID:10009236-1779721200-1779726600@fpcjackson.org
SUMMARY:Oasis at Mission First FPC Tutoring Team
DESCRIPTION:Meets Mondays during the school year \n3-4:30 p.m. at Peyton’s House (417 West Ash Street) \nFPC Team Leader: Ashley Meena – 601-573-3389 – ashleymeena@aol.com \nAssist in the weekly elementary-aged\, after-school tutoring program. Your love matters! Contact Ashley to be added to the team communications.
URL:https://fpcjackson.org/event/oasis-at-mission-first-fpc-tutoring-team/2026-05-25/
LOCATION:Peyton’s House\, 417 West Ash Street\, Jackson\, 39203\, United States
CATEGORIES:Outreach
END:VEVENT
BEGIN:VEVENT
DTSTART;TZID=America/Chicago:20260526T090000
DTEND;TZID=America/Chicago:20260526T110000
DTSTAMP:20260425T110138
CREATED:20250926T191029Z
LAST-MODIFIED:20251218T221526Z
UID:10018614-1779786000-1779793200@fpcjackson.org
SUMMARY:We Will Go - Grocery Delivery
DESCRIPTION:Join the FPC team at We Will Go\, praying with and giving groceries to neighbors from 9-11 a.m. Contact Rae Ann Lawrence at 601-278-4935 or lawrence.raeann@gmail.com for more information & to join us.
URL:https://fpcjackson.org/event/we-will-go-grocery-delivery/2026-05-26/
LOCATION:We Will Go\, 806 N Farish St\, Jackson\, MS\, 39202\, United States
CATEGORIES:Mission and Outreach,Outreach
ATTACH;FMTTYPE=image/png:https://fpcjackson.org/wp-content/uploads/2025/09/WWGLogoColor.png
END:VEVENT
BEGIN:VEVENT
DTSTART;TZID=America/Chicago:20260526T103000
DTEND;TZID=America/Chicago:20260526T113000
DTSTAMP:20260425T110138
CREATED:20250926T191558Z
LAST-MODIFIED:20251218T221813Z
UID:10018701-1779791400-1779795000@fpcjackson.org
SUMMARY:Center for Pregnancy Choices - Gift Wrapping
DESCRIPTION:Join us at the Center for Pregnancy Choices each Tuesday 10:30-11:30 AM as we wrap diaper gifts for new moms. Contact Mary Ellison with questions or to join our team at 601-942-3507 or honeysuckle2g@gmail.com.
URL:https://fpcjackson.org/event/center-for-pregnancy-gift-wrapping/2026-05-26/
LOCATION:Center for Pregnancy Choices\, 2685 Crane Ridge Dr Suite B\, Jackson\, 39216\, United States
CATEGORIES:Mission and Outreach,Outreach
ATTACH;FMTTYPE=image/png:https://fpcjackson.org/wp-content/uploads/2025/03/CPC.png
END:VEVENT
BEGIN:VEVENT
DTSTART;TZID=America/Chicago:20260526T184500
DTEND;TZID=America/Chicago:20260526T200000
DTSTAMP:20260425T110138
CREATED:20250521T163601Z
LAST-MODIFIED:20260306T160327Z
UID:10009792-1779821100-1779825600@fpcjackson.org
SUMMARY:FPC Internationals Class
DESCRIPTION:Meets Tuesdays at 6:45-8 p.m. on the FPC Campus – Patterson Hall or Via Zoom \nFPC Team Leader: Steve Edwards 601-668-7422 – alice5176@aol.com \nWithout leaving Jackson (or your home if you’d like to Zoom) you can answer God’s calling to love our international neighbors by helping them with their English. By the power of Holy Spirit we are praying that as has happened in past years\, many will become a part of God’s family for eternity. Contact Steve to learn more\, or just show up on Tuesday evenings in Patterson Hall.
URL:https://fpcjackson.org/event/fpc-internationals-class/2026-05-26/
LOCATION:Patterson Hall\, 1390 North State Street\, Jackson\, MS\, 39202\, United States
CATEGORIES:Outreach
ATTACH;FMTTYPE=image/png:https://fpcjackson.org/wp-content/uploads/2025/05/Internationals-Class-scaled.png
END:VEVENT
BEGIN:VEVENT
DTSTART;TZID=America/Chicago:20260527T090000
DTEND;TZID=America/Chicago:20260527T103000
DTSTAMP:20260425T110138
CREATED:20250711T212949Z
LAST-MODIFIED:20251218T222050Z
UID:10018493-1779872400-1779877800@fpcjackson.org
SUMMARY:We Will Go Women's Bible Study
DESCRIPTION:You’re invited to be a part of a new Bible & Prayer Time for Women! FPC is partnering with We Will Go for this twice-monthly get-together beginning September 3. This opportunity is for neighbors who want to love and grow with one another in the Lord on the first and third Wednesdays each month at 9-10:30 AM. We will meet together at We Will Go for a time of prayer\, Bible reading\, and fellowship. Join us to be a part of this new group! If you have questions\, please contact Carol Anne Miconi at\n601-506-5033 or carolannem@fpcjackson.org. \n“Speaking the truth in love\, we are to grow up in every way into Him who is the Head\, into Christ\, from whom the whole Body\, joined and held together by every joint with which it is equipped\, when each part is working properly\, makes the body grow so that it builds itself up in love.” Ephesians 4:15-16
URL:https://fpcjackson.org/event/we-will-go-womens-bible-study/2026-05-27/
LOCATION:We Will Go\, 806 N Farish St\, Jackson\, MS\, 39202\, United States
CATEGORIES:Mission and Outreach,Outreach,Women
ATTACH;FMTTYPE=image/png:https://fpcjackson.org/wp-content/uploads/2025/07/Women-Bible-and-Prayer.png
END:VEVENT
BEGIN:VEVENT
DTSTART;TZID=America/Chicago:20260527T111500
DTEND;TZID=America/Chicago:20260527T123000
DTSTAMP:20260425T110138
CREATED:20250521T163219Z
LAST-MODIFIED:20251218T222133Z
UID:10009532-1779880500-1779885000@fpcjackson.org
SUMMARY:Gateway Rescue Mission FPC Team
DESCRIPTION:Meets Wednesdays 11:15 a.m. – 12:30 p.m. at Gateway (328 South Gallatin Street) \nFPC Team Leader: Cheryl Crawford 601-918-4953 – clcrawfor@aol.com \nVolunteers serve lunch to homeless and program men at Gateway Rescue Mission. Most on this team serve once a month\, though you can go visit with participants weekly during this time. Contact Lou Ann Flatgard at 601-940-3012 or louflatgard@gmail.com for more information or to join our team.
URL:https://fpcjackson.org/event/gateway-rescue-mission-fpc-team/2026-05-27/
LOCATION:Gateway Rescue Mission\, 328 S Gallatin St.\, Jackson\, 39203\, United States
CATEGORIES:Outreach
END:VEVENT
END:VCALENDAR