BEGIN:VCALENDAR
VERSION:2.0
PRODID:-//First Presbyterian Church - ECPv6.15.20//NONSGML v1.0//EN
CALSCALE:GREGORIAN
METHOD:PUBLISH
X-ORIGINAL-URL:https://fpcjackson.org
X-WR-CALDESC:Events for First Presbyterian Church
REFRESH-INTERVAL;VALUE=DURATION:PT1H
X-Robots-Tag:noindex
X-PUBLISHED-TTL:PT1H
BEGIN:VTIMEZONE
TZID:America/Chicago
BEGIN:DAYLIGHT
TZOFFSETFROM:-0600
TZOFFSETTO:-0500
TZNAME:CDT
DTSTART:20240310T080000
END:DAYLIGHT
BEGIN:STANDARD
TZOFFSETFROM:-0500
TZOFFSETTO:-0600
TZNAME:CST
DTSTART:20241103T070000
END:STANDARD
BEGIN:DAYLIGHT
TZOFFSETFROM:-0600
TZOFFSETTO:-0500
TZNAME:CDT
DTSTART:20250309T080000
END:DAYLIGHT
BEGIN:STANDARD
TZOFFSETFROM:-0500
TZOFFSETTO:-0600
TZNAME:CST
DTSTART:20251102T070000
END:STANDARD
BEGIN:DAYLIGHT
TZOFFSETFROM:-0600
TZOFFSETTO:-0500
TZNAME:CDT
DTSTART:20260308T080000
END:DAYLIGHT
BEGIN:STANDARD
TZOFFSETFROM:-0500
TZOFFSETTO:-0600
TZNAME:CST
DTSTART:20261101T070000
END:STANDARD
END:VTIMEZONE
BEGIN:VEVENT
DTSTART;TZID=America/Chicago:20251201T150000
DTEND;TZID=America/Chicago:20251201T163000
DTSTAMP:20260425T173254
CREATED:20250521T161143Z
LAST-MODIFIED:20251218T222804Z
UID:10009211-1764601200-1764606600@fpcjackson.org
SUMMARY:Oasis at Mission First FPC Tutoring Team
DESCRIPTION:Meets Mondays during the school year \n3-4:30 p.m. at Peyton’s House (417 West Ash Street) \nFPC Team Leader: Ashley Meena – 601-573-3389 – ashleymeena@aol.com \nAssist in the weekly elementary-aged\, after-school tutoring program. Your love matters! Contact Ashley to be added to the team communications.
URL:https://fpcjackson.org/event/oasis-at-mission-first-fpc-tutoring-team/2025-12-01/
LOCATION:Peyton’s House\, 417 West Ash Street\, Jackson\, 39203\, United States
CATEGORIES:Outreach
END:VEVENT
BEGIN:VEVENT
DTSTART;TZID=America/Chicago:20251202T103000
DTEND;TZID=America/Chicago:20251202T113000
DTSTAMP:20260425T173254
CREATED:20250926T191558Z
LAST-MODIFIED:20251218T221813Z
UID:10018676-1764671400-1764675000@fpcjackson.org
SUMMARY:Center for Pregnancy Choices - Gift Wrapping
DESCRIPTION:Join us at the Center for Pregnancy Choices each Tuesday 10:30-11:30 AM as we wrap diaper gifts for new moms. Contact Mary Ellison with questions or to join our team at 601-942-3507 or honeysuckle2g@gmail.com.
URL:https://fpcjackson.org/event/center-for-pregnancy-gift-wrapping/2025-12-02/
LOCATION:Center for Pregnancy Choices\, 2685 Crane Ridge Dr Suite B\, Jackson\, 39216\, United States
CATEGORIES:Mission and Outreach,Outreach
ATTACH;FMTTYPE=image/png:https://fpcjackson.org/wp-content/uploads/2025/03/CPC.png
END:VEVENT
BEGIN:VEVENT
DTSTART;TZID=America/Chicago:20251202T184500
DTEND;TZID=America/Chicago:20251202T200000
DTSTAMP:20260425T173254
CREATED:20250521T163601Z
LAST-MODIFIED:20260306T160327Z
UID:10009767-1764701100-1764705600@fpcjackson.org
SUMMARY:FPC Internationals Class
DESCRIPTION:Meets Tuesdays at 6:45-8 p.m. on the FPC Campus – Patterson Hall or Via Zoom \nFPC Team Leader: Steve Edwards 601-668-7422 – alice5176@aol.com \nWithout leaving Jackson (or your home if you’d like to Zoom) you can answer God’s calling to love our international neighbors by helping them with their English. By the power of Holy Spirit we are praying that as has happened in past years\, many will become a part of God’s family for eternity. Contact Steve to learn more\, or just show up on Tuesday evenings in Patterson Hall.
URL:https://fpcjackson.org/event/fpc-internationals-class/2025-12-02/
LOCATION:Patterson Hall\, 1390 North State Street\, Jackson\, MS\, 39202\, United States
CATEGORIES:Outreach
ATTACH;FMTTYPE=image/png:https://fpcjackson.org/wp-content/uploads/2025/05/Internationals-Class-scaled.png
END:VEVENT
BEGIN:VEVENT
DTSTART;TZID=America/Chicago:20251203T111500
DTEND;TZID=America/Chicago:20251203T123000
DTSTAMP:20260425T173254
CREATED:20250521T163219Z
LAST-MODIFIED:20251218T222133Z
UID:10009507-1764760500-1764765000@fpcjackson.org
SUMMARY:Gateway Rescue Mission FPC Team
DESCRIPTION:Meets Wednesdays 11:15 a.m. – 12:30 p.m. at Gateway (328 South Gallatin Street) \nFPC Team Leader: Cheryl Crawford 601-918-4953 – clcrawfor@aol.com \nVolunteers serve lunch to homeless and program men at Gateway Rescue Mission. Most on this team serve once a month\, though you can go visit with participants weekly during this time. Contact Lou Ann Flatgard at 601-940-3012 or louflatgard@gmail.com for more information or to join our team.
URL:https://fpcjackson.org/event/gateway-rescue-mission-fpc-team/2025-12-03/
LOCATION:Gateway Rescue Mission\, 328 S Gallatin St.\, Jackson\, 39203\, United States
CATEGORIES:Outreach
END:VEVENT
BEGIN:VEVENT
DTSTART;VALUE=DATE:20251205
DTEND;VALUE=DATE:20251207
DTSTAMP:20260425T173254
CREATED:20251114T161440Z
LAST-MODIFIED:20251114T161441Z
UID:10018980-1764892800-1765065599@fpcjackson.org
SUMMARY:Belhaven Singing Christmas Tree - Volunteers Needed
DESCRIPTION:Belhaven Singing Christmas Tree Volunteers Needed! December 5 & 6 6:30-8 p.m.\nFPC will once again be part of Belhaven University’s Singing Christmas Tree which is the oldest singing Christmas tree tradition in the US. We would love for you to join us either as a spectator or a volunteer. We will provide free hot chocolate for those attending and a card with the program on one side and our FPC December events on the other. If you are willing to volunteer to help pass out the cards from 6:30-8 p.m. on either December 5 or 6\, please contact Tracy Ford at 601-454-6200.
URL:https://fpcjackson.org/event/belhaven-singing-christmas-tree-volunteers-needed/
LOCATION:Off-Site
CATEGORIES:Outreach
ATTACH;FMTTYPE=image/png:https://fpcjackson.org/wp-content/uploads/2025/11/Belhaven-Singing-Christmas-Tree.png
END:VEVENT
BEGIN:VEVENT
DTSTART;TZID=America/Chicago:20251208T150000
DTEND;TZID=America/Chicago:20251208T163000
DTSTAMP:20260425T173254
CREATED:20250521T161143Z
LAST-MODIFIED:20251218T222804Z
UID:10009212-1765206000-1765211400@fpcjackson.org
SUMMARY:Oasis at Mission First FPC Tutoring Team
DESCRIPTION:Meets Mondays during the school year \n3-4:30 p.m. at Peyton’s House (417 West Ash Street) \nFPC Team Leader: Ashley Meena – 601-573-3389 – ashleymeena@aol.com \nAssist in the weekly elementary-aged\, after-school tutoring program. Your love matters! Contact Ashley to be added to the team communications.
URL:https://fpcjackson.org/event/oasis-at-mission-first-fpc-tutoring-team/2025-12-08/
LOCATION:Peyton’s House\, 417 West Ash Street\, Jackson\, 39203\, United States
CATEGORIES:Outreach
END:VEVENT
BEGIN:VEVENT
DTSTART;TZID=America/Chicago:20251209T103000
DTEND;TZID=America/Chicago:20251209T113000
DTSTAMP:20260425T173254
CREATED:20250926T191558Z
LAST-MODIFIED:20251218T221813Z
UID:10018677-1765276200-1765279800@fpcjackson.org
SUMMARY:Center for Pregnancy Choices - Gift Wrapping
DESCRIPTION:Join us at the Center for Pregnancy Choices each Tuesday 10:30-11:30 AM as we wrap diaper gifts for new moms. Contact Mary Ellison with questions or to join our team at 601-942-3507 or honeysuckle2g@gmail.com.
URL:https://fpcjackson.org/event/center-for-pregnancy-gift-wrapping/2025-12-09/
LOCATION:Center for Pregnancy Choices\, 2685 Crane Ridge Dr Suite B\, Jackson\, 39216\, United States
CATEGORIES:Mission and Outreach,Outreach
ATTACH;FMTTYPE=image/png:https://fpcjackson.org/wp-content/uploads/2025/03/CPC.png
END:VEVENT
BEGIN:VEVENT
DTSTART;TZID=America/Chicago:20251209T184500
DTEND;TZID=America/Chicago:20251209T200000
DTSTAMP:20260425T173254
CREATED:20250521T163601Z
LAST-MODIFIED:20260306T160327Z
UID:10009768-1765305900-1765310400@fpcjackson.org
SUMMARY:FPC Internationals Class
DESCRIPTION:Meets Tuesdays at 6:45-8 p.m. on the FPC Campus – Patterson Hall or Via Zoom \nFPC Team Leader: Steve Edwards 601-668-7422 – alice5176@aol.com \nWithout leaving Jackson (or your home if you’d like to Zoom) you can answer God’s calling to love our international neighbors by helping them with their English. By the power of Holy Spirit we are praying that as has happened in past years\, many will become a part of God’s family for eternity. Contact Steve to learn more\, or just show up on Tuesday evenings in Patterson Hall.
URL:https://fpcjackson.org/event/fpc-internationals-class/2025-12-09/
LOCATION:Patterson Hall\, 1390 North State Street\, Jackson\, MS\, 39202\, United States
CATEGORIES:Outreach
ATTACH;FMTTYPE=image/png:https://fpcjackson.org/wp-content/uploads/2025/05/Internationals-Class-scaled.png
END:VEVENT
BEGIN:VEVENT
DTSTART;TZID=America/Chicago:20251210T090000
DTEND;TZID=America/Chicago:20251210T103000
DTSTAMP:20260425T173254
CREATED:20250711T212949Z
LAST-MODIFIED:20251218T222050Z
UID:10018481-1765357200-1765362600@fpcjackson.org
SUMMARY:We Will Go Women's Bible Study
DESCRIPTION:You’re invited to be a part of a new Bible & Prayer Time for Women! FPC is partnering with We Will Go for this twice-monthly get-together beginning September 3. This opportunity is for neighbors who want to love and grow with one another in the Lord on the first and third Wednesdays each month at 9-10:30 AM. We will meet together at We Will Go for a time of prayer\, Bible reading\, and fellowship. Join us to be a part of this new group! If you have questions\, please contact Carol Anne Miconi at\n601-506-5033 or carolannem@fpcjackson.org. \n“Speaking the truth in love\, we are to grow up in every way into Him who is the Head\, into Christ\, from whom the whole Body\, joined and held together by every joint with which it is equipped\, when each part is working properly\, makes the body grow so that it builds itself up in love.” Ephesians 4:15-16
URL:https://fpcjackson.org/event/we-will-go-womens-bible-study/2025-12-10/
LOCATION:We Will Go\, 806 N Farish St\, Jackson\, MS\, 39202\, United States
CATEGORIES:Mission and Outreach,Outreach,Women
ATTACH;FMTTYPE=image/png:https://fpcjackson.org/wp-content/uploads/2025/07/Women-Bible-and-Prayer.png
END:VEVENT
BEGIN:VEVENT
DTSTART;TZID=America/Chicago:20251210T111500
DTEND;TZID=America/Chicago:20251210T123000
DTSTAMP:20260425T173254
CREATED:20250521T163219Z
LAST-MODIFIED:20251218T222133Z
UID:10009508-1765365300-1765369800@fpcjackson.org
SUMMARY:Gateway Rescue Mission FPC Team
DESCRIPTION:Meets Wednesdays 11:15 a.m. – 12:30 p.m. at Gateway (328 South Gallatin Street) \nFPC Team Leader: Cheryl Crawford 601-918-4953 – clcrawfor@aol.com \nVolunteers serve lunch to homeless and program men at Gateway Rescue Mission. Most on this team serve once a month\, though you can go visit with participants weekly during this time. Contact Lou Ann Flatgard at 601-940-3012 or louflatgard@gmail.com for more information or to join our team.
URL:https://fpcjackson.org/event/gateway-rescue-mission-fpc-team/2025-12-10/
LOCATION:Gateway Rescue Mission\, 328 S Gallatin St.\, Jackson\, 39203\, United States
CATEGORIES:Outreach
END:VEVENT
BEGIN:VEVENT
DTSTART;VALUE=DATE:20251212
DTEND;VALUE=DATE:20251215
DTSTAMP:20260425T173254
CREATED:20251114T162227Z
LAST-MODIFIED:20251114T162228Z
UID:10018984-1765497600-1765756799@fpcjackson.org
SUMMARY:Calling All Bakers for Christmas at Gateway
DESCRIPTION:FPC will celebrate Christmas and serve lunch to the men of Gateway Rescue Mission on Monday\, December 15\, at 10:30 a.m. FPC Youth are providing supplies for gift bags\, and our FPC children are creating Christmas cards. Here’s how you can participate: We’re asking for donations of homemade goodies\, pick-up desserts\, or savory snacks to serve that day. Please drop off on Friday\, December 12\, from 8 a.m.-3 p.m. OR on Sunday\, December 14\, from 8 a.m.-6 p.m. at the table on the 1st floor of the Study Center. Questions? Call Lou Ann Flatgard at 601-940-3012.
URL:https://fpcjackson.org/event/calling-all-bakers-for-christmas-at-gateway/
LOCATION:FPC Jackson Campus\, 1390 North State Street\, Jackson\, MS\, 39202\, United States
CATEGORIES:Outreach,Women
ATTACH;FMTTYPE=image/png:https://fpcjackson.org/wp-content/uploads/2025/11/Gateway-Bakers-2025.png
END:VEVENT
BEGIN:VEVENT
DTSTART;TZID=America/Chicago:20251212T173000
DTEND;TZID=America/Chicago:20251212T193000
DTSTAMP:20260425T173254
CREATED:20251114T184351Z
LAST-MODIFIED:20251114T184352Z
UID:10018991-1765560600-1765567800@fpcjackson.org
SUMMARY:Carols at Belhaven Town Center
DESCRIPTION:As part of our outreach to the Belhaven neighborhood\, we’re hosting a Christmas gathering for families and friends at the Belhaven Town Center. \nYou’re invited to a festive evening in Belhaven! Join us on Friday\, December 12\, for a night filled with music\, crafts\, treats\, and Christmas cheer for the whole family. \n5:30 p.m. – Live Christmas Music and Crafts\nEnjoy the sounds of the season while you make simple Christmas crafts. We’ll have hot chocolate\, cookies\, and candy canes for everyone\, along with free bookmarks and Christmas cards to take home. \n6 p.m. – Children’s Story Time\nGather around as we share a classic Christmas story that’s sure to delight kids and grown-ups alike. \n6:15 p.m. – Caroling\nWe’ll end the evening with a neighborhood carol sing\, lifting our voices together in the joy of the season. \nBring your family\, invite your neighbors\, and come celebrate the beauty of Christmas right here in Belhaven!
URL:https://fpcjackson.org/event/carols-at-belhaven-town-center/
LOCATION:Belhaven Town Center\, 807 Manship St\, Jackson\, 39202\, United States
CATEGORIES:Mission and Outreach,Outreach
ATTACH;FMTTYPE=image/png:https://fpcjackson.org/wp-content/uploads/2025/11/Carols-at-the-Belhaven-Town-Center-2025-scaled.png
END:VEVENT
BEGIN:VEVENT
DTSTART;TZID=America/Chicago:20251215T150000
DTEND;TZID=America/Chicago:20251215T163000
DTSTAMP:20260425T173254
CREATED:20250521T161143Z
LAST-MODIFIED:20251218T222804Z
UID:10009213-1765810800-1765816200@fpcjackson.org
SUMMARY:Oasis at Mission First FPC Tutoring Team
DESCRIPTION:Meets Mondays during the school year \n3-4:30 p.m. at Peyton’s House (417 West Ash Street) \nFPC Team Leader: Ashley Meena – 601-573-3389 – ashleymeena@aol.com \nAssist in the weekly elementary-aged\, after-school tutoring program. Your love matters! Contact Ashley to be added to the team communications.
URL:https://fpcjackson.org/event/oasis-at-mission-first-fpc-tutoring-team/2025-12-15/
LOCATION:Peyton’s House\, 417 West Ash Street\, Jackson\, 39203\, United States
CATEGORIES:Outreach
END:VEVENT
BEGIN:VEVENT
DTSTART;TZID=America/Chicago:20251215T161500
DTEND;TZID=America/Chicago:20251215T180000
DTSTAMP:20260425T173254
CREATED:20251114T162441Z
LAST-MODIFIED:20251114T162441Z
UID:10018985-1765815300-1765821600@fpcjackson.org
SUMMARY:Christmas Chapel at Gateway
DESCRIPTION:On Monday\, December 15\, our church will lead the chapel service for the men in the Gateway “New Life” addiction treatment program as well as those staying in the overnight shelter. Come early to serve dinner at 4:15 p.m. or join us for the service at 5 p.m. All are invited! We’ll sing Christmas carols together\, hear a brief gospel message from David Strain\, and visit with the men to offer encouragement and show them the love of Christ. Questions? Call Lou Ann Flatgard at 601-940-3012.
URL:https://fpcjackson.org/event/christmas-chapel-at-gateway/
LOCATION:Gateway Rescue Mission\, 328 S Gallatin St.\, Jackson\, 39203\, United States
CATEGORIES:Outreach
ATTACH;FMTTYPE=image/png:https://fpcjackson.org/wp-content/uploads/2025/11/Gateway-Christmas-Chapel-2025.png
END:VEVENT
BEGIN:VEVENT
DTSTART;TZID=America/Chicago:20251216T103000
DTEND;TZID=America/Chicago:20251216T113000
DTSTAMP:20260425T173254
CREATED:20250926T191558Z
LAST-MODIFIED:20251218T221813Z
UID:10018678-1765881000-1765884600@fpcjackson.org
SUMMARY:Center for Pregnancy Choices - Gift Wrapping
DESCRIPTION:Join us at the Center for Pregnancy Choices each Tuesday 10:30-11:30 AM as we wrap diaper gifts for new moms. Contact Mary Ellison with questions or to join our team at 601-942-3507 or honeysuckle2g@gmail.com.
URL:https://fpcjackson.org/event/center-for-pregnancy-gift-wrapping/2025-12-16/
LOCATION:Center for Pregnancy Choices\, 2685 Crane Ridge Dr Suite B\, Jackson\, 39216\, United States
CATEGORIES:Mission and Outreach,Outreach
ATTACH;FMTTYPE=image/png:https://fpcjackson.org/wp-content/uploads/2025/03/CPC.png
END:VEVENT
BEGIN:VEVENT
DTSTART;TZID=America/Chicago:20251216T184500
DTEND;TZID=America/Chicago:20251216T200000
DTSTAMP:20260425T173254
CREATED:20250521T163601Z
LAST-MODIFIED:20260306T160327Z
UID:10009769-1765910700-1765915200@fpcjackson.org
SUMMARY:FPC Internationals Class
DESCRIPTION:Meets Tuesdays at 6:45-8 p.m. on the FPC Campus – Patterson Hall or Via Zoom \nFPC Team Leader: Steve Edwards 601-668-7422 – alice5176@aol.com \nWithout leaving Jackson (or your home if you’d like to Zoom) you can answer God’s calling to love our international neighbors by helping them with their English. By the power of Holy Spirit we are praying that as has happened in past years\, many will become a part of God’s family for eternity. Contact Steve to learn more\, or just show up on Tuesday evenings in Patterson Hall.
URL:https://fpcjackson.org/event/fpc-internationals-class/2025-12-16/
LOCATION:Patterson Hall\, 1390 North State Street\, Jackson\, MS\, 39202\, United States
CATEGORIES:Outreach
ATTACH;FMTTYPE=image/png:https://fpcjackson.org/wp-content/uploads/2025/05/Internationals-Class-scaled.png
END:VEVENT
BEGIN:VEVENT
DTSTART;TZID=America/Chicago:20251217T111500
DTEND;TZID=America/Chicago:20251217T123000
DTSTAMP:20260425T173254
CREATED:20250521T163219Z
LAST-MODIFIED:20251218T222133Z
UID:10009509-1765970100-1765974600@fpcjackson.org
SUMMARY:Gateway Rescue Mission FPC Team
DESCRIPTION:Meets Wednesdays 11:15 a.m. – 12:30 p.m. at Gateway (328 South Gallatin Street) \nFPC Team Leader: Cheryl Crawford 601-918-4953 – clcrawfor@aol.com \nVolunteers serve lunch to homeless and program men at Gateway Rescue Mission. Most on this team serve once a month\, though you can go visit with participants weekly during this time. Contact Lou Ann Flatgard at 601-940-3012 or louflatgard@gmail.com for more information or to join our team.
URL:https://fpcjackson.org/event/gateway-rescue-mission-fpc-team/2025-12-17/
LOCATION:Gateway Rescue Mission\, 328 S Gallatin St.\, Jackson\, 39203\, United States
CATEGORIES:Outreach
END:VEVENT
BEGIN:VEVENT
DTSTART;TZID=America/Chicago:20251221T160000
DTEND;TZID=America/Chicago:20251221T190000
DTSTAMP:20260425T173254
CREATED:20251114T162623Z
LAST-MODIFIED:20251119T162846Z
UID:10018986-1766332800-1766343600@fpcjackson.org
SUMMARY:Music of Christmas
DESCRIPTION:You are warmly invited to join us for The Music of Christmas\, our beloved annual service of lessons and carols\, on Sunday\, December 21\, at 4 and 6 p.m. \nThis cherished tradition celebrates the story of our Savior’s birth through Scripture and song\, led by the First Presbyterian Church Choir and accompanied by a symphony orchestra. We are also delighted to welcome Hillary Watkins\, soprano\, of the Lyric Opera of Chicago\, as our special guest soloist. \nWe encourage you to invite your friends and neighbors to share in this evening of worship and celebration. A reception to welcome our guests will be available in the Welcome Center after each service. A nursery will be provided for children three years old and younger. \nLet us worship the Lord with glad hearts\, rejoicing in the wonder of His redeeming love made known in Christ.
URL:https://fpcjackson.org/event/music-of-christmas-4/
LOCATION:FPC Jackson Campus\, 1390 North State Street\, Jackson\, MS\, 39202\, United States
CATEGORIES:Christmas,Outreach,Worship
ATTACH;FMTTYPE=image/png:https://fpcjackson.org/wp-content/uploads/2025/11/Music-of-Christmas-2025-scaled.png
END:VEVENT
END:VCALENDAR