BEGIN:VCALENDAR
VERSION:2.0
PRODID:-//First Presbyterian Church - ECPv6.15.20//NONSGML v1.0//EN
CALSCALE:GREGORIAN
METHOD:PUBLISH
X-ORIGINAL-URL:https://fpcjackson.org
X-WR-CALDESC:Events for First Presbyterian Church
REFRESH-INTERVAL;VALUE=DURATION:PT1H
X-Robots-Tag:noindex
X-PUBLISHED-TTL:PT1H
BEGIN:VTIMEZONE
TZID:America/Chicago
BEGIN:DAYLIGHT
TZOFFSETFROM:-0600
TZOFFSETTO:-0500
TZNAME:CDT
DTSTART:20240310T080000
END:DAYLIGHT
BEGIN:STANDARD
TZOFFSETFROM:-0500
TZOFFSETTO:-0600
TZNAME:CST
DTSTART:20241103T070000
END:STANDARD
BEGIN:DAYLIGHT
TZOFFSETFROM:-0600
TZOFFSETTO:-0500
TZNAME:CDT
DTSTART:20250309T080000
END:DAYLIGHT
BEGIN:STANDARD
TZOFFSETFROM:-0500
TZOFFSETTO:-0600
TZNAME:CST
DTSTART:20251102T070000
END:STANDARD
BEGIN:DAYLIGHT
TZOFFSETFROM:-0600
TZOFFSETTO:-0500
TZNAME:CDT
DTSTART:20260308T080000
END:DAYLIGHT
BEGIN:STANDARD
TZOFFSETFROM:-0500
TZOFFSETTO:-0600
TZNAME:CST
DTSTART:20261101T070000
END:STANDARD
END:VTIMEZONE
BEGIN:VEVENT
DTSTART;TZID=America/Chicago:20251029T170000
DTEND;TZID=America/Chicago:20251029T180000
DTSTAMP:20260425T214430
CREATED:20241204T214004Z
LAST-MODIFIED:20260306T160516Z
UID:10001270-1761757200-1761760800@fpcjackson.org
SUMMARY:Midweek Dinner
DESCRIPTION:Adults $8\nChildren $4\nFamily Max $25\nCollege Free – Midweek Dinner is free for any college student involved in one of our Midweek programs. Any other college student can eat for $4.
URL:https://fpcjackson.org/event/midweek-dinner-2/2025-10-29/
LOCATION:Miller Hall\, 1390 North State Street\, Jackson\, MS\, 39202\, United States
CATEGORIES:Midweek
END:VEVENT
BEGIN:VEVENT
DTSTART;TZID=America/Chicago:20251022T180000
DTEND;TZID=America/Chicago:20251022T190000
DTSTAMP:20260425T214430
CREATED:20241204T213629Z
LAST-MODIFIED:20260306T160529Z
UID:10002049-1761156000-1761159600@fpcjackson.org
SUMMARY:Midweek Adult Programs
DESCRIPTION:
URL:https://fpcjackson.org/event/midweek-adult-programs-2/2025-10-22/
LOCATION:Various\, 1390 North State Street\, Jackson\, MS\, 39202\, United States
CATEGORIES:Bible Study,Class,Discipleship,Midweek,Teaching
END:VEVENT
BEGIN:VEVENT
DTSTART;TZID=America/Chicago:20251022T170000
DTEND;TZID=America/Chicago:20251022T180000
DTSTAMP:20260425T214430
CREATED:20241204T214004Z
LAST-MODIFIED:20260306T160516Z
UID:10001269-1761152400-1761156000@fpcjackson.org
SUMMARY:Midweek Dinner
DESCRIPTION:Adults $8\nChildren $4\nFamily Max $25\nCollege Free – Midweek Dinner is free for any college student involved in one of our Midweek programs. Any other college student can eat for $4.
URL:https://fpcjackson.org/event/midweek-dinner-2/2025-10-22/
LOCATION:Miller Hall\, 1390 North State Street\, Jackson\, MS\, 39202\, United States
CATEGORIES:Midweek
END:VEVENT
BEGIN:VEVENT
DTSTART;TZID=America/Chicago:20251015T180000
DTEND;TZID=America/Chicago:20251015T190000
DTSTAMP:20260425T214430
CREATED:20250917T152243Z
LAST-MODIFIED:20250923T165739Z
UID:10018465-1760551200-1760554800@fpcjackson.org
SUMMARY:John Reed Miller Lecture
DESCRIPTION:Wednesday\, October 15\, FPC is honored to host the annual John Reed Miller Lecture series in partnership with our friends at RTS. We will pause our normal Midweek Electives and D Groups for adults to hear from Dr. Jordan Stone n Romans 8:28–30: “All Things for Good”. Jordan and his wife\, Emily\, are the parents of six children. Dr. Stone serves as Senior Pastor of Redeemer PCA in McKinney\, TX\, and Assistant Professor of Pastoral Theology at Reformed Theological Seminary\, Dallas. He is the author\, most recently\, of A Holy Minister: The Life and Spiritual Legacy of Robert Murray M’Cheyne. \nThe John Reed Miller Lectures are named after Dr. Miller\, beloved pastor here at FPC (1952-1968) who started the winter lectures on Reformed Theology that eventually grew into Reformed Theological Seminary. Dr. Miller was an outstanding preacher and leader. In his latter years\, after retirement\, he would meet with RTS students weekly for lunches and dinners and talk theology and ministry with them. He was a fount of knowledge\, experience\, history and encouragement. He would offer the gift of John Owen’s Commentary on Hebrews\, if the student would agree to read the seven volume set! The John Reed Miller Lectures are given each year in his honor and to promote the biblical theology and practice of Reformed Preaching and Pastoral Ministry that he embodied in his own life and work.
URL:https://fpcjackson.org/event/john-reed-miller-lecture/
LOCATION:FPC Jackson Campus\, 1390 North State Street\, Jackson\, MS\, 39202\, United States
CATEGORIES:Class,Midweek,Teaching
ATTACH;FMTTYPE=image/png:https://fpcjackson.org/wp-content/uploads/2025/09/JRM-2025.png
END:VEVENT
BEGIN:VEVENT
DTSTART;TZID=America/Chicago:20251015T180000
DTEND;TZID=America/Chicago:20251015T190000
DTSTAMP:20260425T214430
CREATED:20241204T213629Z
LAST-MODIFIED:20260306T160529Z
UID:10002048-1760551200-1760554800@fpcjackson.org
SUMMARY:Midweek Adult Programs
DESCRIPTION:
URL:https://fpcjackson.org/event/midweek-adult-programs-2/2025-10-15/
LOCATION:Various\, 1390 North State Street\, Jackson\, MS\, 39202\, United States
CATEGORIES:Bible Study,Class,Discipleship,Midweek,Teaching
END:VEVENT
BEGIN:VEVENT
DTSTART;TZID=America/Chicago:20251015T170000
DTEND;TZID=America/Chicago:20251015T180000
DTSTAMP:20260425T214430
CREATED:20241204T214004Z
LAST-MODIFIED:20260306T160516Z
UID:10001268-1760547600-1760551200@fpcjackson.org
SUMMARY:Midweek Dinner
DESCRIPTION:Adults $8\nChildren $4\nFamily Max $25\nCollege Free – Midweek Dinner is free for any college student involved in one of our Midweek programs. Any other college student can eat for $4.
URL:https://fpcjackson.org/event/midweek-dinner-2/2025-10-15/
LOCATION:Miller Hall\, 1390 North State Street\, Jackson\, MS\, 39202\, United States
CATEGORIES:Midweek
END:VEVENT
BEGIN:VEVENT
DTSTART;TZID=America/Chicago:20251008T180000
DTEND;TZID=America/Chicago:20251008T190000
DTSTAMP:20260425T214430
CREATED:20241204T213629Z
LAST-MODIFIED:20260306T160529Z
UID:10002047-1759946400-1759950000@fpcjackson.org
SUMMARY:Midweek Adult Programs
DESCRIPTION:
URL:https://fpcjackson.org/event/midweek-adult-programs-2/2025-10-08/
LOCATION:Various\, 1390 North State Street\, Jackson\, MS\, 39202\, United States
CATEGORIES:Bible Study,Class,Discipleship,Midweek,Teaching
END:VEVENT
BEGIN:VEVENT
DTSTART;TZID=America/Chicago:20251008T170000
DTEND;TZID=America/Chicago:20251008T180000
DTSTAMP:20260425T214430
CREATED:20241204T214004Z
LAST-MODIFIED:20260306T160516Z
UID:10001267-1759942800-1759946400@fpcjackson.org
SUMMARY:Midweek Dinner
DESCRIPTION:Adults $8\nChildren $4\nFamily Max $25\nCollege Free – Midweek Dinner is free for any college student involved in one of our Midweek programs. Any other college student can eat for $4.
URL:https://fpcjackson.org/event/midweek-dinner-2/2025-10-08/
LOCATION:Miller Hall\, 1390 North State Street\, Jackson\, MS\, 39202\, United States
CATEGORIES:Midweek
END:VEVENT
BEGIN:VEVENT
DTSTART;TZID=America/Chicago:20251001T180000
DTEND;TZID=America/Chicago:20251001T190000
DTSTAMP:20260425T214430
CREATED:20241204T213629Z
LAST-MODIFIED:20260306T160529Z
UID:10002046-1759341600-1759345200@fpcjackson.org
SUMMARY:Midweek Adult Programs
DESCRIPTION:
URL:https://fpcjackson.org/event/midweek-adult-programs-2/2025-10-01/
LOCATION:Various\, 1390 North State Street\, Jackson\, MS\, 39202\, United States
CATEGORIES:Bible Study,Class,Discipleship,Midweek,Teaching
END:VEVENT
BEGIN:VEVENT
DTSTART;TZID=America/Chicago:20251001T170000
DTEND;TZID=America/Chicago:20251001T180000
DTSTAMP:20260425T214430
CREATED:20241204T214004Z
LAST-MODIFIED:20260306T160516Z
UID:10001266-1759338000-1759341600@fpcjackson.org
SUMMARY:Midweek Dinner
DESCRIPTION:Adults $8\nChildren $4\nFamily Max $25\nCollege Free – Midweek Dinner is free for any college student involved in one of our Midweek programs. Any other college student can eat for $4.
URL:https://fpcjackson.org/event/midweek-dinner-2/2025-10-01/
LOCATION:Miller Hall\, 1390 North State Street\, Jackson\, MS\, 39202\, United States
CATEGORIES:Midweek
END:VEVENT
BEGIN:VEVENT
DTSTART;TZID=America/Chicago:20250924T180000
DTEND;TZID=America/Chicago:20250924T190000
DTSTAMP:20260425T214430
CREATED:20241204T213629Z
LAST-MODIFIED:20260306T160529Z
UID:10002045-1758736800-1758740400@fpcjackson.org
SUMMARY:Midweek Adult Programs
DESCRIPTION:
URL:https://fpcjackson.org/event/midweek-adult-programs-2/2025-09-24/
LOCATION:Various\, 1390 North State Street\, Jackson\, MS\, 39202\, United States
CATEGORIES:Bible Study,Class,Discipleship,Midweek,Teaching
END:VEVENT
BEGIN:VEVENT
DTSTART;TZID=America/Chicago:20250924T170000
DTEND;TZID=America/Chicago:20250924T180000
DTSTAMP:20260425T214430
CREATED:20241204T214004Z
LAST-MODIFIED:20260306T160516Z
UID:10001265-1758733200-1758736800@fpcjackson.org
SUMMARY:Midweek Dinner
DESCRIPTION:Adults $8\nChildren $4\nFamily Max $25\nCollege Free – Midweek Dinner is free for any college student involved in one of our Midweek programs. Any other college student can eat for $4.
URL:https://fpcjackson.org/event/midweek-dinner-2/2025-09-24/
LOCATION:Miller Hall\, 1390 North State Street\, Jackson\, MS\, 39202\, United States
CATEGORIES:Midweek
END:VEVENT
BEGIN:VEVENT
DTSTART;TZID=America/Chicago:20250917T180000
DTEND;TZID=America/Chicago:20250917T190000
DTSTAMP:20260425T214430
CREATED:20241204T213629Z
LAST-MODIFIED:20260306T160529Z
UID:10002044-1758132000-1758135600@fpcjackson.org
SUMMARY:Midweek Adult Programs
DESCRIPTION:
URL:https://fpcjackson.org/event/midweek-adult-programs-2/2025-09-17/
LOCATION:Various\, 1390 North State Street\, Jackson\, MS\, 39202\, United States
CATEGORIES:Bible Study,Class,Discipleship,Midweek,Teaching
END:VEVENT
BEGIN:VEVENT
DTSTART;TZID=America/Chicago:20250917T170000
DTEND;TZID=America/Chicago:20250917T180000
DTSTAMP:20260425T214430
CREATED:20241204T214004Z
LAST-MODIFIED:20260306T160516Z
UID:10001264-1758128400-1758132000@fpcjackson.org
SUMMARY:Midweek Dinner
DESCRIPTION:Adults $8\nChildren $4\nFamily Max $25\nCollege Free – Midweek Dinner is free for any college student involved in one of our Midweek programs. Any other college student can eat for $4.
URL:https://fpcjackson.org/event/midweek-dinner-2/2025-09-17/
LOCATION:Miller Hall\, 1390 North State Street\, Jackson\, MS\, 39202\, United States
CATEGORIES:Midweek
END:VEVENT
BEGIN:VEVENT
DTSTART;TZID=America/Chicago:20250910T180000
DTEND;TZID=America/Chicago:20250910T190000
DTSTAMP:20260425T214430
CREATED:20241204T213629Z
LAST-MODIFIED:20260306T160529Z
UID:10002043-1757527200-1757530800@fpcjackson.org
SUMMARY:Midweek Adult Programs
DESCRIPTION:
URL:https://fpcjackson.org/event/midweek-adult-programs-2/2025-09-10/
LOCATION:Various\, 1390 North State Street\, Jackson\, MS\, 39202\, United States
CATEGORIES:Bible Study,Class,Discipleship,Midweek,Teaching
END:VEVENT
BEGIN:VEVENT
DTSTART;TZID=America/Chicago:20250910T170000
DTEND;TZID=America/Chicago:20250910T180000
DTSTAMP:20260425T214430
CREATED:20241204T214004Z
LAST-MODIFIED:20260306T160516Z
UID:10001263-1757523600-1757527200@fpcjackson.org
SUMMARY:Midweek Dinner
DESCRIPTION:Adults $8\nChildren $4\nFamily Max $25\nCollege Free – Midweek Dinner is free for any college student involved in one of our Midweek programs. Any other college student can eat for $4.
URL:https://fpcjackson.org/event/midweek-dinner-2/2025-09-10/
LOCATION:Miller Hall\, 1390 North State Street\, Jackson\, MS\, 39202\, United States
CATEGORIES:Midweek
END:VEVENT
BEGIN:VEVENT
DTSTART;TZID=America/Chicago:20250903T180000
DTEND;TZID=America/Chicago:20250903T190000
DTSTAMP:20260425T214430
CREATED:20241204T213629Z
LAST-MODIFIED:20260306T160529Z
UID:10002042-1756922400-1756926000@fpcjackson.org
SUMMARY:Midweek Adult Programs
DESCRIPTION:
URL:https://fpcjackson.org/event/midweek-adult-programs-2/2025-09-03/
LOCATION:Various\, 1390 North State Street\, Jackson\, MS\, 39202\, United States
CATEGORIES:Bible Study,Class,Discipleship,Midweek,Teaching
END:VEVENT
BEGIN:VEVENT
DTSTART;TZID=America/Chicago:20250903T170000
DTEND;TZID=America/Chicago:20250903T180000
DTSTAMP:20260425T214430
CREATED:20241204T214004Z
LAST-MODIFIED:20260306T160516Z
UID:10001262-1756918800-1756922400@fpcjackson.org
SUMMARY:Midweek Dinner
DESCRIPTION:Adults $8\nChildren $4\nFamily Max $25\nCollege Free – Midweek Dinner is free for any college student involved in one of our Midweek programs. Any other college student can eat for $4.
URL:https://fpcjackson.org/event/midweek-dinner-2/2025-09-03/
LOCATION:Miller Hall\, 1390 North State Street\, Jackson\, MS\, 39202\, United States
CATEGORIES:Midweek
END:VEVENT
BEGIN:VEVENT
DTSTART;TZID=America/Chicago:20250827T180000
DTEND;TZID=America/Chicago:20250827T190000
DTSTAMP:20260425T214430
CREATED:20241204T213629Z
LAST-MODIFIED:20260306T160529Z
UID:10002041-1756317600-1756321200@fpcjackson.org
SUMMARY:Midweek Adult Programs
DESCRIPTION:
URL:https://fpcjackson.org/event/midweek-adult-programs-2/2025-08-27/
LOCATION:Various\, 1390 North State Street\, Jackson\, MS\, 39202\, United States
CATEGORIES:Bible Study,Class,Discipleship,Midweek,Teaching
END:VEVENT
BEGIN:VEVENT
DTSTART;TZID=America/Chicago:20250827T170000
DTEND;TZID=America/Chicago:20250827T180000
DTSTAMP:20260425T214430
CREATED:20241204T214004Z
LAST-MODIFIED:20260306T160516Z
UID:10001261-1756314000-1756317600@fpcjackson.org
SUMMARY:Midweek Dinner
DESCRIPTION:Adults $8\nChildren $4\nFamily Max $25\nCollege Free – Midweek Dinner is free for any college student involved in one of our Midweek programs. Any other college student can eat for $4.
URL:https://fpcjackson.org/event/midweek-dinner-2/2025-08-27/
LOCATION:Miller Hall\, 1390 North State Street\, Jackson\, MS\, 39202\, United States
CATEGORIES:Midweek
END:VEVENT
BEGIN:VEVENT
DTSTART;TZID=America/Chicago:20250820T180000
DTEND;TZID=America/Chicago:20250820T190000
DTSTAMP:20260425T214430
CREATED:20241204T213629Z
LAST-MODIFIED:20260306T160529Z
UID:10002040-1755712800-1755716400@fpcjackson.org
SUMMARY:Midweek Adult Programs
DESCRIPTION:
URL:https://fpcjackson.org/event/midweek-adult-programs-2/2025-08-20/
LOCATION:Various\, 1390 North State Street\, Jackson\, MS\, 39202\, United States
CATEGORIES:Bible Study,Class,Discipleship,Midweek,Teaching
END:VEVENT
BEGIN:VEVENT
DTSTART;TZID=America/Chicago:20250820T170000
DTEND;TZID=America/Chicago:20250820T180000
DTSTAMP:20260425T214430
CREATED:20241204T214004Z
LAST-MODIFIED:20260306T160516Z
UID:10001260-1755709200-1755712800@fpcjackson.org
SUMMARY:Midweek Dinner
DESCRIPTION:Adults $8\nChildren $4\nFamily Max $25\nCollege Free – Midweek Dinner is free for any college student involved in one of our Midweek programs. Any other college student can eat for $4.
URL:https://fpcjackson.org/event/midweek-dinner-2/2025-08-20/
LOCATION:Miller Hall\, 1390 North State Street\, Jackson\, MS\, 39202\, United States
CATEGORIES:Midweek
END:VEVENT
BEGIN:VEVENT
DTSTART;TZID=America/Chicago:20250813T180000
DTEND;TZID=America/Chicago:20250813T190000
DTSTAMP:20260425T214430
CREATED:20241204T213629Z
LAST-MODIFIED:20260306T160529Z
UID:10002039-1755108000-1755111600@fpcjackson.org
SUMMARY:Midweek Adult Programs
DESCRIPTION:
URL:https://fpcjackson.org/event/midweek-adult-programs-2/2025-08-13/
LOCATION:Various\, 1390 North State Street\, Jackson\, MS\, 39202\, United States
CATEGORIES:Bible Study,Class,Discipleship,Midweek,Teaching
END:VEVENT
BEGIN:VEVENT
DTSTART;TZID=America/Chicago:20250813T170000
DTEND;TZID=America/Chicago:20250813T190000
DTSTAMP:20260425T214430
CREATED:20250715T162342Z
LAST-MODIFIED:20250715T210455Z
UID:10018130-1755104400-1755111600@fpcjackson.org
SUMMARY:Midweek Kickoff
DESCRIPTION:Join us as we celebrate the start of another year of Midweek discipleship and activities for all ages! We’ve invited Slugs & Bugs for a special musical concert designed to teach the Bible to children ages 2-8. We’ll also include our past favorites: a homemade ice cream contest\, games and activities\, grilled hot dogs\, and a Ministers vs. Interns tug of war! Whether you’re new to First Pres\, or a Midweek regular\, we encourage you to come by and join the fun as you find out more about Wednesday nights this fall. \n  \nSlugs & Bugs creates music and stories full of faith and silliness for families to delight in and sing for years to come. Singing the Word of God is an incredible tool for people of all ages to hide it in their hearts\, and we’ve invited Randall Goodgame of Slugs & Bugs to join us as we sing\, dance\, and praise God together! Learn more at slugsandbugs.com
URL:https://fpcjackson.org/event/midweek-kickoff-2/
LOCATION:FPC Jackson Campus\, 1390 North State Street\, Jackson\, MS\, 39202\, United States
CATEGORIES:Midweek
ATTACH;FMTTYPE=image/png:https://fpcjackson.org/wp-content/uploads/2025/07/1-5.png
END:VEVENT
BEGIN:VEVENT
DTSTART;TZID=America/Chicago:20250813T170000
DTEND;TZID=America/Chicago:20250813T180000
DTSTAMP:20260425T214430
CREATED:20241204T214004Z
LAST-MODIFIED:20260306T160516Z
UID:10001259-1755104400-1755108000@fpcjackson.org
SUMMARY:Midweek Dinner
DESCRIPTION:Adults $8\nChildren $4\nFamily Max $25\nCollege Free – Midweek Dinner is free for any college student involved in one of our Midweek programs. Any other college student can eat for $4.
URL:https://fpcjackson.org/event/midweek-dinner-2/2025-08-13/
LOCATION:Miller Hall\, 1390 North State Street\, Jackson\, MS\, 39202\, United States
CATEGORIES:Midweek
END:VEVENT
BEGIN:VEVENT
DTSTART;TZID=America/Chicago:20250806T180000
DTEND;TZID=America/Chicago:20250806T190000
DTSTAMP:20260425T214430
CREATED:20241204T213629Z
LAST-MODIFIED:20260306T160529Z
UID:10002038-1754503200-1754506800@fpcjackson.org
SUMMARY:Midweek Adult Programs
DESCRIPTION:
URL:https://fpcjackson.org/event/midweek-adult-programs-2/2025-08-06/
LOCATION:Various\, 1390 North State Street\, Jackson\, MS\, 39202\, United States
CATEGORIES:Bible Study,Class,Discipleship,Midweek,Teaching
END:VEVENT
BEGIN:VEVENT
DTSTART;TZID=America/Chicago:20250806T170000
DTEND;TZID=America/Chicago:20250806T180000
DTSTAMP:20260425T214430
CREATED:20241204T214004Z
LAST-MODIFIED:20260306T160516Z
UID:10001258-1754499600-1754503200@fpcjackson.org
SUMMARY:Midweek Dinner
DESCRIPTION:Adults $8\nChildren $4\nFamily Max $25\nCollege Free – Midweek Dinner is free for any college student involved in one of our Midweek programs. Any other college student can eat for $4.
URL:https://fpcjackson.org/event/midweek-dinner-2/2025-08-06/
LOCATION:Miller Hall\, 1390 North State Street\, Jackson\, MS\, 39202\, United States
CATEGORIES:Midweek
END:VEVENT
BEGIN:VEVENT
DTSTART;TZID=America/Chicago:20250730T180000
DTEND;TZID=America/Chicago:20250730T190000
DTSTAMP:20260425T214430
CREATED:20241204T213629Z
LAST-MODIFIED:20260306T160529Z
UID:10002037-1753898400-1753902000@fpcjackson.org
SUMMARY:Midweek Adult Programs
DESCRIPTION:
URL:https://fpcjackson.org/event/midweek-adult-programs-2/2025-07-30/
LOCATION:Various\, 1390 North State Street\, Jackson\, MS\, 39202\, United States
CATEGORIES:Bible Study,Class,Discipleship,Midweek,Teaching
END:VEVENT
BEGIN:VEVENT
DTSTART;TZID=America/Chicago:20250730T170000
DTEND;TZID=America/Chicago:20250730T180000
DTSTAMP:20260425T214430
CREATED:20241204T214004Z
LAST-MODIFIED:20260306T160516Z
UID:10001257-1753894800-1753898400@fpcjackson.org
SUMMARY:Midweek Dinner
DESCRIPTION:Adults $8\nChildren $4\nFamily Max $25\nCollege Free – Midweek Dinner is free for any college student involved in one of our Midweek programs. Any other college student can eat for $4.
URL:https://fpcjackson.org/event/midweek-dinner-2/2025-07-30/
LOCATION:Miller Hall\, 1390 North State Street\, Jackson\, MS\, 39202\, United States
CATEGORIES:Midweek
END:VEVENT
BEGIN:VEVENT
DTSTART;TZID=America/Chicago:20250723T180000
DTEND;TZID=America/Chicago:20250723T190000
DTSTAMP:20260425T214430
CREATED:20241204T213629Z
LAST-MODIFIED:20260306T160529Z
UID:10002036-1753293600-1753297200@fpcjackson.org
SUMMARY:Midweek Adult Programs
DESCRIPTION:
URL:https://fpcjackson.org/event/midweek-adult-programs-2/2025-07-23/
LOCATION:Various\, 1390 North State Street\, Jackson\, MS\, 39202\, United States
CATEGORIES:Bible Study,Class,Discipleship,Midweek,Teaching
END:VEVENT
END:VCALENDAR