BEGIN:VCALENDAR
VERSION:2.0
PRODID:-//First Presbyterian Church - ECPv6.15.20//NONSGML v1.0//EN
CALSCALE:GREGORIAN
METHOD:PUBLISH
X-WR-CALNAME:First Presbyterian Church
X-ORIGINAL-URL:https://fpcjackson.org
X-WR-CALDESC:Events for First Presbyterian Church
REFRESH-INTERVAL;VALUE=DURATION:PT1H
X-Robots-Tag:noindex
X-PUBLISHED-TTL:PT1H
BEGIN:VTIMEZONE
TZID:America/Chicago
BEGIN:DAYLIGHT
TZOFFSETFROM:-0600
TZOFFSETTO:-0500
TZNAME:CDT
DTSTART:20250309T080000
END:DAYLIGHT
BEGIN:STANDARD
TZOFFSETFROM:-0500
TZOFFSETTO:-0600
TZNAME:CST
DTSTART:20251102T070000
END:STANDARD
BEGIN:DAYLIGHT
TZOFFSETFROM:-0600
TZOFFSETTO:-0500
TZNAME:CDT
DTSTART:20260308T080000
END:DAYLIGHT
BEGIN:STANDARD
TZOFFSETFROM:-0500
TZOFFSETTO:-0600
TZNAME:CST
DTSTART:20261101T070000
END:STANDARD
BEGIN:DAYLIGHT
TZOFFSETFROM:-0600
TZOFFSETTO:-0500
TZNAME:CDT
DTSTART:20270314T080000
END:DAYLIGHT
BEGIN:STANDARD
TZOFFSETFROM:-0500
TZOFFSETTO:-0600
TZNAME:CST
DTSTART:20271107T070000
END:STANDARD
END:VTIMEZONE
BEGIN:VEVENT
DTSTART;TZID=America/Chicago:20260422T180000
DTEND;TZID=America/Chicago:20260422T190000
DTSTAMP:20260425T215812
CREATED:20260109T191934Z
LAST-MODIFIED:20260220T191125Z
UID:10020428-1776880800-1776884400@fpcjackson.org
SUMMARY:Children's Choir
DESCRIPTION:Read more on our midweek page: fpcj.ms/midweek.
URL:https://fpcjackson.org/event/childrens-choir-2-2/2026-04-22/
LOCATION:FPC Jackson Campus\, 1390 North State Street\, Jackson\, MS\, 39202\, United States
CATEGORIES:Children,Midweek
END:VEVENT
BEGIN:VEVENT
DTSTART;TZID=America/Chicago:20260429T170000
DTEND;TZID=America/Chicago:20260429T180000
DTSTAMP:20260425T215812
CREATED:20241204T214004Z
LAST-MODIFIED:20260306T160516Z
UID:10001296-1777482000-1777485600@fpcjackson.org
SUMMARY:Midweek Dinner
DESCRIPTION:Adults $8\nChildren $4\nFamily Max $25\nCollege Free – Midweek Dinner is free for any college student involved in one of our Midweek programs. Any other college student can eat for $4.
URL:https://fpcjackson.org/event/midweek-dinner-2/2026-04-29/
LOCATION:Miller Hall\, 1390 North State Street\, Jackson\, MS\, 39202\, United States
CATEGORIES:Midweek
END:VEVENT
BEGIN:VEVENT
DTSTART;TZID=America/Chicago:20260429T180000
DTEND;TZID=America/Chicago:20260429T190000
DTSTAMP:20260425T215812
CREATED:20241204T213629Z
LAST-MODIFIED:20260306T160529Z
UID:10002076-1777485600-1777489200@fpcjackson.org
SUMMARY:Midweek Adult Programs
DESCRIPTION:
URL:https://fpcjackson.org/event/midweek-adult-programs-2/2026-04-29/
LOCATION:Various\, 1390 North State Street\, Jackson\, MS\, 39202\, United States
CATEGORIES:Bible Study,Class,Discipleship,Midweek,Teaching
END:VEVENT
BEGIN:VEVENT
DTSTART;TZID=America/Chicago:20260429T180000
DTEND;TZID=America/Chicago:20260429T190000
DTSTAMP:20260425T215812
CREATED:20260109T191934Z
LAST-MODIFIED:20260220T191125Z
UID:10020429-1777485600-1777489200@fpcjackson.org
SUMMARY:Children's Choir
DESCRIPTION:Read more on our midweek page: fpcj.ms/midweek.
URL:https://fpcjackson.org/event/childrens-choir-2-2/2026-04-29/
LOCATION:FPC Jackson Campus\, 1390 North State Street\, Jackson\, MS\, 39202\, United States
CATEGORIES:Children,Midweek
END:VEVENT
BEGIN:VEVENT
DTSTART;TZID=America/Chicago:20260506T170000
DTEND;TZID=America/Chicago:20260506T180000
DTSTAMP:20260425T215812
CREATED:20241204T214004Z
LAST-MODIFIED:20260306T160516Z
UID:10001297-1778086800-1778090400@fpcjackson.org
SUMMARY:Midweek Dinner
DESCRIPTION:Adults $8\nChildren $4\nFamily Max $25\nCollege Free – Midweek Dinner is free for any college student involved in one of our Midweek programs. Any other college student can eat for $4.
URL:https://fpcjackson.org/event/midweek-dinner-2/2026-05-06/
LOCATION:Miller Hall\, 1390 North State Street\, Jackson\, MS\, 39202\, United States
CATEGORIES:Midweek
END:VEVENT
BEGIN:VEVENT
DTSTART;TZID=America/Chicago:20260506T180000
DTEND;TZID=America/Chicago:20260506T190000
DTSTAMP:20260425T215812
CREATED:20241204T213629Z
LAST-MODIFIED:20260306T160529Z
UID:10002077-1778090400-1778094000@fpcjackson.org
SUMMARY:Midweek Adult Programs
DESCRIPTION:
URL:https://fpcjackson.org/event/midweek-adult-programs-2/2026-05-06/
LOCATION:Various\, 1390 North State Street\, Jackson\, MS\, 39202\, United States
CATEGORIES:Bible Study,Class,Discipleship,Midweek,Teaching
END:VEVENT
BEGIN:VEVENT
DTSTART;TZID=America/Chicago:20260506T180000
DTEND;TZID=America/Chicago:20260506T190000
DTSTAMP:20260425T215812
CREATED:20260109T191934Z
LAST-MODIFIED:20260220T191125Z
UID:10020430-1778090400-1778094000@fpcjackson.org
SUMMARY:Children's Choir
DESCRIPTION:Read more on our midweek page: fpcj.ms/midweek.
URL:https://fpcjackson.org/event/childrens-choir-2-2/2026-05-06/
LOCATION:FPC Jackson Campus\, 1390 North State Street\, Jackson\, MS\, 39202\, United States
CATEGORIES:Children,Midweek
END:VEVENT
BEGIN:VEVENT
DTSTART;TZID=America/Chicago:20260513T170000
DTEND;TZID=America/Chicago:20260513T180000
DTSTAMP:20260425T215812
CREATED:20241204T214004Z
LAST-MODIFIED:20260306T160516Z
UID:10001298-1778691600-1778695200@fpcjackson.org
SUMMARY:Midweek Dinner
DESCRIPTION:Adults $8\nChildren $4\nFamily Max $25\nCollege Free – Midweek Dinner is free for any college student involved in one of our Midweek programs. Any other college student can eat for $4.
URL:https://fpcjackson.org/event/midweek-dinner-2/2026-05-13/
LOCATION:Miller Hall\, 1390 North State Street\, Jackson\, MS\, 39202\, United States
CATEGORIES:Midweek
END:VEVENT
BEGIN:VEVENT
DTSTART;TZID=America/Chicago:20260513T180000
DTEND;TZID=America/Chicago:20260513T190000
DTSTAMP:20260425T215812
CREATED:20241204T213629Z
LAST-MODIFIED:20260306T160529Z
UID:10002078-1778695200-1778698800@fpcjackson.org
SUMMARY:Midweek Adult Programs
DESCRIPTION:
URL:https://fpcjackson.org/event/midweek-adult-programs-2/2026-05-13/
LOCATION:Various\, 1390 North State Street\, Jackson\, MS\, 39202\, United States
CATEGORIES:Bible Study,Class,Discipleship,Midweek,Teaching
END:VEVENT
BEGIN:VEVENT
DTSTART;TZID=America/Chicago:20260520T170000
DTEND;TZID=America/Chicago:20260520T180000
DTSTAMP:20260425T215812
CREATED:20241204T214004Z
LAST-MODIFIED:20260306T160516Z
UID:10001299-1779296400-1779300000@fpcjackson.org
SUMMARY:Midweek Dinner
DESCRIPTION:Adults $8\nChildren $4\nFamily Max $25\nCollege Free – Midweek Dinner is free for any college student involved in one of our Midweek programs. Any other college student can eat for $4.
URL:https://fpcjackson.org/event/midweek-dinner-2/2026-05-20/
LOCATION:Miller Hall\, 1390 North State Street\, Jackson\, MS\, 39202\, United States
CATEGORIES:Midweek
END:VEVENT
BEGIN:VEVENT
DTSTART;TZID=America/Chicago:20260520T180000
DTEND;TZID=America/Chicago:20260520T190000
DTSTAMP:20260425T215812
CREATED:20241204T213629Z
LAST-MODIFIED:20260306T160529Z
UID:10002079-1779300000-1779303600@fpcjackson.org
SUMMARY:Midweek Adult Programs
DESCRIPTION:
URL:https://fpcjackson.org/event/midweek-adult-programs-2/2026-05-20/
LOCATION:Various\, 1390 North State Street\, Jackson\, MS\, 39202\, United States
CATEGORIES:Bible Study,Class,Discipleship,Midweek,Teaching
END:VEVENT
BEGIN:VEVENT
DTSTART;TZID=America/Chicago:20260527T170000
DTEND;TZID=America/Chicago:20260527T180000
DTSTAMP:20260425T215812
CREATED:20241204T214004Z
LAST-MODIFIED:20260306T160516Z
UID:10001300-1779901200-1779904800@fpcjackson.org
SUMMARY:Midweek Dinner
DESCRIPTION:Adults $8\nChildren $4\nFamily Max $25\nCollege Free – Midweek Dinner is free for any college student involved in one of our Midweek programs. Any other college student can eat for $4.
URL:https://fpcjackson.org/event/midweek-dinner-2/2026-05-27/
LOCATION:Miller Hall\, 1390 North State Street\, Jackson\, MS\, 39202\, United States
CATEGORIES:Midweek
END:VEVENT
BEGIN:VEVENT
DTSTART;TZID=America/Chicago:20260527T180000
DTEND;TZID=America/Chicago:20260527T190000
DTSTAMP:20260425T215812
CREATED:20241204T213629Z
LAST-MODIFIED:20260306T160529Z
UID:10002080-1779904800-1779908400@fpcjackson.org
SUMMARY:Midweek Adult Programs
DESCRIPTION:
URL:https://fpcjackson.org/event/midweek-adult-programs-2/2026-05-27/
LOCATION:Various\, 1390 North State Street\, Jackson\, MS\, 39202\, United States
CATEGORIES:Bible Study,Class,Discipleship,Midweek,Teaching
END:VEVENT
BEGIN:VEVENT
DTSTART;TZID=America/Chicago:20260603T170000
DTEND;TZID=America/Chicago:20260603T180000
DTSTAMP:20260425T215812
CREATED:20241204T214004Z
LAST-MODIFIED:20260306T160516Z
UID:10001301-1780506000-1780509600@fpcjackson.org
SUMMARY:Midweek Dinner
DESCRIPTION:Adults $8\nChildren $4\nFamily Max $25\nCollege Free – Midweek Dinner is free for any college student involved in one of our Midweek programs. Any other college student can eat for $4.
URL:https://fpcjackson.org/event/midweek-dinner-2/2026-06-03/
LOCATION:Miller Hall\, 1390 North State Street\, Jackson\, MS\, 39202\, United States
CATEGORIES:Midweek
END:VEVENT
BEGIN:VEVENT
DTSTART;TZID=America/Chicago:20260603T180000
DTEND;TZID=America/Chicago:20260603T190000
DTSTAMP:20260425T215812
CREATED:20241204T213629Z
LAST-MODIFIED:20260306T160529Z
UID:10002081-1780509600-1780513200@fpcjackson.org
SUMMARY:Midweek Adult Programs
DESCRIPTION:
URL:https://fpcjackson.org/event/midweek-adult-programs-2/2026-06-03/
LOCATION:Various\, 1390 North State Street\, Jackson\, MS\, 39202\, United States
CATEGORIES:Bible Study,Class,Discipleship,Midweek,Teaching
END:VEVENT
BEGIN:VEVENT
DTSTART;TZID=America/Chicago:20260610T170000
DTEND;TZID=America/Chicago:20260610T180000
DTSTAMP:20260425T215812
CREATED:20241204T214004Z
LAST-MODIFIED:20260306T160516Z
UID:10001302-1781110800-1781114400@fpcjackson.org
SUMMARY:Midweek Dinner
DESCRIPTION:Adults $8\nChildren $4\nFamily Max $25\nCollege Free – Midweek Dinner is free for any college student involved in one of our Midweek programs. Any other college student can eat for $4.
URL:https://fpcjackson.org/event/midweek-dinner-2/2026-06-10/
LOCATION:Miller Hall\, 1390 North State Street\, Jackson\, MS\, 39202\, United States
CATEGORIES:Midweek
END:VEVENT
BEGIN:VEVENT
DTSTART;TZID=America/Chicago:20260610T180000
DTEND;TZID=America/Chicago:20260610T190000
DTSTAMP:20260425T215812
CREATED:20241204T213629Z
LAST-MODIFIED:20260306T160529Z
UID:10002082-1781114400-1781118000@fpcjackson.org
SUMMARY:Midweek Adult Programs
DESCRIPTION:
URL:https://fpcjackson.org/event/midweek-adult-programs-2/2026-06-10/
LOCATION:Various\, 1390 North State Street\, Jackson\, MS\, 39202\, United States
CATEGORIES:Bible Study,Class,Discipleship,Midweek,Teaching
END:VEVENT
BEGIN:VEVENT
DTSTART;TZID=America/Chicago:20260617T170000
DTEND;TZID=America/Chicago:20260617T180000
DTSTAMP:20260425T215812
CREATED:20241204T214004Z
LAST-MODIFIED:20260306T160516Z
UID:10001303-1781715600-1781719200@fpcjackson.org
SUMMARY:Midweek Dinner
DESCRIPTION:Adults $8\nChildren $4\nFamily Max $25\nCollege Free – Midweek Dinner is free for any college student involved in one of our Midweek programs. Any other college student can eat for $4.
URL:https://fpcjackson.org/event/midweek-dinner-2/2026-06-17/
LOCATION:Miller Hall\, 1390 North State Street\, Jackson\, MS\, 39202\, United States
CATEGORIES:Midweek
END:VEVENT
BEGIN:VEVENT
DTSTART;TZID=America/Chicago:20260617T180000
DTEND;TZID=America/Chicago:20260617T190000
DTSTAMP:20260425T215812
CREATED:20241204T213629Z
LAST-MODIFIED:20260306T160529Z
UID:10002083-1781719200-1781722800@fpcjackson.org
SUMMARY:Midweek Adult Programs
DESCRIPTION:
URL:https://fpcjackson.org/event/midweek-adult-programs-2/2026-06-17/
LOCATION:Various\, 1390 North State Street\, Jackson\, MS\, 39202\, United States
CATEGORIES:Bible Study,Class,Discipleship,Midweek,Teaching
END:VEVENT
BEGIN:VEVENT
DTSTART;TZID=America/Chicago:20260624T170000
DTEND;TZID=America/Chicago:20260624T180000
DTSTAMP:20260425T215812
CREATED:20241204T214004Z
LAST-MODIFIED:20260306T160516Z
UID:10001304-1782320400-1782324000@fpcjackson.org
SUMMARY:Midweek Dinner
DESCRIPTION:Adults $8\nChildren $4\nFamily Max $25\nCollege Free – Midweek Dinner is free for any college student involved in one of our Midweek programs. Any other college student can eat for $4.
URL:https://fpcjackson.org/event/midweek-dinner-2/2026-06-24/
LOCATION:Miller Hall\, 1390 North State Street\, Jackson\, MS\, 39202\, United States
CATEGORIES:Midweek
END:VEVENT
BEGIN:VEVENT
DTSTART;TZID=America/Chicago:20260624T180000
DTEND;TZID=America/Chicago:20260624T190000
DTSTAMP:20260425T215812
CREATED:20241204T213629Z
LAST-MODIFIED:20260306T160529Z
UID:10002084-1782324000-1782327600@fpcjackson.org
SUMMARY:Midweek Adult Programs
DESCRIPTION:
URL:https://fpcjackson.org/event/midweek-adult-programs-2/2026-06-24/
LOCATION:Various\, 1390 North State Street\, Jackson\, MS\, 39202\, United States
CATEGORIES:Bible Study,Class,Discipleship,Midweek,Teaching
END:VEVENT
BEGIN:VEVENT
DTSTART;TZID=America/Chicago:20260701T170000
DTEND;TZID=America/Chicago:20260701T180000
DTSTAMP:20260425T215812
CREATED:20241204T214004Z
LAST-MODIFIED:20260306T160516Z
UID:10001305-1782925200-1782928800@fpcjackson.org
SUMMARY:Midweek Dinner
DESCRIPTION:Adults $8\nChildren $4\nFamily Max $25\nCollege Free – Midweek Dinner is free for any college student involved in one of our Midweek programs. Any other college student can eat for $4.
URL:https://fpcjackson.org/event/midweek-dinner-2/2026-07-01/
LOCATION:Miller Hall\, 1390 North State Street\, Jackson\, MS\, 39202\, United States
CATEGORIES:Midweek
END:VEVENT
BEGIN:VEVENT
DTSTART;TZID=America/Chicago:20260701T180000
DTEND;TZID=America/Chicago:20260701T190000
DTSTAMP:20260425T215812
CREATED:20241204T213629Z
LAST-MODIFIED:20260306T160529Z
UID:10002085-1782928800-1782932400@fpcjackson.org
SUMMARY:Midweek Adult Programs
DESCRIPTION:
URL:https://fpcjackson.org/event/midweek-adult-programs-2/2026-07-01/
LOCATION:Various\, 1390 North State Street\, Jackson\, MS\, 39202\, United States
CATEGORIES:Bible Study,Class,Discipleship,Midweek,Teaching
END:VEVENT
BEGIN:VEVENT
DTSTART;TZID=America/Chicago:20260708T170000
DTEND;TZID=America/Chicago:20260708T180000
DTSTAMP:20260425T215812
CREATED:20241204T214004Z
LAST-MODIFIED:20260306T160516Z
UID:10001306-1783530000-1783533600@fpcjackson.org
SUMMARY:Midweek Dinner
DESCRIPTION:Adults $8\nChildren $4\nFamily Max $25\nCollege Free – Midweek Dinner is free for any college student involved in one of our Midweek programs. Any other college student can eat for $4.
URL:https://fpcjackson.org/event/midweek-dinner-2/2026-07-08/
LOCATION:Miller Hall\, 1390 North State Street\, Jackson\, MS\, 39202\, United States
CATEGORIES:Midweek
END:VEVENT
BEGIN:VEVENT
DTSTART;TZID=America/Chicago:20260708T180000
DTEND;TZID=America/Chicago:20260708T190000
DTSTAMP:20260425T215812
CREATED:20241204T213629Z
LAST-MODIFIED:20260306T160529Z
UID:10002086-1783533600-1783537200@fpcjackson.org
SUMMARY:Midweek Adult Programs
DESCRIPTION:
URL:https://fpcjackson.org/event/midweek-adult-programs-2/2026-07-08/
LOCATION:Various\, 1390 North State Street\, Jackson\, MS\, 39202\, United States
CATEGORIES:Bible Study,Class,Discipleship,Midweek,Teaching
END:VEVENT
BEGIN:VEVENT
DTSTART;TZID=America/Chicago:20260715T170000
DTEND;TZID=America/Chicago:20260715T180000
DTSTAMP:20260425T215812
CREATED:20241204T214004Z
LAST-MODIFIED:20260306T160516Z
UID:10001307-1784134800-1784138400@fpcjackson.org
SUMMARY:Midweek Dinner
DESCRIPTION:Adults $8\nChildren $4\nFamily Max $25\nCollege Free – Midweek Dinner is free for any college student involved in one of our Midweek programs. Any other college student can eat for $4.
URL:https://fpcjackson.org/event/midweek-dinner-2/2026-07-15/
LOCATION:Miller Hall\, 1390 North State Street\, Jackson\, MS\, 39202\, United States
CATEGORIES:Midweek
END:VEVENT
BEGIN:VEVENT
DTSTART;TZID=America/Chicago:20260715T180000
DTEND;TZID=America/Chicago:20260715T190000
DTSTAMP:20260425T215812
CREATED:20241204T213629Z
LAST-MODIFIED:20260306T160529Z
UID:10002087-1784138400-1784142000@fpcjackson.org
SUMMARY:Midweek Adult Programs
DESCRIPTION:
URL:https://fpcjackson.org/event/midweek-adult-programs-2/2026-07-15/
LOCATION:Various\, 1390 North State Street\, Jackson\, MS\, 39202\, United States
CATEGORIES:Bible Study,Class,Discipleship,Midweek,Teaching
END:VEVENT
BEGIN:VEVENT
DTSTART;TZID=America/Chicago:20260722T170000
DTEND;TZID=America/Chicago:20260722T180000
DTSTAMP:20260425T215812
CREATED:20241204T214004Z
LAST-MODIFIED:20260306T160516Z
UID:10001308-1784739600-1784743200@fpcjackson.org
SUMMARY:Midweek Dinner
DESCRIPTION:Adults $8\nChildren $4\nFamily Max $25\nCollege Free – Midweek Dinner is free for any college student involved in one of our Midweek programs. Any other college student can eat for $4.
URL:https://fpcjackson.org/event/midweek-dinner-2/2026-07-22/
LOCATION:Miller Hall\, 1390 North State Street\, Jackson\, MS\, 39202\, United States
CATEGORIES:Midweek
END:VEVENT
BEGIN:VEVENT
DTSTART;TZID=America/Chicago:20260722T180000
DTEND;TZID=America/Chicago:20260722T190000
DTSTAMP:20260425T215812
CREATED:20241204T213629Z
LAST-MODIFIED:20260306T160529Z
UID:10002088-1784743200-1784746800@fpcjackson.org
SUMMARY:Midweek Adult Programs
DESCRIPTION:
URL:https://fpcjackson.org/event/midweek-adult-programs-2/2026-07-22/
LOCATION:Various\, 1390 North State Street\, Jackson\, MS\, 39202\, United States
CATEGORIES:Bible Study,Class,Discipleship,Midweek,Teaching
END:VEVENT
BEGIN:VEVENT
DTSTART;TZID=America/Chicago:20260729T170000
DTEND;TZID=America/Chicago:20260729T180000
DTSTAMP:20260425T215812
CREATED:20241204T214004Z
LAST-MODIFIED:20260306T160516Z
UID:10001309-1785344400-1785348000@fpcjackson.org
SUMMARY:Midweek Dinner
DESCRIPTION:Adults $8\nChildren $4\nFamily Max $25\nCollege Free – Midweek Dinner is free for any college student involved in one of our Midweek programs. Any other college student can eat for $4.
URL:https://fpcjackson.org/event/midweek-dinner-2/2026-07-29/
LOCATION:Miller Hall\, 1390 North State Street\, Jackson\, MS\, 39202\, United States
CATEGORIES:Midweek
END:VEVENT
END:VCALENDAR