BEGIN:VCALENDAR
VERSION:2.0
PRODID:-//First Presbyterian Church - ECPv6.15.20//NONSGML v1.0//EN
CALSCALE:GREGORIAN
METHOD:PUBLISH
X-WR-CALNAME:First Presbyterian Church
X-ORIGINAL-URL:https://fpcjackson.org
X-WR-CALDESC:Events for First Presbyterian Church
REFRESH-INTERVAL;VALUE=DURATION:PT1H
X-Robots-Tag:noindex
X-PUBLISHED-TTL:PT1H
BEGIN:VTIMEZONE
TZID:America/Chicago
BEGIN:DAYLIGHT
TZOFFSETFROM:-0600
TZOFFSETTO:-0500
TZNAME:CDT
DTSTART:20240310T080000
END:DAYLIGHT
BEGIN:STANDARD
TZOFFSETFROM:-0500
TZOFFSETTO:-0600
TZNAME:CST
DTSTART:20241103T070000
END:STANDARD
BEGIN:DAYLIGHT
TZOFFSETFROM:-0600
TZOFFSETTO:-0500
TZNAME:CDT
DTSTART:20250309T080000
END:DAYLIGHT
BEGIN:STANDARD
TZOFFSETFROM:-0500
TZOFFSETTO:-0600
TZNAME:CST
DTSTART:20251102T070000
END:STANDARD
BEGIN:DAYLIGHT
TZOFFSETFROM:-0600
TZOFFSETTO:-0500
TZNAME:CDT
DTSTART:20260308T080000
END:DAYLIGHT
BEGIN:STANDARD
TZOFFSETFROM:-0500
TZOFFSETTO:-0600
TZNAME:CST
DTSTART:20261101T070000
END:STANDARD
BEGIN:DAYLIGHT
TZOFFSETFROM:-0600
TZOFFSETTO:-0500
TZNAME:CDT
DTSTART:20270314T080000
END:DAYLIGHT
BEGIN:STANDARD
TZOFFSETFROM:-0500
TZOFFSETTO:-0600
TZNAME:CST
DTSTART:20271107T070000
END:STANDARD
END:VTIMEZONE
BEGIN:VEVENT
DTSTART;TZID=America/Chicago:20260304T170000
DTEND;TZID=America/Chicago:20260304T180000
DTSTAMP:20260425T102611
CREATED:20241204T214004Z
LAST-MODIFIED:20260306T160516Z
UID:10001288-1772643600-1772647200@fpcjackson.org
SUMMARY:Midweek Dinner
DESCRIPTION:Adults $8\nChildren $4\nFamily Max $25\nCollege Free – Midweek Dinner is free for any college student involved in one of our Midweek programs. Any other college student can eat for $4.
URL:https://fpcjackson.org/event/midweek-dinner-2/2026-03-04/
LOCATION:Miller Hall\, 1390 North State Street\, Jackson\, MS\, 39202\, United States
CATEGORIES:Midweek
END:VEVENT
BEGIN:VEVENT
DTSTART;TZID=America/Chicago:20260225T180000
DTEND;TZID=America/Chicago:20260225T190000
DTSTAMP:20260425T102611
CREATED:20260109T191934Z
LAST-MODIFIED:20260220T191125Z
UID:10020420-1772042400-1772046000@fpcjackson.org
SUMMARY:Children's Choir
DESCRIPTION:Read more on our midweek page: fpcj.ms/midweek.
URL:https://fpcjackson.org/event/childrens-choir-2-2/2026-02-25/
LOCATION:FPC Jackson Campus\, 1390 North State Street\, Jackson\, MS\, 39202\, United States
CATEGORIES:Children,Midweek
END:VEVENT
BEGIN:VEVENT
DTSTART;TZID=America/Chicago:20260225T180000
DTEND;TZID=America/Chicago:20260225T190000
DTSTAMP:20260425T102611
CREATED:20241204T213629Z
LAST-MODIFIED:20260306T160529Z
UID:10002067-1772042400-1772046000@fpcjackson.org
SUMMARY:Midweek Adult Programs
DESCRIPTION:
URL:https://fpcjackson.org/event/midweek-adult-programs-2/2026-02-25/
LOCATION:Various\, 1390 North State Street\, Jackson\, MS\, 39202\, United States
CATEGORIES:Bible Study,Class,Discipleship,Midweek,Teaching
END:VEVENT
BEGIN:VEVENT
DTSTART;TZID=America/Chicago:20260225T170000
DTEND;TZID=America/Chicago:20260225T180000
DTSTAMP:20260425T102611
CREATED:20241204T214004Z
LAST-MODIFIED:20260306T160516Z
UID:10001287-1772038800-1772042400@fpcjackson.org
SUMMARY:Midweek Dinner
DESCRIPTION:Adults $8\nChildren $4\nFamily Max $25\nCollege Free – Midweek Dinner is free for any college student involved in one of our Midweek programs. Any other college student can eat for $4.
URL:https://fpcjackson.org/event/midweek-dinner-2/2026-02-25/
LOCATION:Miller Hall\, 1390 North State Street\, Jackson\, MS\, 39202\, United States
CATEGORIES:Midweek
END:VEVENT
BEGIN:VEVENT
DTSTART;TZID=America/Chicago:20260218T180000
DTEND;TZID=America/Chicago:20260218T190000
DTSTAMP:20260425T102611
CREATED:20260109T191934Z
LAST-MODIFIED:20260220T191125Z
UID:10020419-1771437600-1771441200@fpcjackson.org
SUMMARY:Children's Choir
DESCRIPTION:Read more on our midweek page: fpcj.ms/midweek.
URL:https://fpcjackson.org/event/childrens-choir-2-2/2026-02-18/
LOCATION:FPC Jackson Campus\, 1390 North State Street\, Jackson\, MS\, 39202\, United States
CATEGORIES:Children,Midweek
END:VEVENT
BEGIN:VEVENT
DTSTART;TZID=America/Chicago:20260218T180000
DTEND;TZID=America/Chicago:20260218T190000
DTSTAMP:20260425T102611
CREATED:20241204T213629Z
LAST-MODIFIED:20260306T160529Z
UID:10002066-1771437600-1771441200@fpcjackson.org
SUMMARY:Midweek Adult Programs
DESCRIPTION:
URL:https://fpcjackson.org/event/midweek-adult-programs-2/2026-02-18/
LOCATION:Various\, 1390 North State Street\, Jackson\, MS\, 39202\, United States
CATEGORIES:Bible Study,Class,Discipleship,Midweek,Teaching
END:VEVENT
BEGIN:VEVENT
DTSTART;TZID=America/Chicago:20260218T170000
DTEND;TZID=America/Chicago:20260218T180000
DTSTAMP:20260425T102611
CREATED:20241204T214004Z
LAST-MODIFIED:20260306T160516Z
UID:10001286-1771434000-1771437600@fpcjackson.org
SUMMARY:Midweek Dinner
DESCRIPTION:Adults $8\nChildren $4\nFamily Max $25\nCollege Free – Midweek Dinner is free for any college student involved in one of our Midweek programs. Any other college student can eat for $4.
URL:https://fpcjackson.org/event/midweek-dinner-2/2026-02-18/
LOCATION:Miller Hall\, 1390 North State Street\, Jackson\, MS\, 39202\, United States
CATEGORIES:Midweek
END:VEVENT
BEGIN:VEVENT
DTSTART;TZID=America/Chicago:20260211T180000
DTEND;TZID=America/Chicago:20260211T190000
DTSTAMP:20260425T102611
CREATED:20260109T191934Z
LAST-MODIFIED:20260220T191125Z
UID:10020418-1770832800-1770836400@fpcjackson.org
SUMMARY:Children's Choir
DESCRIPTION:Read more on our midweek page: fpcj.ms/midweek.
URL:https://fpcjackson.org/event/childrens-choir-2-2/2026-02-11/
LOCATION:FPC Jackson Campus\, 1390 North State Street\, Jackson\, MS\, 39202\, United States
CATEGORIES:Children,Midweek
END:VEVENT
BEGIN:VEVENT
DTSTART;TZID=America/Chicago:20260211T180000
DTEND;TZID=America/Chicago:20260211T190000
DTSTAMP:20260425T102611
CREATED:20241204T213629Z
LAST-MODIFIED:20260306T160529Z
UID:10002065-1770832800-1770836400@fpcjackson.org
SUMMARY:Midweek Adult Programs
DESCRIPTION:
URL:https://fpcjackson.org/event/midweek-adult-programs-2/2026-02-11/
LOCATION:Various\, 1390 North State Street\, Jackson\, MS\, 39202\, United States
CATEGORIES:Bible Study,Class,Discipleship,Midweek,Teaching
END:VEVENT
BEGIN:VEVENT
DTSTART;TZID=America/Chicago:20260211T170000
DTEND;TZID=America/Chicago:20260211T180000
DTSTAMP:20260425T102611
CREATED:20241204T214004Z
LAST-MODIFIED:20260306T160516Z
UID:10001285-1770829200-1770832800@fpcjackson.org
SUMMARY:Midweek Dinner
DESCRIPTION:Adults $8\nChildren $4\nFamily Max $25\nCollege Free – Midweek Dinner is free for any college student involved in one of our Midweek programs. Any other college student can eat for $4.
URL:https://fpcjackson.org/event/midweek-dinner-2/2026-02-11/
LOCATION:Miller Hall\, 1390 North State Street\, Jackson\, MS\, 39202\, United States
CATEGORIES:Midweek
END:VEVENT
BEGIN:VEVENT
DTSTART;TZID=America/Chicago:20260204T180000
DTEND;TZID=America/Chicago:20260204T190000
DTSTAMP:20260425T102611
CREATED:20260109T191934Z
LAST-MODIFIED:20260220T191125Z
UID:10020417-1770228000-1770231600@fpcjackson.org
SUMMARY:Children's Choir
DESCRIPTION:Read more on our midweek page: fpcj.ms/midweek.
URL:https://fpcjackson.org/event/childrens-choir-2-2/2026-02-04/
LOCATION:FPC Jackson Campus\, 1390 North State Street\, Jackson\, MS\, 39202\, United States
CATEGORIES:Children,Midweek
END:VEVENT
BEGIN:VEVENT
DTSTART;TZID=America/Chicago:20260204T180000
DTEND;TZID=America/Chicago:20260204T190000
DTSTAMP:20260425T102611
CREATED:20241204T213629Z
LAST-MODIFIED:20260306T160529Z
UID:10002064-1770228000-1770231600@fpcjackson.org
SUMMARY:Midweek Adult Programs
DESCRIPTION:
URL:https://fpcjackson.org/event/midweek-adult-programs-2/2026-02-04/
LOCATION:Various\, 1390 North State Street\, Jackson\, MS\, 39202\, United States
CATEGORIES:Bible Study,Class,Discipleship,Midweek,Teaching
END:VEVENT
BEGIN:VEVENT
DTSTART;TZID=America/Chicago:20260204T170000
DTEND;TZID=America/Chicago:20260204T180000
DTSTAMP:20260425T102611
CREATED:20241204T214004Z
LAST-MODIFIED:20260306T160516Z
UID:10001284-1770224400-1770228000@fpcjackson.org
SUMMARY:Midweek Dinner
DESCRIPTION:Adults $8\nChildren $4\nFamily Max $25\nCollege Free – Midweek Dinner is free for any college student involved in one of our Midweek programs. Any other college student can eat for $4.
URL:https://fpcjackson.org/event/midweek-dinner-2/2026-02-04/
LOCATION:Miller Hall\, 1390 North State Street\, Jackson\, MS\, 39202\, United States
CATEGORIES:Midweek
END:VEVENT
BEGIN:VEVENT
DTSTART;TZID=America/Chicago:20260128T180000
DTEND;TZID=America/Chicago:20260128T190000
DTSTAMP:20260425T102611
CREATED:20260109T191934Z
LAST-MODIFIED:20260220T191125Z
UID:10020416-1769623200-1769626800@fpcjackson.org
SUMMARY:Children's Choir
DESCRIPTION:Read more on our midweek page: fpcj.ms/midweek.
URL:https://fpcjackson.org/event/childrens-choir-2-2/2026-01-28/
LOCATION:FPC Jackson Campus\, 1390 North State Street\, Jackson\, MS\, 39202\, United States
CATEGORIES:Children,Midweek
END:VEVENT
BEGIN:VEVENT
DTSTART;TZID=America/Chicago:20260128T180000
DTEND;TZID=America/Chicago:20260128T190000
DTSTAMP:20260425T102611
CREATED:20241204T213629Z
LAST-MODIFIED:20260306T160529Z
UID:10002063-1769623200-1769626800@fpcjackson.org
SUMMARY:Midweek Adult Programs
DESCRIPTION:
URL:https://fpcjackson.org/event/midweek-adult-programs-2/2026-01-28/
LOCATION:Various\, 1390 North State Street\, Jackson\, MS\, 39202\, United States
CATEGORIES:Bible Study,Class,Discipleship,Midweek,Teaching
END:VEVENT
BEGIN:VEVENT
DTSTART;TZID=America/Chicago:20260128T170000
DTEND;TZID=America/Chicago:20260128T190000
DTSTAMP:20260425T102611
CREATED:20260121T162616Z
LAST-MODIFIED:20260121T162616Z
UID:10020342-1769619600-1769626800@fpcjackson.org
SUMMARY:Midweek Third Quarter
DESCRIPTION:On Wednesday evenings\, we gather between Sundays for a shared meal\, teaching\, and fellowship. Our third quarter electives begin this Wednesday\, January 28. If you are new to Midweek or have been out for a while\, now is the perfect time to jump back in. Join us for dinner in Miller Hall (5-6 p.m.) and programs for all ages at 6 p.m. \nFind out more at fpcj.ms/midweek.
URL:https://fpcjackson.org/event/midweek-third-quarter/
LOCATION:FPC Jackson Campus\, 1390 North State Street\, Jackson\, MS\, 39202\, United States
CATEGORIES:Midweek
ATTACH;FMTTYPE=image/png:https://fpcjackson.org/wp-content/uploads/2024/04/Midweek-Dinenr-Update-Spring-2024.png
END:VEVENT
BEGIN:VEVENT
DTSTART;TZID=America/Chicago:20260128T170000
DTEND;TZID=America/Chicago:20260128T180000
DTSTAMP:20260425T102611
CREATED:20241204T214004Z
LAST-MODIFIED:20260306T160516Z
UID:10001283-1769619600-1769623200@fpcjackson.org
SUMMARY:Midweek Dinner
DESCRIPTION:Adults $8\nChildren $4\nFamily Max $25\nCollege Free – Midweek Dinner is free for any college student involved in one of our Midweek programs. Any other college student can eat for $4.
URL:https://fpcjackson.org/event/midweek-dinner-2/2026-01-28/
LOCATION:Miller Hall\, 1390 North State Street\, Jackson\, MS\, 39202\, United States
CATEGORIES:Midweek
END:VEVENT
BEGIN:VEVENT
DTSTART;TZID=America/Chicago:20260121T180000
DTEND;TZID=America/Chicago:20260121T190000
DTSTAMP:20260425T102611
CREATED:20260109T191934Z
LAST-MODIFIED:20260220T191125Z
UID:10020415-1769018400-1769022000@fpcjackson.org
SUMMARY:Children's Choir
DESCRIPTION:Read more on our midweek page: fpcj.ms/midweek.
URL:https://fpcjackson.org/event/childrens-choir-2-2/2026-01-21/
LOCATION:FPC Jackson Campus\, 1390 North State Street\, Jackson\, MS\, 39202\, United States
CATEGORIES:Children,Midweek
END:VEVENT
BEGIN:VEVENT
DTSTART;TZID=America/Chicago:20260121T180000
DTEND;TZID=America/Chicago:20260121T190000
DTSTAMP:20260425T102611
CREATED:20260102T192047Z
LAST-MODIFIED:20260102T192047Z
UID:10020003-1769018400-1769022000@fpcjackson.org
SUMMARY:Midweek Mini Intensive
DESCRIPTION:Ephesians: Belonging and Becoming\nJanuary 14\nJoin us this January for our Midweek Mini-Intensive\, as David Strain leads us through the book of Ephesians. Over two Wednesday nights\, we will explore Paul’s great masterpiece on the church: what does it mean to be united to\, and to live in the body of Christ? \nD groups and adult electives will begin January 28.
URL:https://fpcjackson.org/event/midweek-mini-intensive/2026-01-21/
LOCATION:Miller Hall\, 1390 North State Street\, Jackson\, MS\, 39202\, United States
CATEGORIES:Midweek
ATTACH;FMTTYPE=image/png:https://fpcjackson.org/wp-content/uploads/2026/01/Midweek-Mini-Intensive-Ephesians-scaled.png
END:VEVENT
BEGIN:VEVENT
DTSTART;TZID=America/Chicago:20260121T180000
DTEND;TZID=America/Chicago:20260121T190000
DTSTAMP:20260425T102611
CREATED:20241204T213629Z
LAST-MODIFIED:20260306T160529Z
UID:10002062-1769018400-1769022000@fpcjackson.org
SUMMARY:Midweek Adult Programs
DESCRIPTION:
URL:https://fpcjackson.org/event/midweek-adult-programs-2/2026-01-21/
LOCATION:Various\, 1390 North State Street\, Jackson\, MS\, 39202\, United States
CATEGORIES:Bible Study,Class,Discipleship,Midweek,Teaching
END:VEVENT
BEGIN:VEVENT
DTSTART;TZID=America/Chicago:20260121T170000
DTEND;TZID=America/Chicago:20260121T180000
DTSTAMP:20260425T102611
CREATED:20241204T214004Z
LAST-MODIFIED:20260306T160516Z
UID:10001282-1769014800-1769018400@fpcjackson.org
SUMMARY:Midweek Dinner
DESCRIPTION:Adults $8\nChildren $4\nFamily Max $25\nCollege Free – Midweek Dinner is free for any college student involved in one of our Midweek programs. Any other college student can eat for $4.
URL:https://fpcjackson.org/event/midweek-dinner-2/2026-01-21/
LOCATION:Miller Hall\, 1390 North State Street\, Jackson\, MS\, 39202\, United States
CATEGORIES:Midweek
END:VEVENT
BEGIN:VEVENT
DTSTART;TZID=America/Chicago:20260114T180000
DTEND;TZID=America/Chicago:20260114T190000
DTSTAMP:20260425T102611
CREATED:20260109T191934Z
LAST-MODIFIED:20260220T191125Z
UID:10007707-1768413600-1768417200@fpcjackson.org
SUMMARY:Children's Choir
DESCRIPTION:Read more on our midweek page: fpcj.ms/midweek.
URL:https://fpcjackson.org/event/childrens-choir-2-2/2026-01-14/
LOCATION:FPC Jackson Campus\, 1390 North State Street\, Jackson\, MS\, 39202\, United States
CATEGORIES:Children,Midweek
END:VEVENT
BEGIN:VEVENT
DTSTART;TZID=America/Chicago:20260114T180000
DTEND;TZID=America/Chicago:20260114T190000
DTSTAMP:20260425T102611
CREATED:20260102T192047Z
LAST-MODIFIED:20260102T192047Z
UID:10020002-1768413600-1768417200@fpcjackson.org
SUMMARY:Midweek Mini Intensive
DESCRIPTION:Ephesians: Belonging and Becoming\nJanuary 14\nJoin us this January for our Midweek Mini-Intensive\, as David Strain leads us through the book of Ephesians. Over two Wednesday nights\, we will explore Paul’s great masterpiece on the church: what does it mean to be united to\, and to live in the body of Christ? \nD groups and adult electives will begin January 28.
URL:https://fpcjackson.org/event/midweek-mini-intensive/2026-01-14/
LOCATION:Miller Hall\, 1390 North State Street\, Jackson\, MS\, 39202\, United States
CATEGORIES:Midweek
ATTACH;FMTTYPE=image/png:https://fpcjackson.org/wp-content/uploads/2026/01/Midweek-Mini-Intensive-Ephesians-scaled.png
END:VEVENT
BEGIN:VEVENT
DTSTART;TZID=America/Chicago:20260114T180000
DTEND;TZID=America/Chicago:20260114T190000
DTSTAMP:20260425T102611
CREATED:20241204T213629Z
LAST-MODIFIED:20260306T160529Z
UID:10002061-1768413600-1768417200@fpcjackson.org
SUMMARY:Midweek Adult Programs
DESCRIPTION:
URL:https://fpcjackson.org/event/midweek-adult-programs-2/2026-01-14/
LOCATION:Various\, 1390 North State Street\, Jackson\, MS\, 39202\, United States
CATEGORIES:Bible Study,Class,Discipleship,Midweek,Teaching
END:VEVENT
BEGIN:VEVENT
DTSTART;TZID=America/Chicago:20260114T170000
DTEND;TZID=America/Chicago:20260114T180000
DTSTAMP:20260425T102611
CREATED:20241204T214004Z
LAST-MODIFIED:20260306T160516Z
UID:10001281-1768410000-1768413600@fpcjackson.org
SUMMARY:Midweek Dinner
DESCRIPTION:Adults $8\nChildren $4\nFamily Max $25\nCollege Free – Midweek Dinner is free for any college student involved in one of our Midweek programs. Any other college student can eat for $4.
URL:https://fpcjackson.org/event/midweek-dinner-2/2026-01-14/
LOCATION:Miller Hall\, 1390 North State Street\, Jackson\, MS\, 39202\, United States
CATEGORIES:Midweek
END:VEVENT
BEGIN:VEVENT
DTSTART;TZID=America/Chicago:20251217T180000
DTEND;TZID=America/Chicago:20251217T190000
DTSTAMP:20260425T102611
CREATED:20241204T213629Z
LAST-MODIFIED:20260306T160529Z
UID:10002057-1765994400-1765998000@fpcjackson.org
SUMMARY:Midweek Adult Programs
DESCRIPTION:
URL:https://fpcjackson.org/event/midweek-adult-programs-2/2025-12-17/
LOCATION:Various\, 1390 North State Street\, Jackson\, MS\, 39202\, United States
CATEGORIES:Bible Study,Class,Discipleship,Midweek,Teaching
END:VEVENT
BEGIN:VEVENT
DTSTART;TZID=America/Chicago:20251217T170000
DTEND;TZID=America/Chicago:20251217T180000
DTSTAMP:20260425T102611
CREATED:20241204T214004Z
LAST-MODIFIED:20260306T160516Z
UID:10001277-1765990800-1765994400@fpcjackson.org
SUMMARY:Midweek Dinner
DESCRIPTION:Adults $8\nChildren $4\nFamily Max $25\nCollege Free – Midweek Dinner is free for any college student involved in one of our Midweek programs. Any other college student can eat for $4.
URL:https://fpcjackson.org/event/midweek-dinner-2/2025-12-17/
LOCATION:Miller Hall\, 1390 North State Street\, Jackson\, MS\, 39202\, United States
CATEGORIES:Midweek
END:VEVENT
BEGIN:VEVENT
DTSTART;TZID=America/Chicago:20251210T180000
DTEND;TZID=America/Chicago:20251210T190000
DTSTAMP:20260425T102611
CREATED:20241204T213629Z
LAST-MODIFIED:20260306T160529Z
UID:10002056-1765389600-1765393200@fpcjackson.org
SUMMARY:Midweek Adult Programs
DESCRIPTION:
URL:https://fpcjackson.org/event/midweek-adult-programs-2/2025-12-10/
LOCATION:Various\, 1390 North State Street\, Jackson\, MS\, 39202\, United States
CATEGORIES:Bible Study,Class,Discipleship,Midweek,Teaching
END:VEVENT
BEGIN:VEVENT
DTSTART;TZID=America/Chicago:20251210T170000
DTEND;TZID=America/Chicago:20251210T180000
DTSTAMP:20260425T102611
CREATED:20241204T214004Z
LAST-MODIFIED:20260306T160516Z
UID:10001276-1765386000-1765389600@fpcjackson.org
SUMMARY:Midweek Dinner
DESCRIPTION:Adults $8\nChildren $4\nFamily Max $25\nCollege Free – Midweek Dinner is free for any college student involved in one of our Midweek programs. Any other college student can eat for $4.
URL:https://fpcjackson.org/event/midweek-dinner-2/2025-12-10/
LOCATION:Miller Hall\, 1390 North State Street\, Jackson\, MS\, 39202\, United States
CATEGORIES:Midweek
END:VEVENT
BEGIN:VEVENT
DTSTART;TZID=America/Chicago:20251203T180000
DTEND;TZID=America/Chicago:20251203T190000
DTSTAMP:20260425T102611
CREATED:20241204T213629Z
LAST-MODIFIED:20260306T160529Z
UID:10002055-1764784800-1764788400@fpcjackson.org
SUMMARY:Midweek Adult Programs
DESCRIPTION:
URL:https://fpcjackson.org/event/midweek-adult-programs-2/2025-12-03/
LOCATION:Various\, 1390 North State Street\, Jackson\, MS\, 39202\, United States
CATEGORIES:Bible Study,Class,Discipleship,Midweek,Teaching
END:VEVENT
END:VCALENDAR