BEGIN:VCALENDAR
VERSION:2.0
PRODID:-//First Presbyterian Church - ECPv6.15.20//NONSGML v1.0//EN
CALSCALE:GREGORIAN
METHOD:PUBLISH
X-WR-CALNAME:First Presbyterian Church
X-ORIGINAL-URL:https://fpcjackson.org
X-WR-CALDESC:Events for First Presbyterian Church
REFRESH-INTERVAL;VALUE=DURATION:PT1H
X-Robots-Tag:noindex
X-PUBLISHED-TTL:PT1H
BEGIN:VTIMEZONE
TZID:America/Chicago
BEGIN:DAYLIGHT
TZOFFSETFROM:-0600
TZOFFSETTO:-0500
TZNAME:CDT
DTSTART:20240310T080000
END:DAYLIGHT
BEGIN:STANDARD
TZOFFSETFROM:-0500
TZOFFSETTO:-0600
TZNAME:CST
DTSTART:20241103T070000
END:STANDARD
BEGIN:DAYLIGHT
TZOFFSETFROM:-0600
TZOFFSETTO:-0500
TZNAME:CDT
DTSTART:20250309T080000
END:DAYLIGHT
BEGIN:STANDARD
TZOFFSETFROM:-0500
TZOFFSETTO:-0600
TZNAME:CST
DTSTART:20251102T070000
END:STANDARD
BEGIN:DAYLIGHT
TZOFFSETFROM:-0600
TZOFFSETTO:-0500
TZNAME:CDT
DTSTART:20260308T080000
END:DAYLIGHT
BEGIN:STANDARD
TZOFFSETFROM:-0500
TZOFFSETTO:-0600
TZNAME:CST
DTSTART:20261101T070000
END:STANDARD
END:VTIMEZONE
BEGIN:VEVENT
DTSTART;TZID=America/Chicago:20251105T180000
DTEND;TZID=America/Chicago:20251105T190000
DTSTAMP:20260421T202557
CREATED:20241204T213629Z
LAST-MODIFIED:20260306T160529Z
UID:10002051-1762365600-1762369200@fpcjackson.org
SUMMARY:Midweek Adult Programs
DESCRIPTION:
URL:https://fpcjackson.org/event/midweek-adult-programs-2/2025-11-05/
LOCATION:Various\, 1390 North State Street\, Jackson\, MS\, 39202\, United States
CATEGORIES:Bible Study,Class,Discipleship,Midweek,Teaching
END:VEVENT
BEGIN:VEVENT
DTSTART;TZID=America/Chicago:20251112T180000
DTEND;TZID=America/Chicago:20251112T190000
DTSTAMP:20260421T202557
CREATED:20241204T213629Z
LAST-MODIFIED:20260306T160529Z
UID:10002052-1762970400-1762974000@fpcjackson.org
SUMMARY:Midweek Adult Programs
DESCRIPTION:
URL:https://fpcjackson.org/event/midweek-adult-programs-2/2025-11-12/
LOCATION:Various\, 1390 North State Street\, Jackson\, MS\, 39202\, United States
CATEGORIES:Bible Study,Class,Discipleship,Midweek,Teaching
END:VEVENT
BEGIN:VEVENT
DTSTART;TZID=America/Chicago:20251119T180000
DTEND;TZID=America/Chicago:20251119T190000
DTSTAMP:20260421T202557
CREATED:20241204T213629Z
LAST-MODIFIED:20260306T160529Z
UID:10002053-1763575200-1763578800@fpcjackson.org
SUMMARY:Midweek Adult Programs
DESCRIPTION:
URL:https://fpcjackson.org/event/midweek-adult-programs-2/2025-11-19/
LOCATION:Various\, 1390 North State Street\, Jackson\, MS\, 39202\, United States
CATEGORIES:Bible Study,Class,Discipleship,Midweek,Teaching
END:VEVENT
BEGIN:VEVENT
DTSTART;TZID=America/Chicago:20251126T180000
DTEND;TZID=America/Chicago:20251126T190000
DTSTAMP:20260421T202557
CREATED:20241204T213629Z
LAST-MODIFIED:20260306T160529Z
UID:10002054-1764180000-1764183600@fpcjackson.org
SUMMARY:Midweek Adult Programs
DESCRIPTION:
URL:https://fpcjackson.org/event/midweek-adult-programs-2/2025-11-26/
LOCATION:Various\, 1390 North State Street\, Jackson\, MS\, 39202\, United States
CATEGORIES:Bible Study,Class,Discipleship,Midweek,Teaching
END:VEVENT
BEGIN:VEVENT
DTSTART;TZID=America/Chicago:20251128T110000
DTEND;TZID=America/Chicago:20251128T140000
DTSTAMP:20260421T202557
CREATED:20251028T212734Z
LAST-MODIFIED:20251028T212734Z
UID:10018972-1764327600-1764338400@fpcjackson.org
SUMMARY:Thanksgiving Gathering
DESCRIPTION:Gather with your church family this Thanksgiving Day! Join us for an informal service at 11 a.m. in Miller Hall\, followed by a meal at 11:45. The church will provide the meat; please bring a side or dessert that serves at least eight. To sign up and share what you’ll bring\, call Emily Eastman (769-572-3535). Feel free to invite a friend or neighbor who may be alone this Thanksgiving!
URL:https://fpcjackson.org/event/thanksgiving-gathering-3/
LOCATION:FPC Jackson Campus\, 1390 North State Street\, Jackson\, MS\, 39202\, United States
CATEGORIES:Care and Support,Discipleship,Fellowship,Worship
ATTACH;FMTTYPE=image/png:https://fpcjackson.org/wp-content/uploads/2025/10/Thanksgiving-Gathering-2025.png
END:VEVENT
END:VCALENDAR