BEGIN:VCALENDAR
VERSION:2.0
PRODID:-//First Presbyterian Church - ECPv6.15.20//NONSGML v1.0//EN
CALSCALE:GREGORIAN
METHOD:PUBLISH
X-WR-CALNAME:First Presbyterian Church
X-ORIGINAL-URL:https://fpcjackson.org
X-WR-CALDESC:Events for First Presbyterian Church
REFRESH-INTERVAL;VALUE=DURATION:PT1H
X-Robots-Tag:noindex
X-PUBLISHED-TTL:PT1H
BEGIN:VTIMEZONE
TZID:America/Chicago
BEGIN:DAYLIGHT
TZOFFSETFROM:-0600
TZOFFSETTO:-0500
TZNAME:CDT
DTSTART:20270314T080000
END:DAYLIGHT
BEGIN:STANDARD
TZOFFSETFROM:-0500
TZOFFSETTO:-0600
TZNAME:CST
DTSTART:20271107T070000
END:STANDARD
BEGIN:DAYLIGHT
TZOFFSETFROM:-0600
TZOFFSETTO:-0500
TZNAME:CDT
DTSTART:20280312T080000
END:DAYLIGHT
BEGIN:STANDARD
TZOFFSETFROM:-0500
TZOFFSETTO:-0600
TZNAME:CST
DTSTART:20281105T070000
END:STANDARD
BEGIN:DAYLIGHT
TZOFFSETFROM:-0600
TZOFFSETTO:-0500
TZNAME:CDT
DTSTART:20290311T080000
END:DAYLIGHT
BEGIN:STANDARD
TZOFFSETFROM:-0500
TZOFFSETTO:-0600
TZNAME:CST
DTSTART:20291104T070000
END:STANDARD
END:VTIMEZONE
BEGIN:VEVENT
DTSTART;TZID=America/Chicago:20280507T094500
DTEND;TZID=America/Chicago:20280507T103000
DTSTAMP:20260422T165248
CREATED:20220916T133244Z
LAST-MODIFIED:20260306T155654Z
UID:10001124-1841305500-1841308200@fpcjackson.org
SUMMARY:College Sunday School
DESCRIPTION:
URL:https://fpcjackson.org/event/college-sunday-school/2028-05-07/
LOCATION:FPC Jackson Campus\, 1390 North State Street\, Jackson\, MS\, 39202\, United States
CATEGORIES:College
END:VEVENT
BEGIN:VEVENT
DTSTART;TZID=America/Chicago:20280514T094500
DTEND;TZID=America/Chicago:20280514T103000
DTSTAMP:20260422T165248
CREATED:20220916T133244Z
LAST-MODIFIED:20260306T155654Z
UID:10001125-1841910300-1841913000@fpcjackson.org
SUMMARY:College Sunday School
DESCRIPTION:
URL:https://fpcjackson.org/event/college-sunday-school/2028-05-14/
LOCATION:FPC Jackson Campus\, 1390 North State Street\, Jackson\, MS\, 39202\, United States
CATEGORIES:College
END:VEVENT
BEGIN:VEVENT
DTSTART;TZID=America/Chicago:20280521T094500
DTEND;TZID=America/Chicago:20280521T103000
DTSTAMP:20260422T165248
CREATED:20220916T133244Z
LAST-MODIFIED:20260306T155654Z
UID:10001126-1842515100-1842517800@fpcjackson.org
SUMMARY:College Sunday School
DESCRIPTION:
URL:https://fpcjackson.org/event/college-sunday-school/2028-05-21/
LOCATION:FPC Jackson Campus\, 1390 North State Street\, Jackson\, MS\, 39202\, United States
CATEGORIES:College
END:VEVENT
BEGIN:VEVENT
DTSTART;TZID=America/Chicago:20280528T094500
DTEND;TZID=America/Chicago:20280528T103000
DTSTAMP:20260422T165248
CREATED:20220916T133244Z
LAST-MODIFIED:20260306T155654Z
UID:10001127-1843119900-1843122600@fpcjackson.org
SUMMARY:College Sunday School
DESCRIPTION:
URL:https://fpcjackson.org/event/college-sunday-school/2028-05-28/
LOCATION:FPC Jackson Campus\, 1390 North State Street\, Jackson\, MS\, 39202\, United States
CATEGORIES:College
END:VEVENT
BEGIN:VEVENT
DTSTART;TZID=America/Chicago:20280604T094500
DTEND;TZID=America/Chicago:20280604T103000
DTSTAMP:20260422T165248
CREATED:20220916T133244Z
LAST-MODIFIED:20260306T155654Z
UID:10001128-1843724700-1843727400@fpcjackson.org
SUMMARY:College Sunday School
DESCRIPTION:
URL:https://fpcjackson.org/event/college-sunday-school/2028-06-04/
LOCATION:FPC Jackson Campus\, 1390 North State Street\, Jackson\, MS\, 39202\, United States
CATEGORIES:College
END:VEVENT
BEGIN:VEVENT
DTSTART;TZID=America/Chicago:20280611T094500
DTEND;TZID=America/Chicago:20280611T103000
DTSTAMP:20260422T165248
CREATED:20220916T133244Z
LAST-MODIFIED:20260306T155654Z
UID:10006005-1844329500-1844332200@fpcjackson.org
SUMMARY:College Sunday School
DESCRIPTION:
URL:https://fpcjackson.org/event/college-sunday-school/2028-06-11/
LOCATION:FPC Jackson Campus\, 1390 North State Street\, Jackson\, MS\, 39202\, United States
CATEGORIES:College
END:VEVENT
BEGIN:VEVENT
DTSTART;TZID=America/Chicago:20280618T094500
DTEND;TZID=America/Chicago:20280618T103000
DTSTAMP:20260422T165248
CREATED:20220916T133244Z
LAST-MODIFIED:20260306T155654Z
UID:10006006-1844934300-1844937000@fpcjackson.org
SUMMARY:College Sunday School
DESCRIPTION:
URL:https://fpcjackson.org/event/college-sunday-school/2028-06-18/
LOCATION:FPC Jackson Campus\, 1390 North State Street\, Jackson\, MS\, 39202\, United States
CATEGORIES:College
END:VEVENT
BEGIN:VEVENT
DTSTART;TZID=America/Chicago:20280625T094500
DTEND;TZID=America/Chicago:20280625T103000
DTSTAMP:20260422T165248
CREATED:20220916T133244Z
LAST-MODIFIED:20260306T155654Z
UID:10006007-1845539100-1845541800@fpcjackson.org
SUMMARY:College Sunday School
DESCRIPTION:
URL:https://fpcjackson.org/event/college-sunday-school/2028-06-25/
LOCATION:FPC Jackson Campus\, 1390 North State Street\, Jackson\, MS\, 39202\, United States
CATEGORIES:College
END:VEVENT
BEGIN:VEVENT
DTSTART;TZID=America/Chicago:20280702T094500
DTEND;TZID=America/Chicago:20280702T103000
DTSTAMP:20260422T165248
CREATED:20220916T133244Z
LAST-MODIFIED:20260306T155654Z
UID:10006008-1846143900-1846146600@fpcjackson.org
SUMMARY:College Sunday School
DESCRIPTION:
URL:https://fpcjackson.org/event/college-sunday-school/2028-07-02/
LOCATION:FPC Jackson Campus\, 1390 North State Street\, Jackson\, MS\, 39202\, United States
CATEGORIES:College
END:VEVENT
BEGIN:VEVENT
DTSTART;TZID=America/Chicago:20280709T094500
DTEND;TZID=America/Chicago:20280709T103000
DTSTAMP:20260422T165248
CREATED:20220916T133244Z
LAST-MODIFIED:20260306T155654Z
UID:10006009-1846748700-1846751400@fpcjackson.org
SUMMARY:College Sunday School
DESCRIPTION:
URL:https://fpcjackson.org/event/college-sunday-school/2028-07-09/
LOCATION:FPC Jackson Campus\, 1390 North State Street\, Jackson\, MS\, 39202\, United States
CATEGORIES:College
END:VEVENT
BEGIN:VEVENT
DTSTART;TZID=America/Chicago:20280716T094500
DTEND;TZID=America/Chicago:20280716T103000
DTSTAMP:20260422T165248
CREATED:20220916T133244Z
LAST-MODIFIED:20260306T155654Z
UID:10006010-1847353500-1847356200@fpcjackson.org
SUMMARY:College Sunday School
DESCRIPTION:
URL:https://fpcjackson.org/event/college-sunday-school/2028-07-16/
LOCATION:FPC Jackson Campus\, 1390 North State Street\, Jackson\, MS\, 39202\, United States
CATEGORIES:College
END:VEVENT
BEGIN:VEVENT
DTSTART;TZID=America/Chicago:20280723T094500
DTEND;TZID=America/Chicago:20280723T103000
DTSTAMP:20260422T165248
CREATED:20220916T133244Z
LAST-MODIFIED:20260306T155654Z
UID:10006011-1847958300-1847961000@fpcjackson.org
SUMMARY:College Sunday School
DESCRIPTION:
URL:https://fpcjackson.org/event/college-sunday-school/2028-07-23/
LOCATION:FPC Jackson Campus\, 1390 North State Street\, Jackson\, MS\, 39202\, United States
CATEGORIES:College
END:VEVENT
BEGIN:VEVENT
DTSTART;TZID=America/Chicago:20280730T094500
DTEND;TZID=America/Chicago:20280730T103000
DTSTAMP:20260422T165248
CREATED:20220916T133244Z
LAST-MODIFIED:20260306T155654Z
UID:10006012-1848563100-1848565800@fpcjackson.org
SUMMARY:College Sunday School
DESCRIPTION:
URL:https://fpcjackson.org/event/college-sunday-school/2028-07-30/
LOCATION:FPC Jackson Campus\, 1390 North State Street\, Jackson\, MS\, 39202\, United States
CATEGORIES:College
END:VEVENT
BEGIN:VEVENT
DTSTART;TZID=America/Chicago:20280806T094500
DTEND;TZID=America/Chicago:20280806T103000
DTSTAMP:20260422T165248
CREATED:20220916T133244Z
LAST-MODIFIED:20260306T155654Z
UID:10006013-1849167900-1849170600@fpcjackson.org
SUMMARY:College Sunday School
DESCRIPTION:
URL:https://fpcjackson.org/event/college-sunday-school/2028-08-06/
LOCATION:FPC Jackson Campus\, 1390 North State Street\, Jackson\, MS\, 39202\, United States
CATEGORIES:College
END:VEVENT
BEGIN:VEVENT
DTSTART;TZID=America/Chicago:20280813T094500
DTEND;TZID=America/Chicago:20280813T103000
DTSTAMP:20260422T165248
CREATED:20220916T133244Z
LAST-MODIFIED:20260306T155654Z
UID:10006014-1849772700-1849775400@fpcjackson.org
SUMMARY:College Sunday School
DESCRIPTION:
URL:https://fpcjackson.org/event/college-sunday-school/2028-08-13/
LOCATION:FPC Jackson Campus\, 1390 North State Street\, Jackson\, MS\, 39202\, United States
CATEGORIES:College
END:VEVENT
BEGIN:VEVENT
DTSTART;TZID=America/Chicago:20280820T094500
DTEND;TZID=America/Chicago:20280820T103000
DTSTAMP:20260422T165248
CREATED:20220916T133244Z
LAST-MODIFIED:20260306T155654Z
UID:10006015-1850377500-1850380200@fpcjackson.org
SUMMARY:College Sunday School
DESCRIPTION:
URL:https://fpcjackson.org/event/college-sunday-school/2028-08-20/
LOCATION:FPC Jackson Campus\, 1390 North State Street\, Jackson\, MS\, 39202\, United States
CATEGORIES:College
END:VEVENT
BEGIN:VEVENT
DTSTART;TZID=America/Chicago:20280827T094500
DTEND;TZID=America/Chicago:20280827T103000
DTSTAMP:20260422T165248
CREATED:20220916T133244Z
LAST-MODIFIED:20260306T155654Z
UID:10006016-1850982300-1850985000@fpcjackson.org
SUMMARY:College Sunday School
DESCRIPTION:
URL:https://fpcjackson.org/event/college-sunday-school/2028-08-27/
LOCATION:FPC Jackson Campus\, 1390 North State Street\, Jackson\, MS\, 39202\, United States
CATEGORIES:College
END:VEVENT
BEGIN:VEVENT
DTSTART;TZID=America/Chicago:20280903T094500
DTEND;TZID=America/Chicago:20280903T103000
DTSTAMP:20260422T165248
CREATED:20220916T133244Z
LAST-MODIFIED:20260306T155654Z
UID:10006017-1851587100-1851589800@fpcjackson.org
SUMMARY:College Sunday School
DESCRIPTION:
URL:https://fpcjackson.org/event/college-sunday-school/2028-09-03/
LOCATION:FPC Jackson Campus\, 1390 North State Street\, Jackson\, MS\, 39202\, United States
CATEGORIES:College
END:VEVENT
BEGIN:VEVENT
DTSTART;TZID=America/Chicago:20280910T094500
DTEND;TZID=America/Chicago:20280910T103000
DTSTAMP:20260422T165248
CREATED:20220916T133244Z
LAST-MODIFIED:20260306T155654Z
UID:10006018-1852191900-1852194600@fpcjackson.org
SUMMARY:College Sunday School
DESCRIPTION:
URL:https://fpcjackson.org/event/college-sunday-school/2028-09-10/
LOCATION:FPC Jackson Campus\, 1390 North State Street\, Jackson\, MS\, 39202\, United States
CATEGORIES:College
END:VEVENT
BEGIN:VEVENT
DTSTART;TZID=America/Chicago:20280917T094500
DTEND;TZID=America/Chicago:20280917T103000
DTSTAMP:20260422T165248
CREATED:20220916T133244Z
LAST-MODIFIED:20260306T155654Z
UID:10006019-1852796700-1852799400@fpcjackson.org
SUMMARY:College Sunday School
DESCRIPTION:
URL:https://fpcjackson.org/event/college-sunday-school/2028-09-17/
LOCATION:FPC Jackson Campus\, 1390 North State Street\, Jackson\, MS\, 39202\, United States
CATEGORIES:College
END:VEVENT
BEGIN:VEVENT
DTSTART;TZID=America/Chicago:20280924T094500
DTEND;TZID=America/Chicago:20280924T103000
DTSTAMP:20260422T165248
CREATED:20220916T133244Z
LAST-MODIFIED:20260306T155654Z
UID:10006020-1853401500-1853404200@fpcjackson.org
SUMMARY:College Sunday School
DESCRIPTION:
URL:https://fpcjackson.org/event/college-sunday-school/2028-09-24/
LOCATION:FPC Jackson Campus\, 1390 North State Street\, Jackson\, MS\, 39202\, United States
CATEGORIES:College
END:VEVENT
BEGIN:VEVENT
DTSTART;TZID=America/Chicago:20281001T094500
DTEND;TZID=America/Chicago:20281001T103000
DTSTAMP:20260422T165248
CREATED:20220916T133244Z
LAST-MODIFIED:20260306T155654Z
UID:10006021-1854006300-1854009000@fpcjackson.org
SUMMARY:College Sunday School
DESCRIPTION:
URL:https://fpcjackson.org/event/college-sunday-school/2028-10-01/
LOCATION:FPC Jackson Campus\, 1390 North State Street\, Jackson\, MS\, 39202\, United States
CATEGORIES:College
END:VEVENT
BEGIN:VEVENT
DTSTART;TZID=America/Chicago:20281008T094500
DTEND;TZID=America/Chicago:20281008T103000
DTSTAMP:20260422T165248
CREATED:20220916T133244Z
LAST-MODIFIED:20260306T155654Z
UID:10006022-1854611100-1854613800@fpcjackson.org
SUMMARY:College Sunday School
DESCRIPTION:
URL:https://fpcjackson.org/event/college-sunday-school/2028-10-08/
LOCATION:FPC Jackson Campus\, 1390 North State Street\, Jackson\, MS\, 39202\, United States
CATEGORIES:College
END:VEVENT
BEGIN:VEVENT
DTSTART;TZID=America/Chicago:20281015T094500
DTEND;TZID=America/Chicago:20281015T103000
DTSTAMP:20260422T165248
CREATED:20220916T133244Z
LAST-MODIFIED:20260306T155654Z
UID:10006023-1855215900-1855218600@fpcjackson.org
SUMMARY:College Sunday School
DESCRIPTION:
URL:https://fpcjackson.org/event/college-sunday-school/2028-10-15/
LOCATION:FPC Jackson Campus\, 1390 North State Street\, Jackson\, MS\, 39202\, United States
CATEGORIES:College
END:VEVENT
BEGIN:VEVENT
DTSTART;TZID=America/Chicago:20281022T094500
DTEND;TZID=America/Chicago:20281022T103000
DTSTAMP:20260422T165248
CREATED:20220916T133244Z
LAST-MODIFIED:20260306T155654Z
UID:10006024-1855820700-1855823400@fpcjackson.org
SUMMARY:College Sunday School
DESCRIPTION:
URL:https://fpcjackson.org/event/college-sunday-school/2028-10-22/
LOCATION:FPC Jackson Campus\, 1390 North State Street\, Jackson\, MS\, 39202\, United States
CATEGORIES:College
END:VEVENT
BEGIN:VEVENT
DTSTART;TZID=America/Chicago:20281029T094500
DTEND;TZID=America/Chicago:20281029T103000
DTSTAMP:20260422T165248
CREATED:20220916T133244Z
LAST-MODIFIED:20260306T155654Z
UID:10006025-1856425500-1856428200@fpcjackson.org
SUMMARY:College Sunday School
DESCRIPTION:
URL:https://fpcjackson.org/event/college-sunday-school/2028-10-29/
LOCATION:FPC Jackson Campus\, 1390 North State Street\, Jackson\, MS\, 39202\, United States
CATEGORIES:College
END:VEVENT
BEGIN:VEVENT
DTSTART;TZID=America/Chicago:20281105T094500
DTEND;TZID=America/Chicago:20281105T103000
DTSTAMP:20260422T165248
CREATED:20220916T133244Z
LAST-MODIFIED:20260306T155654Z
UID:10006026-1857030300-1857033000@fpcjackson.org
SUMMARY:College Sunday School
DESCRIPTION:
URL:https://fpcjackson.org/event/college-sunday-school/2028-11-05/
LOCATION:FPC Jackson Campus\, 1390 North State Street\, Jackson\, MS\, 39202\, United States
CATEGORIES:College
END:VEVENT
BEGIN:VEVENT
DTSTART;TZID=America/Chicago:20281112T094500
DTEND;TZID=America/Chicago:20281112T103000
DTSTAMP:20260422T165248
CREATED:20220916T133244Z
LAST-MODIFIED:20260306T155654Z
UID:10006027-1857635100-1857637800@fpcjackson.org
SUMMARY:College Sunday School
DESCRIPTION:
URL:https://fpcjackson.org/event/college-sunday-school/2028-11-12/
LOCATION:FPC Jackson Campus\, 1390 North State Street\, Jackson\, MS\, 39202\, United States
CATEGORIES:College
END:VEVENT
BEGIN:VEVENT
DTSTART;TZID=America/Chicago:20281119T094500
DTEND;TZID=America/Chicago:20281119T103000
DTSTAMP:20260422T165248
CREATED:20220916T133244Z
LAST-MODIFIED:20260306T155654Z
UID:10006028-1858239900-1858242600@fpcjackson.org
SUMMARY:College Sunday School
DESCRIPTION:
URL:https://fpcjackson.org/event/college-sunday-school/2028-11-19/
LOCATION:FPC Jackson Campus\, 1390 North State Street\, Jackson\, MS\, 39202\, United States
CATEGORIES:College
END:VEVENT
BEGIN:VEVENT
DTSTART;TZID=America/Chicago:20281126T094500
DTEND;TZID=America/Chicago:20281126T103000
DTSTAMP:20260422T165248
CREATED:20220916T133244Z
LAST-MODIFIED:20260306T155654Z
UID:10006029-1858844700-1858847400@fpcjackson.org
SUMMARY:College Sunday School
DESCRIPTION:
URL:https://fpcjackson.org/event/college-sunday-school/2028-11-26/
LOCATION:FPC Jackson Campus\, 1390 North State Street\, Jackson\, MS\, 39202\, United States
CATEGORIES:College
END:VEVENT
END:VCALENDAR