BEGIN:VCALENDAR
VERSION:2.0
PRODID:-//First Presbyterian Church - ECPv6.15.20//NONSGML v1.0//EN
CALSCALE:GREGORIAN
METHOD:PUBLISH
X-WR-CALNAME:First Presbyterian Church
X-ORIGINAL-URL:https://fpcjackson.org
X-WR-CALDESC:Events for First Presbyterian Church
REFRESH-INTERVAL;VALUE=DURATION:PT1H
X-Robots-Tag:noindex
X-PUBLISHED-TTL:PT1H
BEGIN:VTIMEZONE
TZID:America/Chicago
BEGIN:DAYLIGHT
TZOFFSETFROM:-0600
TZOFFSETTO:-0500
TZNAME:CDT
DTSTART:20260308T080000
END:DAYLIGHT
BEGIN:STANDARD
TZOFFSETFROM:-0500
TZOFFSETTO:-0600
TZNAME:CST
DTSTART:20261101T070000
END:STANDARD
BEGIN:DAYLIGHT
TZOFFSETFROM:-0600
TZOFFSETTO:-0500
TZNAME:CDT
DTSTART:20270314T080000
END:DAYLIGHT
BEGIN:STANDARD
TZOFFSETFROM:-0500
TZOFFSETTO:-0600
TZNAME:CST
DTSTART:20271107T070000
END:STANDARD
BEGIN:DAYLIGHT
TZOFFSETFROM:-0600
TZOFFSETTO:-0500
TZNAME:CDT
DTSTART:20280312T080000
END:DAYLIGHT
BEGIN:STANDARD
TZOFFSETFROM:-0500
TZOFFSETTO:-0600
TZNAME:CST
DTSTART:20281105T070000
END:STANDARD
BEGIN:DAYLIGHT
TZOFFSETFROM:-0600
TZOFFSETTO:-0500
TZNAME:CDT
DTSTART:20290311T080000
END:DAYLIGHT
BEGIN:STANDARD
TZOFFSETFROM:-0500
TZOFFSETTO:-0600
TZNAME:CST
DTSTART:20291104T070000
END:STANDARD
END:VTIMEZONE
BEGIN:VEVENT
DTSTART;TZID=America/Chicago:20270829T094500
DTEND;TZID=America/Chicago:20270829T103000
DTSTAMP:20260422T174809
CREATED:20220916T133244Z
LAST-MODIFIED:20260306T155654Z
UID:10001088-1819532700-1819535400@fpcjackson.org
SUMMARY:College Sunday School
DESCRIPTION:
URL:https://fpcjackson.org/event/college-sunday-school/2027-08-29/
LOCATION:FPC Jackson Campus\, 1390 North State Street\, Jackson\, MS\, 39202\, United States
CATEGORIES:College
END:VEVENT
BEGIN:VEVENT
DTSTART;TZID=America/Chicago:20270905T094500
DTEND;TZID=America/Chicago:20270905T103000
DTSTAMP:20260422T174809
CREATED:20220916T133244Z
LAST-MODIFIED:20260306T155654Z
UID:10001089-1820137500-1820140200@fpcjackson.org
SUMMARY:College Sunday School
DESCRIPTION:
URL:https://fpcjackson.org/event/college-sunday-school/2027-09-05/
LOCATION:FPC Jackson Campus\, 1390 North State Street\, Jackson\, MS\, 39202\, United States
CATEGORIES:College
END:VEVENT
BEGIN:VEVENT
DTSTART;TZID=America/Chicago:20270912T094500
DTEND;TZID=America/Chicago:20270912T103000
DTSTAMP:20260422T174809
CREATED:20220916T133244Z
LAST-MODIFIED:20260306T155654Z
UID:10001090-1820742300-1820745000@fpcjackson.org
SUMMARY:College Sunday School
DESCRIPTION:
URL:https://fpcjackson.org/event/college-sunday-school/2027-09-12/
LOCATION:FPC Jackson Campus\, 1390 North State Street\, Jackson\, MS\, 39202\, United States
CATEGORIES:College
END:VEVENT
BEGIN:VEVENT
DTSTART;TZID=America/Chicago:20270919T094500
DTEND;TZID=America/Chicago:20270919T103000
DTSTAMP:20260422T174809
CREATED:20220916T133244Z
LAST-MODIFIED:20260306T155654Z
UID:10001091-1821347100-1821349800@fpcjackson.org
SUMMARY:College Sunday School
DESCRIPTION:
URL:https://fpcjackson.org/event/college-sunday-school/2027-09-19/
LOCATION:FPC Jackson Campus\, 1390 North State Street\, Jackson\, MS\, 39202\, United States
CATEGORIES:College
END:VEVENT
BEGIN:VEVENT
DTSTART;TZID=America/Chicago:20270926T094500
DTEND;TZID=America/Chicago:20270926T103000
DTSTAMP:20260422T174809
CREATED:20220916T133244Z
LAST-MODIFIED:20260306T155654Z
UID:10001092-1821951900-1821954600@fpcjackson.org
SUMMARY:College Sunday School
DESCRIPTION:
URL:https://fpcjackson.org/event/college-sunday-school/2027-09-26/
LOCATION:FPC Jackson Campus\, 1390 North State Street\, Jackson\, MS\, 39202\, United States
CATEGORIES:College
END:VEVENT
BEGIN:VEVENT
DTSTART;TZID=America/Chicago:20271003T094500
DTEND;TZID=America/Chicago:20271003T103000
DTSTAMP:20260422T174809
CREATED:20220916T133244Z
LAST-MODIFIED:20260306T155654Z
UID:10001093-1822556700-1822559400@fpcjackson.org
SUMMARY:College Sunday School
DESCRIPTION:
URL:https://fpcjackson.org/event/college-sunday-school/2027-10-03/
LOCATION:FPC Jackson Campus\, 1390 North State Street\, Jackson\, MS\, 39202\, United States
CATEGORIES:College
END:VEVENT
BEGIN:VEVENT
DTSTART;TZID=America/Chicago:20271010T094500
DTEND;TZID=America/Chicago:20271010T103000
DTSTAMP:20260422T174809
CREATED:20220916T133244Z
LAST-MODIFIED:20260306T155654Z
UID:10001094-1823161500-1823164200@fpcjackson.org
SUMMARY:College Sunday School
DESCRIPTION:
URL:https://fpcjackson.org/event/college-sunday-school/2027-10-10/
LOCATION:FPC Jackson Campus\, 1390 North State Street\, Jackson\, MS\, 39202\, United States
CATEGORIES:College
END:VEVENT
BEGIN:VEVENT
DTSTART;TZID=America/Chicago:20271017T094500
DTEND;TZID=America/Chicago:20271017T103000
DTSTAMP:20260422T174809
CREATED:20220916T133244Z
LAST-MODIFIED:20260306T155654Z
UID:10001095-1823766300-1823769000@fpcjackson.org
SUMMARY:College Sunday School
DESCRIPTION:
URL:https://fpcjackson.org/event/college-sunday-school/2027-10-17/
LOCATION:FPC Jackson Campus\, 1390 North State Street\, Jackson\, MS\, 39202\, United States
CATEGORIES:College
END:VEVENT
BEGIN:VEVENT
DTSTART;TZID=America/Chicago:20271024T094500
DTEND;TZID=America/Chicago:20271024T103000
DTSTAMP:20260422T174809
CREATED:20220916T133244Z
LAST-MODIFIED:20260306T155654Z
UID:10001096-1824371100-1824373800@fpcjackson.org
SUMMARY:College Sunday School
DESCRIPTION:
URL:https://fpcjackson.org/event/college-sunday-school/2027-10-24/
LOCATION:FPC Jackson Campus\, 1390 North State Street\, Jackson\, MS\, 39202\, United States
CATEGORIES:College
END:VEVENT
BEGIN:VEVENT
DTSTART;TZID=America/Chicago:20271031T094500
DTEND;TZID=America/Chicago:20271031T103000
DTSTAMP:20260422T174809
CREATED:20220916T133244Z
LAST-MODIFIED:20260306T155654Z
UID:10001097-1824975900-1824978600@fpcjackson.org
SUMMARY:College Sunday School
DESCRIPTION:
URL:https://fpcjackson.org/event/college-sunday-school/2027-10-31/
LOCATION:FPC Jackson Campus\, 1390 North State Street\, Jackson\, MS\, 39202\, United States
CATEGORIES:College
END:VEVENT
BEGIN:VEVENT
DTSTART;TZID=America/Chicago:20271107T094500
DTEND;TZID=America/Chicago:20271107T103000
DTSTAMP:20260422T174809
CREATED:20220916T133244Z
LAST-MODIFIED:20260306T155654Z
UID:10001098-1825580700-1825583400@fpcjackson.org
SUMMARY:College Sunday School
DESCRIPTION:
URL:https://fpcjackson.org/event/college-sunday-school/2027-11-07/
LOCATION:FPC Jackson Campus\, 1390 North State Street\, Jackson\, MS\, 39202\, United States
CATEGORIES:College
END:VEVENT
BEGIN:VEVENT
DTSTART;TZID=America/Chicago:20271114T094500
DTEND;TZID=America/Chicago:20271114T103000
DTSTAMP:20260422T174809
CREATED:20220916T133244Z
LAST-MODIFIED:20260306T155654Z
UID:10001099-1826185500-1826188200@fpcjackson.org
SUMMARY:College Sunday School
DESCRIPTION:
URL:https://fpcjackson.org/event/college-sunday-school/2027-11-14/
LOCATION:FPC Jackson Campus\, 1390 North State Street\, Jackson\, MS\, 39202\, United States
CATEGORIES:College
END:VEVENT
BEGIN:VEVENT
DTSTART;TZID=America/Chicago:20271121T094500
DTEND;TZID=America/Chicago:20271121T103000
DTSTAMP:20260422T174809
CREATED:20220916T133244Z
LAST-MODIFIED:20260306T155654Z
UID:10001100-1826790300-1826793000@fpcjackson.org
SUMMARY:College Sunday School
DESCRIPTION:
URL:https://fpcjackson.org/event/college-sunday-school/2027-11-21/
LOCATION:FPC Jackson Campus\, 1390 North State Street\, Jackson\, MS\, 39202\, United States
CATEGORIES:College
END:VEVENT
BEGIN:VEVENT
DTSTART;TZID=America/Chicago:20271128T094500
DTEND;TZID=America/Chicago:20271128T103000
DTSTAMP:20260422T174809
CREATED:20220916T133244Z
LAST-MODIFIED:20260306T155654Z
UID:10001101-1827395100-1827397800@fpcjackson.org
SUMMARY:College Sunday School
DESCRIPTION:
URL:https://fpcjackson.org/event/college-sunday-school/2027-11-28/
LOCATION:FPC Jackson Campus\, 1390 North State Street\, Jackson\, MS\, 39202\, United States
CATEGORIES:College
END:VEVENT
BEGIN:VEVENT
DTSTART;TZID=America/Chicago:20271205T094500
DTEND;TZID=America/Chicago:20271205T103000
DTSTAMP:20260422T174809
CREATED:20220916T133244Z
LAST-MODIFIED:20260306T155654Z
UID:10001102-1827999900-1828002600@fpcjackson.org
SUMMARY:College Sunday School
DESCRIPTION:
URL:https://fpcjackson.org/event/college-sunday-school/2027-12-05/
LOCATION:FPC Jackson Campus\, 1390 North State Street\, Jackson\, MS\, 39202\, United States
CATEGORIES:College
END:VEVENT
BEGIN:VEVENT
DTSTART;TZID=America/Chicago:20271212T094500
DTEND;TZID=America/Chicago:20271212T103000
DTSTAMP:20260422T174809
CREATED:20220916T133244Z
LAST-MODIFIED:20260306T155654Z
UID:10001103-1828604700-1828607400@fpcjackson.org
SUMMARY:College Sunday School
DESCRIPTION:
URL:https://fpcjackson.org/event/college-sunday-school/2027-12-12/
LOCATION:FPC Jackson Campus\, 1390 North State Street\, Jackson\, MS\, 39202\, United States
CATEGORIES:College
END:VEVENT
BEGIN:VEVENT
DTSTART;TZID=America/Chicago:20271219T094500
DTEND;TZID=America/Chicago:20271219T103000
DTSTAMP:20260422T174809
CREATED:20220916T133244Z
LAST-MODIFIED:20260306T155654Z
UID:10001104-1829209500-1829212200@fpcjackson.org
SUMMARY:College Sunday School
DESCRIPTION:
URL:https://fpcjackson.org/event/college-sunday-school/2027-12-19/
LOCATION:FPC Jackson Campus\, 1390 North State Street\, Jackson\, MS\, 39202\, United States
CATEGORIES:College
END:VEVENT
BEGIN:VEVENT
DTSTART;TZID=America/Chicago:20271226T094500
DTEND;TZID=America/Chicago:20271226T103000
DTSTAMP:20260422T174809
CREATED:20220916T133244Z
LAST-MODIFIED:20260306T155654Z
UID:10001105-1829814300-1829817000@fpcjackson.org
SUMMARY:College Sunday School
DESCRIPTION:
URL:https://fpcjackson.org/event/college-sunday-school/2027-12-26/
LOCATION:FPC Jackson Campus\, 1390 North State Street\, Jackson\, MS\, 39202\, United States
CATEGORIES:College
END:VEVENT
BEGIN:VEVENT
DTSTART;TZID=America/Chicago:20280102T094500
DTEND;TZID=America/Chicago:20280102T103000
DTSTAMP:20260422T174809
CREATED:20220916T133244Z
LAST-MODIFIED:20260306T155654Z
UID:10001106-1830419100-1830421800@fpcjackson.org
SUMMARY:College Sunday School
DESCRIPTION:
URL:https://fpcjackson.org/event/college-sunday-school/2028-01-02/
LOCATION:FPC Jackson Campus\, 1390 North State Street\, Jackson\, MS\, 39202\, United States
CATEGORIES:College
END:VEVENT
BEGIN:VEVENT
DTSTART;TZID=America/Chicago:20280109T094500
DTEND;TZID=America/Chicago:20280109T103000
DTSTAMP:20260422T174809
CREATED:20220916T133244Z
LAST-MODIFIED:20260306T155654Z
UID:10001107-1831023900-1831026600@fpcjackson.org
SUMMARY:College Sunday School
DESCRIPTION:
URL:https://fpcjackson.org/event/college-sunday-school/2028-01-09/
LOCATION:FPC Jackson Campus\, 1390 North State Street\, Jackson\, MS\, 39202\, United States
CATEGORIES:College
END:VEVENT
BEGIN:VEVENT
DTSTART;TZID=America/Chicago:20280116T094500
DTEND;TZID=America/Chicago:20280116T103000
DTSTAMP:20260422T174809
CREATED:20220916T133244Z
LAST-MODIFIED:20260306T155654Z
UID:10001108-1831628700-1831631400@fpcjackson.org
SUMMARY:College Sunday School
DESCRIPTION:
URL:https://fpcjackson.org/event/college-sunday-school/2028-01-16/
LOCATION:FPC Jackson Campus\, 1390 North State Street\, Jackson\, MS\, 39202\, United States
CATEGORIES:College
END:VEVENT
BEGIN:VEVENT
DTSTART;TZID=America/Chicago:20280123T094500
DTEND;TZID=America/Chicago:20280123T103000
DTSTAMP:20260422T174809
CREATED:20220916T133244Z
LAST-MODIFIED:20260306T155654Z
UID:10001109-1832233500-1832236200@fpcjackson.org
SUMMARY:College Sunday School
DESCRIPTION:
URL:https://fpcjackson.org/event/college-sunday-school/2028-01-23/
LOCATION:FPC Jackson Campus\, 1390 North State Street\, Jackson\, MS\, 39202\, United States
CATEGORIES:College
END:VEVENT
BEGIN:VEVENT
DTSTART;TZID=America/Chicago:20280130T094500
DTEND;TZID=America/Chicago:20280130T103000
DTSTAMP:20260422T174809
CREATED:20220916T133244Z
LAST-MODIFIED:20260306T155654Z
UID:10001110-1832838300-1832841000@fpcjackson.org
SUMMARY:College Sunday School
DESCRIPTION:
URL:https://fpcjackson.org/event/college-sunday-school/2028-01-30/
LOCATION:FPC Jackson Campus\, 1390 North State Street\, Jackson\, MS\, 39202\, United States
CATEGORIES:College
END:VEVENT
BEGIN:VEVENT
DTSTART;TZID=America/Chicago:20280206T094500
DTEND;TZID=America/Chicago:20280206T103000
DTSTAMP:20260422T174809
CREATED:20220916T133244Z
LAST-MODIFIED:20260306T155654Z
UID:10001111-1833443100-1833445800@fpcjackson.org
SUMMARY:College Sunday School
DESCRIPTION:
URL:https://fpcjackson.org/event/college-sunday-school/2028-02-06/
LOCATION:FPC Jackson Campus\, 1390 North State Street\, Jackson\, MS\, 39202\, United States
CATEGORIES:College
END:VEVENT
BEGIN:VEVENT
DTSTART;TZID=America/Chicago:20280213T094500
DTEND;TZID=America/Chicago:20280213T103000
DTSTAMP:20260422T174809
CREATED:20220916T133244Z
LAST-MODIFIED:20260306T155654Z
UID:10001112-1834047900-1834050600@fpcjackson.org
SUMMARY:College Sunday School
DESCRIPTION:
URL:https://fpcjackson.org/event/college-sunday-school/2028-02-13/
LOCATION:FPC Jackson Campus\, 1390 North State Street\, Jackson\, MS\, 39202\, United States
CATEGORIES:College
END:VEVENT
BEGIN:VEVENT
DTSTART;TZID=America/Chicago:20280220T094500
DTEND;TZID=America/Chicago:20280220T103000
DTSTAMP:20260422T174809
CREATED:20220916T133244Z
LAST-MODIFIED:20260306T155654Z
UID:10001113-1834652700-1834655400@fpcjackson.org
SUMMARY:College Sunday School
DESCRIPTION:
URL:https://fpcjackson.org/event/college-sunday-school/2028-02-20/
LOCATION:FPC Jackson Campus\, 1390 North State Street\, Jackson\, MS\, 39202\, United States
CATEGORIES:College
END:VEVENT
BEGIN:VEVENT
DTSTART;TZID=America/Chicago:20280227T094500
DTEND;TZID=America/Chicago:20280227T103000
DTSTAMP:20260422T174809
CREATED:20220916T133244Z
LAST-MODIFIED:20260306T155654Z
UID:10001114-1835257500-1835260200@fpcjackson.org
SUMMARY:College Sunday School
DESCRIPTION:
URL:https://fpcjackson.org/event/college-sunday-school/2028-02-27/
LOCATION:FPC Jackson Campus\, 1390 North State Street\, Jackson\, MS\, 39202\, United States
CATEGORIES:College
END:VEVENT
BEGIN:VEVENT
DTSTART;TZID=America/Chicago:20280305T094500
DTEND;TZID=America/Chicago:20280305T103000
DTSTAMP:20260422T174809
CREATED:20220916T133244Z
LAST-MODIFIED:20260306T155654Z
UID:10001115-1835862300-1835865000@fpcjackson.org
SUMMARY:College Sunday School
DESCRIPTION:
URL:https://fpcjackson.org/event/college-sunday-school/2028-03-05/
LOCATION:FPC Jackson Campus\, 1390 North State Street\, Jackson\, MS\, 39202\, United States
CATEGORIES:College
END:VEVENT
BEGIN:VEVENT
DTSTART;TZID=America/Chicago:20280312T094500
DTEND;TZID=America/Chicago:20280312T103000
DTSTAMP:20260422T174809
CREATED:20220916T133244Z
LAST-MODIFIED:20260306T155654Z
UID:10001116-1836467100-1836469800@fpcjackson.org
SUMMARY:College Sunday School
DESCRIPTION:
URL:https://fpcjackson.org/event/college-sunday-school/2028-03-12/
LOCATION:FPC Jackson Campus\, 1390 North State Street\, Jackson\, MS\, 39202\, United States
CATEGORIES:College
END:VEVENT
BEGIN:VEVENT
DTSTART;TZID=America/Chicago:20280319T094500
DTEND;TZID=America/Chicago:20280319T103000
DTSTAMP:20260422T174809
CREATED:20220916T133244Z
LAST-MODIFIED:20260306T155654Z
UID:10001117-1837071900-1837074600@fpcjackson.org
SUMMARY:College Sunday School
DESCRIPTION:
URL:https://fpcjackson.org/event/college-sunday-school/2028-03-19/
LOCATION:FPC Jackson Campus\, 1390 North State Street\, Jackson\, MS\, 39202\, United States
CATEGORIES:College
END:VEVENT
END:VCALENDAR