BEGIN:VCALENDAR
VERSION:2.0
PRODID:-//First Presbyterian Church - ECPv6.15.20//NONSGML v1.0//EN
CALSCALE:GREGORIAN
METHOD:PUBLISH
X-ORIGINAL-URL:https://fpcjackson.org
X-WR-CALDESC:Events for First Presbyterian Church
REFRESH-INTERVAL;VALUE=DURATION:PT1H
X-Robots-Tag:noindex
X-PUBLISHED-TTL:PT1H
BEGIN:VTIMEZONE
TZID:America/Chicago
BEGIN:DAYLIGHT
TZOFFSETFROM:-0600
TZOFFSETTO:-0500
TZNAME:CDT
DTSTART:20250309T080000
END:DAYLIGHT
BEGIN:STANDARD
TZOFFSETFROM:-0500
TZOFFSETTO:-0600
TZNAME:CST
DTSTART:20251102T070000
END:STANDARD
BEGIN:DAYLIGHT
TZOFFSETFROM:-0600
TZOFFSETTO:-0500
TZNAME:CDT
DTSTART:20260308T080000
END:DAYLIGHT
BEGIN:STANDARD
TZOFFSETFROM:-0500
TZOFFSETTO:-0600
TZNAME:CST
DTSTART:20261101T070000
END:STANDARD
BEGIN:DAYLIGHT
TZOFFSETFROM:-0600
TZOFFSETTO:-0500
TZNAME:CDT
DTSTART:20270314T080000
END:DAYLIGHT
BEGIN:STANDARD
TZOFFSETFROM:-0500
TZOFFSETTO:-0600
TZNAME:CST
DTSTART:20271107T070000
END:STANDARD
BEGIN:DAYLIGHT
TZOFFSETFROM:-0600
TZOFFSETTO:-0500
TZNAME:CDT
DTSTART:20280312T080000
END:DAYLIGHT
BEGIN:STANDARD
TZOFFSETFROM:-0500
TZOFFSETTO:-0600
TZNAME:CST
DTSTART:20281105T070000
END:STANDARD
END:VTIMEZONE
BEGIN:VEVENT
DTSTART;TZID=America/Chicago:20260913T094500
DTEND;TZID=America/Chicago:20260913T103000
DTSTAMP:20260422T011024
CREATED:20220916T133244Z
LAST-MODIFIED:20260306T155654Z
UID:10001038-1789292700-1789295400@fpcjackson.org
SUMMARY:College Sunday School
DESCRIPTION:
URL:https://fpcjackson.org/event/college-sunday-school/2026-09-13/
LOCATION:FPC Jackson Campus\, 1390 North State Street\, Jackson\, MS\, 39202\, United States
CATEGORIES:College
END:VEVENT
BEGIN:VEVENT
DTSTART;TZID=America/Chicago:20260920T094500
DTEND;TZID=America/Chicago:20260920T103000
DTSTAMP:20260422T011024
CREATED:20220916T133244Z
LAST-MODIFIED:20260306T155654Z
UID:10001039-1789897500-1789900200@fpcjackson.org
SUMMARY:College Sunday School
DESCRIPTION:
URL:https://fpcjackson.org/event/college-sunday-school/2026-09-20/
LOCATION:FPC Jackson Campus\, 1390 North State Street\, Jackson\, MS\, 39202\, United States
CATEGORIES:College
END:VEVENT
BEGIN:VEVENT
DTSTART;TZID=America/Chicago:20260927T094500
DTEND;TZID=America/Chicago:20260927T103000
DTSTAMP:20260422T011024
CREATED:20220916T133244Z
LAST-MODIFIED:20260306T155654Z
UID:10001040-1790502300-1790505000@fpcjackson.org
SUMMARY:College Sunday School
DESCRIPTION:
URL:https://fpcjackson.org/event/college-sunday-school/2026-09-27/
LOCATION:FPC Jackson Campus\, 1390 North State Street\, Jackson\, MS\, 39202\, United States
CATEGORIES:College
END:VEVENT
BEGIN:VEVENT
DTSTART;TZID=America/Chicago:20261004T094500
DTEND;TZID=America/Chicago:20261004T103000
DTSTAMP:20260422T011024
CREATED:20220916T133244Z
LAST-MODIFIED:20260306T155654Z
UID:10001041-1791107100-1791109800@fpcjackson.org
SUMMARY:College Sunday School
DESCRIPTION:
URL:https://fpcjackson.org/event/college-sunday-school/2026-10-04/
LOCATION:FPC Jackson Campus\, 1390 North State Street\, Jackson\, MS\, 39202\, United States
CATEGORIES:College
END:VEVENT
BEGIN:VEVENT
DTSTART;TZID=America/Chicago:20261011T094500
DTEND;TZID=America/Chicago:20261011T103000
DTSTAMP:20260422T011024
CREATED:20220916T133244Z
LAST-MODIFIED:20260306T155654Z
UID:10001042-1791711900-1791714600@fpcjackson.org
SUMMARY:College Sunday School
DESCRIPTION:
URL:https://fpcjackson.org/event/college-sunday-school/2026-10-11/
LOCATION:FPC Jackson Campus\, 1390 North State Street\, Jackson\, MS\, 39202\, United States
CATEGORIES:College
END:VEVENT
BEGIN:VEVENT
DTSTART;TZID=America/Chicago:20261018T094500
DTEND;TZID=America/Chicago:20261018T103000
DTSTAMP:20260422T011024
CREATED:20220916T133244Z
LAST-MODIFIED:20260306T155654Z
UID:10001043-1792316700-1792319400@fpcjackson.org
SUMMARY:College Sunday School
DESCRIPTION:
URL:https://fpcjackson.org/event/college-sunday-school/2026-10-18/
LOCATION:FPC Jackson Campus\, 1390 North State Street\, Jackson\, MS\, 39202\, United States
CATEGORIES:College
END:VEVENT
BEGIN:VEVENT
DTSTART;TZID=America/Chicago:20261025T094500
DTEND;TZID=America/Chicago:20261025T103000
DTSTAMP:20260422T011024
CREATED:20220916T133244Z
LAST-MODIFIED:20260306T155654Z
UID:10001044-1792921500-1792924200@fpcjackson.org
SUMMARY:College Sunday School
DESCRIPTION:
URL:https://fpcjackson.org/event/college-sunday-school/2026-10-25/
LOCATION:FPC Jackson Campus\, 1390 North State Street\, Jackson\, MS\, 39202\, United States
CATEGORIES:College
END:VEVENT
BEGIN:VEVENT
DTSTART;TZID=America/Chicago:20261101T094500
DTEND;TZID=America/Chicago:20261101T103000
DTSTAMP:20260422T011024
CREATED:20220916T133244Z
LAST-MODIFIED:20260306T155654Z
UID:10001045-1793526300-1793529000@fpcjackson.org
SUMMARY:College Sunday School
DESCRIPTION:
URL:https://fpcjackson.org/event/college-sunday-school/2026-11-01/
LOCATION:FPC Jackson Campus\, 1390 North State Street\, Jackson\, MS\, 39202\, United States
CATEGORIES:College
END:VEVENT
BEGIN:VEVENT
DTSTART;TZID=America/Chicago:20261108T094500
DTEND;TZID=America/Chicago:20261108T103000
DTSTAMP:20260422T011024
CREATED:20220916T133244Z
LAST-MODIFIED:20260306T155654Z
UID:10001046-1794131100-1794133800@fpcjackson.org
SUMMARY:College Sunday School
DESCRIPTION:
URL:https://fpcjackson.org/event/college-sunday-school/2026-11-08/
LOCATION:FPC Jackson Campus\, 1390 North State Street\, Jackson\, MS\, 39202\, United States
CATEGORIES:College
END:VEVENT
BEGIN:VEVENT
DTSTART;TZID=America/Chicago:20261115T094500
DTEND;TZID=America/Chicago:20261115T103000
DTSTAMP:20260422T011024
CREATED:20220916T133244Z
LAST-MODIFIED:20260306T155654Z
UID:10001047-1794735900-1794738600@fpcjackson.org
SUMMARY:College Sunday School
DESCRIPTION:
URL:https://fpcjackson.org/event/college-sunday-school/2026-11-15/
LOCATION:FPC Jackson Campus\, 1390 North State Street\, Jackson\, MS\, 39202\, United States
CATEGORIES:College
END:VEVENT
BEGIN:VEVENT
DTSTART;TZID=America/Chicago:20261122T094500
DTEND;TZID=America/Chicago:20261122T103000
DTSTAMP:20260422T011024
CREATED:20220916T133244Z
LAST-MODIFIED:20260306T155654Z
UID:10001048-1795340700-1795343400@fpcjackson.org
SUMMARY:College Sunday School
DESCRIPTION:
URL:https://fpcjackson.org/event/college-sunday-school/2026-11-22/
LOCATION:FPC Jackson Campus\, 1390 North State Street\, Jackson\, MS\, 39202\, United States
CATEGORIES:College
END:VEVENT
BEGIN:VEVENT
DTSTART;TZID=America/Chicago:20261129T094500
DTEND;TZID=America/Chicago:20261129T103000
DTSTAMP:20260422T011024
CREATED:20220916T133244Z
LAST-MODIFIED:20260306T155654Z
UID:10001049-1795945500-1795948200@fpcjackson.org
SUMMARY:College Sunday School
DESCRIPTION:
URL:https://fpcjackson.org/event/college-sunday-school/2026-11-29/
LOCATION:FPC Jackson Campus\, 1390 North State Street\, Jackson\, MS\, 39202\, United States
CATEGORIES:College
END:VEVENT
BEGIN:VEVENT
DTSTART;TZID=America/Chicago:20261206T094500
DTEND;TZID=America/Chicago:20261206T103000
DTSTAMP:20260422T011024
CREATED:20220916T133244Z
LAST-MODIFIED:20260306T155654Z
UID:10001050-1796550300-1796553000@fpcjackson.org
SUMMARY:College Sunday School
DESCRIPTION:
URL:https://fpcjackson.org/event/college-sunday-school/2026-12-06/
LOCATION:FPC Jackson Campus\, 1390 North State Street\, Jackson\, MS\, 39202\, United States
CATEGORIES:College
END:VEVENT
BEGIN:VEVENT
DTSTART;TZID=America/Chicago:20261213T094500
DTEND;TZID=America/Chicago:20261213T103000
DTSTAMP:20260422T011024
CREATED:20220916T133244Z
LAST-MODIFIED:20260306T155654Z
UID:10001051-1797155100-1797157800@fpcjackson.org
SUMMARY:College Sunday School
DESCRIPTION:
URL:https://fpcjackson.org/event/college-sunday-school/2026-12-13/
LOCATION:FPC Jackson Campus\, 1390 North State Street\, Jackson\, MS\, 39202\, United States
CATEGORIES:College
END:VEVENT
BEGIN:VEVENT
DTSTART;TZID=America/Chicago:20261220T094500
DTEND;TZID=America/Chicago:20261220T103000
DTSTAMP:20260422T011024
CREATED:20220916T133244Z
LAST-MODIFIED:20260306T155654Z
UID:10001052-1797759900-1797762600@fpcjackson.org
SUMMARY:College Sunday School
DESCRIPTION:
URL:https://fpcjackson.org/event/college-sunday-school/2026-12-20/
LOCATION:FPC Jackson Campus\, 1390 North State Street\, Jackson\, MS\, 39202\, United States
CATEGORIES:College
END:VEVENT
BEGIN:VEVENT
DTSTART;TZID=America/Chicago:20261227T094500
DTEND;TZID=America/Chicago:20261227T103000
DTSTAMP:20260422T011024
CREATED:20220916T133244Z
LAST-MODIFIED:20260306T155654Z
UID:10001053-1798364700-1798367400@fpcjackson.org
SUMMARY:College Sunday School
DESCRIPTION:
URL:https://fpcjackson.org/event/college-sunday-school/2026-12-27/
LOCATION:FPC Jackson Campus\, 1390 North State Street\, Jackson\, MS\, 39202\, United States
CATEGORIES:College
END:VEVENT
BEGIN:VEVENT
DTSTART;TZID=America/Chicago:20270103T094500
DTEND;TZID=America/Chicago:20270103T103000
DTSTAMP:20260422T011024
CREATED:20220916T133244Z
LAST-MODIFIED:20260306T155654Z
UID:10001054-1798969500-1798972200@fpcjackson.org
SUMMARY:College Sunday School
DESCRIPTION:
URL:https://fpcjackson.org/event/college-sunday-school/2027-01-03/
LOCATION:FPC Jackson Campus\, 1390 North State Street\, Jackson\, MS\, 39202\, United States
CATEGORIES:College
END:VEVENT
BEGIN:VEVENT
DTSTART;TZID=America/Chicago:20270110T094500
DTEND;TZID=America/Chicago:20270110T103000
DTSTAMP:20260422T011024
CREATED:20220916T133244Z
LAST-MODIFIED:20260306T155654Z
UID:10001055-1799574300-1799577000@fpcjackson.org
SUMMARY:College Sunday School
DESCRIPTION:
URL:https://fpcjackson.org/event/college-sunday-school/2027-01-10/
LOCATION:FPC Jackson Campus\, 1390 North State Street\, Jackson\, MS\, 39202\, United States
CATEGORIES:College
END:VEVENT
BEGIN:VEVENT
DTSTART;TZID=America/Chicago:20270117T094500
DTEND;TZID=America/Chicago:20270117T103000
DTSTAMP:20260422T011024
CREATED:20220916T133244Z
LAST-MODIFIED:20260306T155654Z
UID:10001056-1800179100-1800181800@fpcjackson.org
SUMMARY:College Sunday School
DESCRIPTION:
URL:https://fpcjackson.org/event/college-sunday-school/2027-01-17/
LOCATION:FPC Jackson Campus\, 1390 North State Street\, Jackson\, MS\, 39202\, United States
CATEGORIES:College
END:VEVENT
BEGIN:VEVENT
DTSTART;TZID=America/Chicago:20270124T094500
DTEND;TZID=America/Chicago:20270124T103000
DTSTAMP:20260422T011024
CREATED:20220916T133244Z
LAST-MODIFIED:20260306T155654Z
UID:10001057-1800783900-1800786600@fpcjackson.org
SUMMARY:College Sunday School
DESCRIPTION:
URL:https://fpcjackson.org/event/college-sunday-school/2027-01-24/
LOCATION:FPC Jackson Campus\, 1390 North State Street\, Jackson\, MS\, 39202\, United States
CATEGORIES:College
END:VEVENT
BEGIN:VEVENT
DTSTART;TZID=America/Chicago:20270131T094500
DTEND;TZID=America/Chicago:20270131T103000
DTSTAMP:20260422T011024
CREATED:20220916T133244Z
LAST-MODIFIED:20260306T155654Z
UID:10001058-1801388700-1801391400@fpcjackson.org
SUMMARY:College Sunday School
DESCRIPTION:
URL:https://fpcjackson.org/event/college-sunday-school/2027-01-31/
LOCATION:FPC Jackson Campus\, 1390 North State Street\, Jackson\, MS\, 39202\, United States
CATEGORIES:College
END:VEVENT
BEGIN:VEVENT
DTSTART;TZID=America/Chicago:20270207T094500
DTEND;TZID=America/Chicago:20270207T103000
DTSTAMP:20260422T011024
CREATED:20220916T133244Z
LAST-MODIFIED:20260306T155654Z
UID:10001059-1801993500-1801996200@fpcjackson.org
SUMMARY:College Sunday School
DESCRIPTION:
URL:https://fpcjackson.org/event/college-sunday-school/2027-02-07/
LOCATION:FPC Jackson Campus\, 1390 North State Street\, Jackson\, MS\, 39202\, United States
CATEGORIES:College
END:VEVENT
BEGIN:VEVENT
DTSTART;TZID=America/Chicago:20270214T094500
DTEND;TZID=America/Chicago:20270214T103000
DTSTAMP:20260422T011024
CREATED:20220916T133244Z
LAST-MODIFIED:20260306T155654Z
UID:10001060-1802598300-1802601000@fpcjackson.org
SUMMARY:College Sunday School
DESCRIPTION:
URL:https://fpcjackson.org/event/college-sunday-school/2027-02-14/
LOCATION:FPC Jackson Campus\, 1390 North State Street\, Jackson\, MS\, 39202\, United States
CATEGORIES:College
END:VEVENT
BEGIN:VEVENT
DTSTART;TZID=America/Chicago:20270221T094500
DTEND;TZID=America/Chicago:20270221T103000
DTSTAMP:20260422T011024
CREATED:20220916T133244Z
LAST-MODIFIED:20260306T155654Z
UID:10001061-1803203100-1803205800@fpcjackson.org
SUMMARY:College Sunday School
DESCRIPTION:
URL:https://fpcjackson.org/event/college-sunday-school/2027-02-21/
LOCATION:FPC Jackson Campus\, 1390 North State Street\, Jackson\, MS\, 39202\, United States
CATEGORIES:College
END:VEVENT
BEGIN:VEVENT
DTSTART;TZID=America/Chicago:20270228T094500
DTEND;TZID=America/Chicago:20270228T103000
DTSTAMP:20260422T011024
CREATED:20220916T133244Z
LAST-MODIFIED:20260306T155654Z
UID:10001062-1803807900-1803810600@fpcjackson.org
SUMMARY:College Sunday School
DESCRIPTION:
URL:https://fpcjackson.org/event/college-sunday-school/2027-02-28/
LOCATION:FPC Jackson Campus\, 1390 North State Street\, Jackson\, MS\, 39202\, United States
CATEGORIES:College
END:VEVENT
BEGIN:VEVENT
DTSTART;TZID=America/Chicago:20270307T094500
DTEND;TZID=America/Chicago:20270307T103000
DTSTAMP:20260422T011024
CREATED:20220916T133244Z
LAST-MODIFIED:20260306T155654Z
UID:10001063-1804412700-1804415400@fpcjackson.org
SUMMARY:College Sunday School
DESCRIPTION:
URL:https://fpcjackson.org/event/college-sunday-school/2027-03-07/
LOCATION:FPC Jackson Campus\, 1390 North State Street\, Jackson\, MS\, 39202\, United States
CATEGORIES:College
END:VEVENT
BEGIN:VEVENT
DTSTART;TZID=America/Chicago:20270314T094500
DTEND;TZID=America/Chicago:20270314T103000
DTSTAMP:20260422T011024
CREATED:20220916T133244Z
LAST-MODIFIED:20260306T155654Z
UID:10001064-1805017500-1805020200@fpcjackson.org
SUMMARY:College Sunday School
DESCRIPTION:
URL:https://fpcjackson.org/event/college-sunday-school/2027-03-14/
LOCATION:FPC Jackson Campus\, 1390 North State Street\, Jackson\, MS\, 39202\, United States
CATEGORIES:College
END:VEVENT
BEGIN:VEVENT
DTSTART;TZID=America/Chicago:20270321T094500
DTEND;TZID=America/Chicago:20270321T103000
DTSTAMP:20260422T011024
CREATED:20220916T133244Z
LAST-MODIFIED:20260306T155654Z
UID:10001065-1805622300-1805625000@fpcjackson.org
SUMMARY:College Sunday School
DESCRIPTION:
URL:https://fpcjackson.org/event/college-sunday-school/2027-03-21/
LOCATION:FPC Jackson Campus\, 1390 North State Street\, Jackson\, MS\, 39202\, United States
CATEGORIES:College
END:VEVENT
BEGIN:VEVENT
DTSTART;TZID=America/Chicago:20270328T094500
DTEND;TZID=America/Chicago:20270328T103000
DTSTAMP:20260422T011024
CREATED:20220916T133244Z
LAST-MODIFIED:20260306T155654Z
UID:10001066-1806227100-1806229800@fpcjackson.org
SUMMARY:College Sunday School
DESCRIPTION:
URL:https://fpcjackson.org/event/college-sunday-school/2027-03-28/
LOCATION:FPC Jackson Campus\, 1390 North State Street\, Jackson\, MS\, 39202\, United States
CATEGORIES:College
END:VEVENT
BEGIN:VEVENT
DTSTART;TZID=America/Chicago:20270404T094500
DTEND;TZID=America/Chicago:20270404T103000
DTSTAMP:20260422T011024
CREATED:20220916T133244Z
LAST-MODIFIED:20260306T155654Z
UID:10001067-1806831900-1806834600@fpcjackson.org
SUMMARY:College Sunday School
DESCRIPTION:
URL:https://fpcjackson.org/event/college-sunday-school/2027-04-04/
LOCATION:FPC Jackson Campus\, 1390 North State Street\, Jackson\, MS\, 39202\, United States
CATEGORIES:College
END:VEVENT
END:VCALENDAR