BEGIN:VCALENDAR
VERSION:2.0
PRODID:-//First Presbyterian Church - ECPv6.15.20//NONSGML v1.0//EN
CALSCALE:GREGORIAN
METHOD:PUBLISH
X-WR-CALNAME:First Presbyterian Church
X-ORIGINAL-URL:https://fpcjackson.org
X-WR-CALDESC:Events for First Presbyterian Church
REFRESH-INTERVAL;VALUE=DURATION:PT1H
X-Robots-Tag:noindex
X-PUBLISHED-TTL:PT1H
BEGIN:VTIMEZONE
TZID:America/Chicago
BEGIN:DAYLIGHT
TZOFFSETFROM:-0600
TZOFFSETTO:-0500
TZNAME:CDT
DTSTART:20250309T080000
END:DAYLIGHT
BEGIN:STANDARD
TZOFFSETFROM:-0500
TZOFFSETTO:-0600
TZNAME:CST
DTSTART:20251102T070000
END:STANDARD
BEGIN:DAYLIGHT
TZOFFSETFROM:-0600
TZOFFSETTO:-0500
TZNAME:CDT
DTSTART:20260308T080000
END:DAYLIGHT
BEGIN:STANDARD
TZOFFSETFROM:-0500
TZOFFSETTO:-0600
TZNAME:CST
DTSTART:20261101T070000
END:STANDARD
BEGIN:DAYLIGHT
TZOFFSETFROM:-0600
TZOFFSETTO:-0500
TZNAME:CDT
DTSTART:20270314T080000
END:DAYLIGHT
BEGIN:STANDARD
TZOFFSETFROM:-0500
TZOFFSETTO:-0600
TZNAME:CST
DTSTART:20271107T070000
END:STANDARD
END:VTIMEZONE
BEGIN:VEVENT
DTSTART;TZID=America/Chicago:20260322T094500
DTEND;TZID=America/Chicago:20260322T103000
DTSTAMP:20260425T160538
CREATED:20220916T133244Z
LAST-MODIFIED:20260306T155654Z
UID:10001013-1774172700-1774175400@fpcjackson.org
SUMMARY:College Sunday School
DESCRIPTION:
URL:https://fpcjackson.org/event/college-sunday-school/2026-03-22/
LOCATION:FPC Jackson Campus\, 1390 North State Street\, Jackson\, MS\, 39202\, United States
CATEGORIES:College
END:VEVENT
BEGIN:VEVENT
DTSTART;TZID=America/Chicago:20260322T120000
DTEND;TZID=America/Chicago:20260322T140000
DTSTAMP:20260425T160538
CREATED:20251015T170947Z
LAST-MODIFIED:20260313T152753Z
UID:10018967-1774180800-1774188000@fpcjackson.org
SUMMARY:College Lunch
DESCRIPTION:College students\, join us for a free lunch on Sunday\, March 22\, at the Strain home (7 Pond Side Drive). Join us for worship at 11 a.m.\, and lunch will follow. Contact Peyton for more information or if you need a ride at 205-613-1059.
URL:https://fpcjackson.org/event/college-lunch-9/
LOCATION:Off-Site
CATEGORIES:College
ATTACH;FMTTYPE=image/png:https://fpcjackson.org/wp-content/uploads/2025/10/College-Lunch-Mar-2026.png
END:VEVENT
BEGIN:VEVENT
DTSTART;TZID=America/Chicago:20260329T094500
DTEND;TZID=America/Chicago:20260329T103000
DTSTAMP:20260425T160538
CREATED:20220916T133244Z
LAST-MODIFIED:20260306T155654Z
UID:10001014-1774777500-1774780200@fpcjackson.org
SUMMARY:College Sunday School
DESCRIPTION:
URL:https://fpcjackson.org/event/college-sunday-school/2026-03-29/
LOCATION:FPC Jackson Campus\, 1390 North State Street\, Jackson\, MS\, 39202\, United States
CATEGORIES:College
END:VEVENT
BEGIN:VEVENT
DTSTART;TZID=America/Chicago:20260405T094500
DTEND;TZID=America/Chicago:20260405T103000
DTSTAMP:20260425T160538
CREATED:20220916T133244Z
LAST-MODIFIED:20260306T155654Z
UID:10001015-1775382300-1775385000@fpcjackson.org
SUMMARY:College Sunday School
DESCRIPTION:
URL:https://fpcjackson.org/event/college-sunday-school/2026-04-05/
LOCATION:FPC Jackson Campus\, 1390 North State Street\, Jackson\, MS\, 39202\, United States
CATEGORIES:College
END:VEVENT
BEGIN:VEVENT
DTSTART;TZID=America/Chicago:20260412T094500
DTEND;TZID=America/Chicago:20260412T103000
DTSTAMP:20260425T160538
CREATED:20220916T133244Z
LAST-MODIFIED:20260306T155654Z
UID:10001016-1775987100-1775989800@fpcjackson.org
SUMMARY:College Sunday School
DESCRIPTION:
URL:https://fpcjackson.org/event/college-sunday-school/2026-04-12/
LOCATION:FPC Jackson Campus\, 1390 North State Street\, Jackson\, MS\, 39202\, United States
CATEGORIES:College
END:VEVENT
BEGIN:VEVENT
DTSTART;TZID=America/Chicago:20260419T094500
DTEND;TZID=America/Chicago:20260419T103000
DTSTAMP:20260425T160538
CREATED:20220916T133244Z
LAST-MODIFIED:20260306T155654Z
UID:10001017-1776591900-1776594600@fpcjackson.org
SUMMARY:College Sunday School
DESCRIPTION:
URL:https://fpcjackson.org/event/college-sunday-school/2026-04-19/
LOCATION:FPC Jackson Campus\, 1390 North State Street\, Jackson\, MS\, 39202\, United States
CATEGORIES:College
END:VEVENT
BEGIN:VEVENT
DTSTART;TZID=America/Chicago:20260426T094500
DTEND;TZID=America/Chicago:20260426T103000
DTSTAMP:20260425T160538
CREATED:20220916T133244Z
LAST-MODIFIED:20260306T155654Z
UID:10001018-1777196700-1777199400@fpcjackson.org
SUMMARY:College Sunday School
DESCRIPTION:
URL:https://fpcjackson.org/event/college-sunday-school/2026-04-26/
LOCATION:FPC Jackson Campus\, 1390 North State Street\, Jackson\, MS\, 39202\, United States
CATEGORIES:College
END:VEVENT
BEGIN:VEVENT
DTSTART;TZID=America/Chicago:20260503T094500
DTEND;TZID=America/Chicago:20260503T103000
DTSTAMP:20260425T160538
CREATED:20220916T133244Z
LAST-MODIFIED:20260306T155654Z
UID:10001019-1777801500-1777804200@fpcjackson.org
SUMMARY:College Sunday School
DESCRIPTION:
URL:https://fpcjackson.org/event/college-sunday-school/2026-05-03/
LOCATION:FPC Jackson Campus\, 1390 North State Street\, Jackson\, MS\, 39202\, United States
CATEGORIES:College
END:VEVENT
BEGIN:VEVENT
DTSTART;TZID=America/Chicago:20260510T094500
DTEND;TZID=America/Chicago:20260510T103000
DTSTAMP:20260425T160538
CREATED:20220916T133244Z
LAST-MODIFIED:20260306T155654Z
UID:10001020-1778406300-1778409000@fpcjackson.org
SUMMARY:College Sunday School
DESCRIPTION:
URL:https://fpcjackson.org/event/college-sunday-school/2026-05-10/
LOCATION:FPC Jackson Campus\, 1390 North State Street\, Jackson\, MS\, 39202\, United States
CATEGORIES:College
END:VEVENT
BEGIN:VEVENT
DTSTART;TZID=America/Chicago:20260517T094500
DTEND;TZID=America/Chicago:20260517T103000
DTSTAMP:20260425T160538
CREATED:20220916T133244Z
LAST-MODIFIED:20260306T155654Z
UID:10001021-1779011100-1779013800@fpcjackson.org
SUMMARY:College Sunday School
DESCRIPTION:
URL:https://fpcjackson.org/event/college-sunday-school/2026-05-17/
LOCATION:FPC Jackson Campus\, 1390 North State Street\, Jackson\, MS\, 39202\, United States
CATEGORIES:College
END:VEVENT
BEGIN:VEVENT
DTSTART;TZID=America/Chicago:20260524T094500
DTEND;TZID=America/Chicago:20260524T103000
DTSTAMP:20260425T160538
CREATED:20220916T133244Z
LAST-MODIFIED:20260306T155654Z
UID:10001022-1779615900-1779618600@fpcjackson.org
SUMMARY:College Sunday School
DESCRIPTION:
URL:https://fpcjackson.org/event/college-sunday-school/2026-05-24/
LOCATION:FPC Jackson Campus\, 1390 North State Street\, Jackson\, MS\, 39202\, United States
CATEGORIES:College
END:VEVENT
BEGIN:VEVENT
DTSTART;TZID=America/Chicago:20260531T094500
DTEND;TZID=America/Chicago:20260531T103000
DTSTAMP:20260425T160538
CREATED:20220916T133244Z
LAST-MODIFIED:20260306T155654Z
UID:10001023-1780220700-1780223400@fpcjackson.org
SUMMARY:College Sunday School
DESCRIPTION:
URL:https://fpcjackson.org/event/college-sunday-school/2026-05-31/
LOCATION:FPC Jackson Campus\, 1390 North State Street\, Jackson\, MS\, 39202\, United States
CATEGORIES:College
END:VEVENT
BEGIN:VEVENT
DTSTART;TZID=America/Chicago:20260607T094500
DTEND;TZID=America/Chicago:20260607T103000
DTSTAMP:20260425T160538
CREATED:20220916T133244Z
LAST-MODIFIED:20260306T155654Z
UID:10001024-1780825500-1780828200@fpcjackson.org
SUMMARY:College Sunday School
DESCRIPTION:
URL:https://fpcjackson.org/event/college-sunday-school/2026-06-07/
LOCATION:FPC Jackson Campus\, 1390 North State Street\, Jackson\, MS\, 39202\, United States
CATEGORIES:College
END:VEVENT
BEGIN:VEVENT
DTSTART;TZID=America/Chicago:20260614T094500
DTEND;TZID=America/Chicago:20260614T103000
DTSTAMP:20260425T160538
CREATED:20220916T133244Z
LAST-MODIFIED:20260306T155654Z
UID:10001025-1781430300-1781433000@fpcjackson.org
SUMMARY:College Sunday School
DESCRIPTION:
URL:https://fpcjackson.org/event/college-sunday-school/2026-06-14/
LOCATION:FPC Jackson Campus\, 1390 North State Street\, Jackson\, MS\, 39202\, United States
CATEGORIES:College
END:VEVENT
BEGIN:VEVENT
DTSTART;TZID=America/Chicago:20260621T094500
DTEND;TZID=America/Chicago:20260621T103000
DTSTAMP:20260425T160538
CREATED:20220916T133244Z
LAST-MODIFIED:20260306T155654Z
UID:10001026-1782035100-1782037800@fpcjackson.org
SUMMARY:College Sunday School
DESCRIPTION:
URL:https://fpcjackson.org/event/college-sunday-school/2026-06-21/
LOCATION:FPC Jackson Campus\, 1390 North State Street\, Jackson\, MS\, 39202\, United States
CATEGORIES:College
END:VEVENT
BEGIN:VEVENT
DTSTART;TZID=America/Chicago:20260628T094500
DTEND;TZID=America/Chicago:20260628T103000
DTSTAMP:20260425T160538
CREATED:20220916T133244Z
LAST-MODIFIED:20260306T155654Z
UID:10001027-1782639900-1782642600@fpcjackson.org
SUMMARY:College Sunday School
DESCRIPTION:
URL:https://fpcjackson.org/event/college-sunday-school/2026-06-28/
LOCATION:FPC Jackson Campus\, 1390 North State Street\, Jackson\, MS\, 39202\, United States
CATEGORIES:College
END:VEVENT
BEGIN:VEVENT
DTSTART;TZID=America/Chicago:20260705T094500
DTEND;TZID=America/Chicago:20260705T103000
DTSTAMP:20260425T160538
CREATED:20220916T133244Z
LAST-MODIFIED:20260306T155654Z
UID:10001028-1783244700-1783247400@fpcjackson.org
SUMMARY:College Sunday School
DESCRIPTION:
URL:https://fpcjackson.org/event/college-sunday-school/2026-07-05/
LOCATION:FPC Jackson Campus\, 1390 North State Street\, Jackson\, MS\, 39202\, United States
CATEGORIES:College
END:VEVENT
BEGIN:VEVENT
DTSTART;TZID=America/Chicago:20260712T094500
DTEND;TZID=America/Chicago:20260712T103000
DTSTAMP:20260425T160538
CREATED:20220916T133244Z
LAST-MODIFIED:20260306T155654Z
UID:10001029-1783849500-1783852200@fpcjackson.org
SUMMARY:College Sunday School
DESCRIPTION:
URL:https://fpcjackson.org/event/college-sunday-school/2026-07-12/
LOCATION:FPC Jackson Campus\, 1390 North State Street\, Jackson\, MS\, 39202\, United States
CATEGORIES:College
END:VEVENT
BEGIN:VEVENT
DTSTART;TZID=America/Chicago:20260719T094500
DTEND;TZID=America/Chicago:20260719T103000
DTSTAMP:20260425T160538
CREATED:20220916T133244Z
LAST-MODIFIED:20260306T155654Z
UID:10001030-1784454300-1784457000@fpcjackson.org
SUMMARY:College Sunday School
DESCRIPTION:
URL:https://fpcjackson.org/event/college-sunday-school/2026-07-19/
LOCATION:FPC Jackson Campus\, 1390 North State Street\, Jackson\, MS\, 39202\, United States
CATEGORIES:College
END:VEVENT
BEGIN:VEVENT
DTSTART;TZID=America/Chicago:20260726T094500
DTEND;TZID=America/Chicago:20260726T103000
DTSTAMP:20260425T160538
CREATED:20220916T133244Z
LAST-MODIFIED:20260306T155654Z
UID:10001031-1785059100-1785061800@fpcjackson.org
SUMMARY:College Sunday School
DESCRIPTION:
URL:https://fpcjackson.org/event/college-sunday-school/2026-07-26/
LOCATION:FPC Jackson Campus\, 1390 North State Street\, Jackson\, MS\, 39202\, United States
CATEGORIES:College
END:VEVENT
BEGIN:VEVENT
DTSTART;TZID=America/Chicago:20260802T094500
DTEND;TZID=America/Chicago:20260802T103000
DTSTAMP:20260425T160538
CREATED:20220916T133244Z
LAST-MODIFIED:20260306T155654Z
UID:10001032-1785663900-1785666600@fpcjackson.org
SUMMARY:College Sunday School
DESCRIPTION:
URL:https://fpcjackson.org/event/college-sunday-school/2026-08-02/
LOCATION:FPC Jackson Campus\, 1390 North State Street\, Jackson\, MS\, 39202\, United States
CATEGORIES:College
END:VEVENT
BEGIN:VEVENT
DTSTART;TZID=America/Chicago:20260809T094500
DTEND;TZID=America/Chicago:20260809T103000
DTSTAMP:20260425T160538
CREATED:20220916T133244Z
LAST-MODIFIED:20260306T155654Z
UID:10001033-1786268700-1786271400@fpcjackson.org
SUMMARY:College Sunday School
DESCRIPTION:
URL:https://fpcjackson.org/event/college-sunday-school/2026-08-09/
LOCATION:FPC Jackson Campus\, 1390 North State Street\, Jackson\, MS\, 39202\, United States
CATEGORIES:College
END:VEVENT
BEGIN:VEVENT
DTSTART;TZID=America/Chicago:20260816T094500
DTEND;TZID=America/Chicago:20260816T103000
DTSTAMP:20260425T160538
CREATED:20220916T133244Z
LAST-MODIFIED:20260306T155654Z
UID:10001034-1786873500-1786876200@fpcjackson.org
SUMMARY:College Sunday School
DESCRIPTION:
URL:https://fpcjackson.org/event/college-sunday-school/2026-08-16/
LOCATION:FPC Jackson Campus\, 1390 North State Street\, Jackson\, MS\, 39202\, United States
CATEGORIES:College
END:VEVENT
BEGIN:VEVENT
DTSTART;TZID=America/Chicago:20260823T094500
DTEND;TZID=America/Chicago:20260823T103000
DTSTAMP:20260425T160538
CREATED:20220916T133244Z
LAST-MODIFIED:20260306T155654Z
UID:10001035-1787478300-1787481000@fpcjackson.org
SUMMARY:College Sunday School
DESCRIPTION:
URL:https://fpcjackson.org/event/college-sunday-school/2026-08-23/
LOCATION:FPC Jackson Campus\, 1390 North State Street\, Jackson\, MS\, 39202\, United States
CATEGORIES:College
END:VEVENT
BEGIN:VEVENT
DTSTART;TZID=America/Chicago:20260830T094500
DTEND;TZID=America/Chicago:20260830T103000
DTSTAMP:20260425T160538
CREATED:20220916T133244Z
LAST-MODIFIED:20260306T155654Z
UID:10001036-1788083100-1788085800@fpcjackson.org
SUMMARY:College Sunday School
DESCRIPTION:
URL:https://fpcjackson.org/event/college-sunday-school/2026-08-30/
LOCATION:FPC Jackson Campus\, 1390 North State Street\, Jackson\, MS\, 39202\, United States
CATEGORIES:College
END:VEVENT
BEGIN:VEVENT
DTSTART;TZID=America/Chicago:20260906T094500
DTEND;TZID=America/Chicago:20260906T103000
DTSTAMP:20260425T160538
CREATED:20220916T133244Z
LAST-MODIFIED:20260306T155654Z
UID:10001037-1788687900-1788690600@fpcjackson.org
SUMMARY:College Sunday School
DESCRIPTION:
URL:https://fpcjackson.org/event/college-sunday-school/2026-09-06/
LOCATION:FPC Jackson Campus\, 1390 North State Street\, Jackson\, MS\, 39202\, United States
CATEGORIES:College
END:VEVENT
BEGIN:VEVENT
DTSTART;TZID=America/Chicago:20260913T094500
DTEND;TZID=America/Chicago:20260913T103000
DTSTAMP:20260425T160538
CREATED:20220916T133244Z
LAST-MODIFIED:20260306T155654Z
UID:10001038-1789292700-1789295400@fpcjackson.org
SUMMARY:College Sunday School
DESCRIPTION:
URL:https://fpcjackson.org/event/college-sunday-school/2026-09-13/
LOCATION:FPC Jackson Campus\, 1390 North State Street\, Jackson\, MS\, 39202\, United States
CATEGORIES:College
END:VEVENT
BEGIN:VEVENT
DTSTART;TZID=America/Chicago:20260920T094500
DTEND;TZID=America/Chicago:20260920T103000
DTSTAMP:20260425T160538
CREATED:20220916T133244Z
LAST-MODIFIED:20260306T155654Z
UID:10001039-1789897500-1789900200@fpcjackson.org
SUMMARY:College Sunday School
DESCRIPTION:
URL:https://fpcjackson.org/event/college-sunday-school/2026-09-20/
LOCATION:FPC Jackson Campus\, 1390 North State Street\, Jackson\, MS\, 39202\, United States
CATEGORIES:College
END:VEVENT
BEGIN:VEVENT
DTSTART;TZID=America/Chicago:20260927T094500
DTEND;TZID=America/Chicago:20260927T103000
DTSTAMP:20260425T160538
CREATED:20220916T133244Z
LAST-MODIFIED:20260306T155654Z
UID:10001040-1790502300-1790505000@fpcjackson.org
SUMMARY:College Sunday School
DESCRIPTION:
URL:https://fpcjackson.org/event/college-sunday-school/2026-09-27/
LOCATION:FPC Jackson Campus\, 1390 North State Street\, Jackson\, MS\, 39202\, United States
CATEGORIES:College
END:VEVENT
BEGIN:VEVENT
DTSTART;TZID=America/Chicago:20261004T094500
DTEND;TZID=America/Chicago:20261004T103000
DTSTAMP:20260425T160538
CREATED:20220916T133244Z
LAST-MODIFIED:20260306T155654Z
UID:10001041-1791107100-1791109800@fpcjackson.org
SUMMARY:College Sunday School
DESCRIPTION:
URL:https://fpcjackson.org/event/college-sunday-school/2026-10-04/
LOCATION:FPC Jackson Campus\, 1390 North State Street\, Jackson\, MS\, 39202\, United States
CATEGORIES:College
END:VEVENT
END:VCALENDAR