BEGIN:VCALENDAR
VERSION:2.0
PRODID:-//First Presbyterian Church - ECPv6.15.20//NONSGML v1.0//EN
CALSCALE:GREGORIAN
METHOD:PUBLISH
X-ORIGINAL-URL:https://fpcjackson.org
X-WR-CALDESC:Events for First Presbyterian Church
REFRESH-INTERVAL;VALUE=DURATION:PT1H
X-Robots-Tag:noindex
X-PUBLISHED-TTL:PT1H
BEGIN:VTIMEZONE
TZID:America/Chicago
BEGIN:DAYLIGHT
TZOFFSETFROM:-0600
TZOFFSETTO:-0500
TZNAME:CDT
DTSTART:20240310T080000
END:DAYLIGHT
BEGIN:STANDARD
TZOFFSETFROM:-0500
TZOFFSETTO:-0600
TZNAME:CST
DTSTART:20241103T070000
END:STANDARD
BEGIN:DAYLIGHT
TZOFFSETFROM:-0600
TZOFFSETTO:-0500
TZNAME:CDT
DTSTART:20250309T080000
END:DAYLIGHT
BEGIN:STANDARD
TZOFFSETFROM:-0500
TZOFFSETTO:-0600
TZNAME:CST
DTSTART:20251102T070000
END:STANDARD
BEGIN:DAYLIGHT
TZOFFSETFROM:-0600
TZOFFSETTO:-0500
TZNAME:CDT
DTSTART:20260308T080000
END:DAYLIGHT
BEGIN:STANDARD
TZOFFSETFROM:-0500
TZOFFSETTO:-0600
TZNAME:CST
DTSTART:20261101T070000
END:STANDARD
END:VTIMEZONE
BEGIN:VEVENT
DTSTART;TZID=America/Chicago:20251207T094500
DTEND;TZID=America/Chicago:20251207T103000
DTSTAMP:20260422T022246
CREATED:20220916T133244Z
LAST-MODIFIED:20260306T155654Z
UID:10000998-1765100700-1765103400@fpcjackson.org
SUMMARY:College Sunday School
DESCRIPTION:
URL:https://fpcjackson.org/event/college-sunday-school/2025-12-07/
LOCATION:FPC Jackson Campus\, 1390 North State Street\, Jackson\, MS\, 39202\, United States
CATEGORIES:College
END:VEVENT
BEGIN:VEVENT
DTSTART;TZID=America/Chicago:20251130T094500
DTEND;TZID=America/Chicago:20251130T103000
DTSTAMP:20260422T022246
CREATED:20220916T133244Z
LAST-MODIFIED:20260306T155654Z
UID:10000997-1764495900-1764498600@fpcjackson.org
SUMMARY:College Sunday School
DESCRIPTION:
URL:https://fpcjackson.org/event/college-sunday-school/2025-11-30/
LOCATION:FPC Jackson Campus\, 1390 North State Street\, Jackson\, MS\, 39202\, United States
CATEGORIES:College
END:VEVENT
BEGIN:VEVENT
DTSTART;TZID=America/Chicago:20251123T094500
DTEND;TZID=America/Chicago:20251123T103000
DTSTAMP:20260422T022246
CREATED:20220916T133244Z
LAST-MODIFIED:20260306T155654Z
UID:10000996-1763891100-1763893800@fpcjackson.org
SUMMARY:College Sunday School
DESCRIPTION:
URL:https://fpcjackson.org/event/college-sunday-school/2025-11-23/
LOCATION:FPC Jackson Campus\, 1390 North State Street\, Jackson\, MS\, 39202\, United States
CATEGORIES:College
END:VEVENT
BEGIN:VEVENT
DTSTART;TZID=America/Chicago:20251116T094500
DTEND;TZID=America/Chicago:20251116T103000
DTSTAMP:20260422T022246
CREATED:20220916T133244Z
LAST-MODIFIED:20260306T155654Z
UID:10000995-1763286300-1763289000@fpcjackson.org
SUMMARY:College Sunday School
DESCRIPTION:
URL:https://fpcjackson.org/event/college-sunday-school/2025-11-16/
LOCATION:FPC Jackson Campus\, 1390 North State Street\, Jackson\, MS\, 39202\, United States
CATEGORIES:College
END:VEVENT
BEGIN:VEVENT
DTSTART;TZID=America/Chicago:20251109T094500
DTEND;TZID=America/Chicago:20251109T103000
DTSTAMP:20260422T022246
CREATED:20220916T133244Z
LAST-MODIFIED:20260306T155654Z
UID:10000994-1762681500-1762684200@fpcjackson.org
SUMMARY:College Sunday School
DESCRIPTION:
URL:https://fpcjackson.org/event/college-sunday-school/2025-11-09/
LOCATION:FPC Jackson Campus\, 1390 North State Street\, Jackson\, MS\, 39202\, United States
CATEGORIES:College
END:VEVENT
BEGIN:VEVENT
DTSTART;TZID=America/Chicago:20251102T094500
DTEND;TZID=America/Chicago:20251102T103000
DTSTAMP:20260422T022246
CREATED:20220916T133244Z
LAST-MODIFIED:20260306T155654Z
UID:10000993-1762076700-1762079400@fpcjackson.org
SUMMARY:College Sunday School
DESCRIPTION:
URL:https://fpcjackson.org/event/college-sunday-school/2025-11-02/
LOCATION:FPC Jackson Campus\, 1390 North State Street\, Jackson\, MS\, 39202\, United States
CATEGORIES:College
END:VEVENT
BEGIN:VEVENT
DTSTART;TZID=America/Chicago:20251026T094500
DTEND;TZID=America/Chicago:20251026T103000
DTSTAMP:20260422T022246
CREATED:20220916T133244Z
LAST-MODIFIED:20260306T155654Z
UID:10000992-1761471900-1761474600@fpcjackson.org
SUMMARY:College Sunday School
DESCRIPTION:
URL:https://fpcjackson.org/event/college-sunday-school/2025-10-26/
LOCATION:FPC Jackson Campus\, 1390 North State Street\, Jackson\, MS\, 39202\, United States
CATEGORIES:College
END:VEVENT
BEGIN:VEVENT
DTSTART;TZID=America/Chicago:20251019T094500
DTEND;TZID=America/Chicago:20251019T103000
DTSTAMP:20260422T022246
CREATED:20220916T133244Z
LAST-MODIFIED:20260306T155654Z
UID:10000991-1760867100-1760869800@fpcjackson.org
SUMMARY:College Sunday School
DESCRIPTION:
URL:https://fpcjackson.org/event/college-sunday-school/2025-10-19/
LOCATION:FPC Jackson Campus\, 1390 North State Street\, Jackson\, MS\, 39202\, United States
CATEGORIES:College
END:VEVENT
BEGIN:VEVENT
DTSTART;TZID=America/Chicago:20251012T094500
DTEND;TZID=America/Chicago:20251012T103000
DTSTAMP:20260422T022246
CREATED:20220916T133244Z
LAST-MODIFIED:20260306T155654Z
UID:10000990-1760262300-1760265000@fpcjackson.org
SUMMARY:College Sunday School
DESCRIPTION:
URL:https://fpcjackson.org/event/college-sunday-school/2025-10-12/
LOCATION:FPC Jackson Campus\, 1390 North State Street\, Jackson\, MS\, 39202\, United States
CATEGORIES:College
END:VEVENT
BEGIN:VEVENT
DTSTART;TZID=America/Chicago:20251005T094500
DTEND;TZID=America/Chicago:20251005T103000
DTSTAMP:20260422T022246
CREATED:20220916T133244Z
LAST-MODIFIED:20260306T155654Z
UID:10000989-1759657500-1759660200@fpcjackson.org
SUMMARY:College Sunday School
DESCRIPTION:
URL:https://fpcjackson.org/event/college-sunday-school/2025-10-05/
LOCATION:FPC Jackson Campus\, 1390 North State Street\, Jackson\, MS\, 39202\, United States
CATEGORIES:College
END:VEVENT
BEGIN:VEVENT
DTSTART;TZID=America/Chicago:20250928T094500
DTEND;TZID=America/Chicago:20250928T103000
DTSTAMP:20260422T022246
CREATED:20220916T133244Z
LAST-MODIFIED:20260306T155654Z
UID:10000988-1759052700-1759055400@fpcjackson.org
SUMMARY:College Sunday School
DESCRIPTION:
URL:https://fpcjackson.org/event/college-sunday-school/2025-09-28/
LOCATION:FPC Jackson Campus\, 1390 North State Street\, Jackson\, MS\, 39202\, United States
CATEGORIES:College
END:VEVENT
BEGIN:VEVENT
DTSTART;TZID=America/Chicago:20250921T094500
DTEND;TZID=America/Chicago:20250921T103000
DTSTAMP:20260422T022246
CREATED:20220916T133244Z
LAST-MODIFIED:20260306T155654Z
UID:10000987-1758447900-1758450600@fpcjackson.org
SUMMARY:College Sunday School
DESCRIPTION:
URL:https://fpcjackson.org/event/college-sunday-school/2025-09-21/
LOCATION:FPC Jackson Campus\, 1390 North State Street\, Jackson\, MS\, 39202\, United States
CATEGORIES:College
END:VEVENT
BEGIN:VEVENT
DTSTART;TZID=America/Chicago:20250914T094500
DTEND;TZID=America/Chicago:20250914T103000
DTSTAMP:20260422T022246
CREATED:20220916T133244Z
LAST-MODIFIED:20260306T155654Z
UID:10000986-1757843100-1757845800@fpcjackson.org
SUMMARY:College Sunday School
DESCRIPTION:
URL:https://fpcjackson.org/event/college-sunday-school/2025-09-14/
LOCATION:FPC Jackson Campus\, 1390 North State Street\, Jackson\, MS\, 39202\, United States
CATEGORIES:College
END:VEVENT
BEGIN:VEVENT
DTSTART;TZID=America/Chicago:20250907T094500
DTEND;TZID=America/Chicago:20250907T103000
DTSTAMP:20260422T022246
CREATED:20220916T133244Z
LAST-MODIFIED:20260306T155654Z
UID:10000985-1757238300-1757241000@fpcjackson.org
SUMMARY:College Sunday School
DESCRIPTION:
URL:https://fpcjackson.org/event/college-sunday-school/2025-09-07/
LOCATION:FPC Jackson Campus\, 1390 North State Street\, Jackson\, MS\, 39202\, United States
CATEGORIES:College
END:VEVENT
BEGIN:VEVENT
DTSTART;TZID=America/Chicago:20250831T094500
DTEND;TZID=America/Chicago:20250831T103000
DTSTAMP:20260422T022246
CREATED:20220916T133244Z
LAST-MODIFIED:20260306T155654Z
UID:10000984-1756633500-1756636200@fpcjackson.org
SUMMARY:College Sunday School
DESCRIPTION:
URL:https://fpcjackson.org/event/college-sunday-school/2025-08-31/
LOCATION:FPC Jackson Campus\, 1390 North State Street\, Jackson\, MS\, 39202\, United States
CATEGORIES:College
END:VEVENT
BEGIN:VEVENT
DTSTART;TZID=America/Chicago:20250824T094500
DTEND;TZID=America/Chicago:20250824T103000
DTSTAMP:20260422T022246
CREATED:20220916T133244Z
LAST-MODIFIED:20260306T155654Z
UID:10000983-1756028700-1756031400@fpcjackson.org
SUMMARY:College Sunday School
DESCRIPTION:
URL:https://fpcjackson.org/event/college-sunday-school/2025-08-24/
LOCATION:FPC Jackson Campus\, 1390 North State Street\, Jackson\, MS\, 39202\, United States
CATEGORIES:College
END:VEVENT
BEGIN:VEVENT
DTSTART;TZID=America/Chicago:20250817T094500
DTEND;TZID=America/Chicago:20250817T103000
DTSTAMP:20260422T022246
CREATED:20220916T133244Z
LAST-MODIFIED:20260306T155654Z
UID:10000982-1755423900-1755426600@fpcjackson.org
SUMMARY:College Sunday School
DESCRIPTION:
URL:https://fpcjackson.org/event/college-sunday-school/2025-08-17/
LOCATION:FPC Jackson Campus\, 1390 North State Street\, Jackson\, MS\, 39202\, United States
CATEGORIES:College
END:VEVENT
BEGIN:VEVENT
DTSTART;TZID=America/Chicago:20250810T094500
DTEND;TZID=America/Chicago:20250810T103000
DTSTAMP:20260422T022246
CREATED:20220916T133244Z
LAST-MODIFIED:20260306T155654Z
UID:10000981-1754819100-1754821800@fpcjackson.org
SUMMARY:College Sunday School
DESCRIPTION:
URL:https://fpcjackson.org/event/college-sunday-school/2025-08-10/
LOCATION:FPC Jackson Campus\, 1390 North State Street\, Jackson\, MS\, 39202\, United States
CATEGORIES:College
END:VEVENT
BEGIN:VEVENT
DTSTART;TZID=America/Chicago:20250803T094500
DTEND;TZID=America/Chicago:20250803T103000
DTSTAMP:20260422T022246
CREATED:20220916T133244Z
LAST-MODIFIED:20260306T155654Z
UID:10000980-1754214300-1754217000@fpcjackson.org
SUMMARY:College Sunday School
DESCRIPTION:
URL:https://fpcjackson.org/event/college-sunday-school/2025-08-03/
LOCATION:FPC Jackson Campus\, 1390 North State Street\, Jackson\, MS\, 39202\, United States
CATEGORIES:College
END:VEVENT
BEGIN:VEVENT
DTSTART;TZID=America/Chicago:20250727T094500
DTEND;TZID=America/Chicago:20250727T103000
DTSTAMP:20260422T022246
CREATED:20220916T133244Z
LAST-MODIFIED:20260306T155654Z
UID:10000979-1753609500-1753612200@fpcjackson.org
SUMMARY:College Sunday School
DESCRIPTION:
URL:https://fpcjackson.org/event/college-sunday-school/2025-07-27/
LOCATION:FPC Jackson Campus\, 1390 North State Street\, Jackson\, MS\, 39202\, United States
CATEGORIES:College
END:VEVENT
BEGIN:VEVENT
DTSTART;TZID=America/Chicago:20250720T094500
DTEND;TZID=America/Chicago:20250720T103000
DTSTAMP:20260422T022246
CREATED:20220916T133244Z
LAST-MODIFIED:20260306T155654Z
UID:10000978-1753004700-1753007400@fpcjackson.org
SUMMARY:College Sunday School
DESCRIPTION:
URL:https://fpcjackson.org/event/college-sunday-school/2025-07-20/
LOCATION:FPC Jackson Campus\, 1390 North State Street\, Jackson\, MS\, 39202\, United States
CATEGORIES:College
END:VEVENT
BEGIN:VEVENT
DTSTART;TZID=America/Chicago:20250713T094500
DTEND;TZID=America/Chicago:20250713T103000
DTSTAMP:20260422T022246
CREATED:20220916T133244Z
LAST-MODIFIED:20260306T155654Z
UID:10000977-1752399900-1752402600@fpcjackson.org
SUMMARY:College Sunday School
DESCRIPTION:
URL:https://fpcjackson.org/event/college-sunday-school/2025-07-13/
LOCATION:FPC Jackson Campus\, 1390 North State Street\, Jackson\, MS\, 39202\, United States
CATEGORIES:College
END:VEVENT
BEGIN:VEVENT
DTSTART;TZID=America/Chicago:20250706T094500
DTEND;TZID=America/Chicago:20250706T103000
DTSTAMP:20260422T022246
CREATED:20220916T133244Z
LAST-MODIFIED:20260306T155654Z
UID:10000976-1751795100-1751797800@fpcjackson.org
SUMMARY:College Sunday School
DESCRIPTION:
URL:https://fpcjackson.org/event/college-sunday-school/2025-07-06/
LOCATION:FPC Jackson Campus\, 1390 North State Street\, Jackson\, MS\, 39202\, United States
CATEGORIES:College
END:VEVENT
BEGIN:VEVENT
DTSTART;TZID=America/Chicago:20250629T094500
DTEND;TZID=America/Chicago:20250629T103000
DTSTAMP:20260422T022246
CREATED:20220916T133244Z
LAST-MODIFIED:20260306T155654Z
UID:10000975-1751190300-1751193000@fpcjackson.org
SUMMARY:College Sunday School
DESCRIPTION:
URL:https://fpcjackson.org/event/college-sunday-school/2025-06-29/
LOCATION:FPC Jackson Campus\, 1390 North State Street\, Jackson\, MS\, 39202\, United States
CATEGORIES:College
END:VEVENT
BEGIN:VEVENT
DTSTART;TZID=America/Chicago:20250622T094500
DTEND;TZID=America/Chicago:20250622T103000
DTSTAMP:20260422T022246
CREATED:20220916T133244Z
LAST-MODIFIED:20260306T155654Z
UID:10000974-1750585500-1750588200@fpcjackson.org
SUMMARY:College Sunday School
DESCRIPTION:
URL:https://fpcjackson.org/event/college-sunday-school/2025-06-22/
LOCATION:FPC Jackson Campus\, 1390 North State Street\, Jackson\, MS\, 39202\, United States
CATEGORIES:College
END:VEVENT
BEGIN:VEVENT
DTSTART;TZID=America/Chicago:20250615T094500
DTEND;TZID=America/Chicago:20250615T103000
DTSTAMP:20260422T022246
CREATED:20220916T133244Z
LAST-MODIFIED:20260306T155654Z
UID:10000973-1749980700-1749983400@fpcjackson.org
SUMMARY:College Sunday School
DESCRIPTION:
URL:https://fpcjackson.org/event/college-sunday-school/2025-06-15/
LOCATION:FPC Jackson Campus\, 1390 North State Street\, Jackson\, MS\, 39202\, United States
CATEGORIES:College
END:VEVENT
BEGIN:VEVENT
DTSTART;TZID=America/Chicago:20250608T094500
DTEND;TZID=America/Chicago:20250608T103000
DTSTAMP:20260422T022246
CREATED:20220916T133244Z
LAST-MODIFIED:20260306T155654Z
UID:10000972-1749375900-1749378600@fpcjackson.org
SUMMARY:College Sunday School
DESCRIPTION:
URL:https://fpcjackson.org/event/college-sunday-school/2025-06-08/
LOCATION:FPC Jackson Campus\, 1390 North State Street\, Jackson\, MS\, 39202\, United States
CATEGORIES:College
END:VEVENT
BEGIN:VEVENT
DTSTART;TZID=America/Chicago:20250601T094500
DTEND;TZID=America/Chicago:20250601T103000
DTSTAMP:20260422T022246
CREATED:20220916T133244Z
LAST-MODIFIED:20260306T155654Z
UID:10000971-1748771100-1748773800@fpcjackson.org
SUMMARY:College Sunday School
DESCRIPTION:
URL:https://fpcjackson.org/event/college-sunday-school/2025-06-01/
LOCATION:FPC Jackson Campus\, 1390 North State Street\, Jackson\, MS\, 39202\, United States
CATEGORIES:College
END:VEVENT
BEGIN:VEVENT
DTSTART;TZID=America/Chicago:20250525T094500
DTEND;TZID=America/Chicago:20250525T103000
DTSTAMP:20260422T022246
CREATED:20220916T133244Z
LAST-MODIFIED:20260306T155654Z
UID:10000970-1748166300-1748169000@fpcjackson.org
SUMMARY:College Sunday School
DESCRIPTION:
URL:https://fpcjackson.org/event/college-sunday-school/2025-05-25/
LOCATION:FPC Jackson Campus\, 1390 North State Street\, Jackson\, MS\, 39202\, United States
CATEGORIES:College
END:VEVENT
BEGIN:VEVENT
DTSTART;TZID=America/Chicago:20250518T094500
DTEND;TZID=America/Chicago:20250518T103000
DTSTAMP:20260422T022246
CREATED:20220916T133244Z
LAST-MODIFIED:20260306T155654Z
UID:10000969-1747561500-1747564200@fpcjackson.org
SUMMARY:College Sunday School
DESCRIPTION:
URL:https://fpcjackson.org/event/college-sunday-school/2025-05-18/
LOCATION:FPC Jackson Campus\, 1390 North State Street\, Jackson\, MS\, 39202\, United States
CATEGORIES:College
END:VEVENT
END:VCALENDAR