BEGIN:VCALENDAR
VERSION:2.0
PRODID:-//First Presbyterian Church - ECPv6.15.20//NONSGML v1.0//EN
CALSCALE:GREGORIAN
METHOD:PUBLISH
X-ORIGINAL-URL:https://fpcjackson.org
X-WR-CALDESC:Events for First Presbyterian Church
REFRESH-INTERVAL;VALUE=DURATION:PT1H
X-Robots-Tag:noindex
X-PUBLISHED-TTL:PT1H
BEGIN:VTIMEZONE
TZID:America/Chicago
BEGIN:DAYLIGHT
TZOFFSETFROM:-0600
TZOFFSETTO:-0500
TZNAME:CDT
DTSTART:20300310T080000
END:DAYLIGHT
BEGIN:STANDARD
TZOFFSETFROM:-0500
TZOFFSETTO:-0600
TZNAME:CST
DTSTART:20301103T070000
END:STANDARD
BEGIN:DAYLIGHT
TZOFFSETFROM:-0600
TZOFFSETTO:-0500
TZNAME:CDT
DTSTART:20310309T080000
END:DAYLIGHT
BEGIN:STANDARD
TZOFFSETFROM:-0500
TZOFFSETTO:-0600
TZNAME:CST
DTSTART:20311102T070000
END:STANDARD
BEGIN:DAYLIGHT
TZOFFSETFROM:-0600
TZOFFSETTO:-0500
TZNAME:CDT
DTSTART:20320314T080000
END:DAYLIGHT
BEGIN:STANDARD
TZOFFSETFROM:-0500
TZOFFSETTO:-0600
TZNAME:CST
DTSTART:20321107T070000
END:STANDARD
END:VTIMEZONE
BEGIN:VEVENT
DTSTART;TZID=America/Chicago:20310323T094500
DTEND;TZID=America/Chicago:20310323T103000
DTSTAMP:20260423T082530
CREATED:20220916T133244Z
LAST-MODIFIED:20260306T155654Z
UID:10021186-1932025500-1932028200@fpcjackson.org
SUMMARY:College Sunday School
DESCRIPTION:
URL:https://fpcjackson.org/event/college-sunday-school/2031-03-23/
LOCATION:FPC Jackson Campus\, 1390 North State Street\, Jackson\, MS\, 39202\, United States
CATEGORIES:College
END:VEVENT
BEGIN:VEVENT
DTSTART;TZID=America/Chicago:20310330T094500
DTEND;TZID=America/Chicago:20310330T103000
DTSTAMP:20260423T082530
CREATED:20220916T133244Z
LAST-MODIFIED:20260306T155654Z
UID:10021206-1932630300-1932633000@fpcjackson.org
SUMMARY:College Sunday School
DESCRIPTION:
URL:https://fpcjackson.org/event/college-sunday-school/2031-03-30/
LOCATION:FPC Jackson Campus\, 1390 North State Street\, Jackson\, MS\, 39202\, United States
CATEGORIES:College
END:VEVENT
BEGIN:VEVENT
DTSTART;TZID=America/Chicago:20310406T094500
DTEND;TZID=America/Chicago:20310406T103000
DTSTAMP:20260423T082530
CREATED:20220916T133244Z
LAST-MODIFIED:20260306T155654Z
UID:10021238-1933235100-1933237800@fpcjackson.org
SUMMARY:College Sunday School
DESCRIPTION:
URL:https://fpcjackson.org/event/college-sunday-school/2031-04-06/
LOCATION:FPC Jackson Campus\, 1390 North State Street\, Jackson\, MS\, 39202\, United States
CATEGORIES:College
END:VEVENT
BEGIN:VEVENT
DTSTART;TZID=America/Chicago:20310413T094500
DTEND;TZID=America/Chicago:20310413T103000
DTSTAMP:20260423T082530
CREATED:20220916T133244Z
LAST-MODIFIED:20260306T155654Z
UID:10021267-1933839900-1933842600@fpcjackson.org
SUMMARY:College Sunday School
DESCRIPTION:
URL:https://fpcjackson.org/event/college-sunday-school/2031-04-13/
LOCATION:FPC Jackson Campus\, 1390 North State Street\, Jackson\, MS\, 39202\, United States
CATEGORIES:College
END:VEVENT
BEGIN:VEVENT
DTSTART;TZID=America/Chicago:20310420T094500
DTEND;TZID=America/Chicago:20310420T103000
DTSTAMP:20260423T082530
CREATED:20220916T133244Z
LAST-MODIFIED:20260306T155654Z
UID:10021283-1934444700-1934447400@fpcjackson.org
SUMMARY:College Sunday School
DESCRIPTION:
URL:https://fpcjackson.org/event/college-sunday-school/2031-04-20/
LOCATION:FPC Jackson Campus\, 1390 North State Street\, Jackson\, MS\, 39202\, United States
CATEGORIES:College
END:VEVENT
END:VCALENDAR