BEGIN:VCALENDAR
VERSION:2.0
PRODID:-//First Presbyterian Church - ECPv6.15.20//NONSGML v1.0//EN
CALSCALE:GREGORIAN
METHOD:PUBLISH
X-WR-CALNAME:First Presbyterian Church
X-ORIGINAL-URL:https://fpcjackson.org
X-WR-CALDESC:Events for First Presbyterian Church
REFRESH-INTERVAL;VALUE=DURATION:PT1H
X-Robots-Tag:noindex
X-PUBLISHED-TTL:PT1H
BEGIN:VTIMEZONE
TZID:America/Chicago
BEGIN:DAYLIGHT
TZOFFSETFROM:-0600
TZOFFSETTO:-0500
TZNAME:CDT
DTSTART:20290311T080000
END:DAYLIGHT
BEGIN:STANDARD
TZOFFSETFROM:-0500
TZOFFSETTO:-0600
TZNAME:CST
DTSTART:20291104T070000
END:STANDARD
BEGIN:DAYLIGHT
TZOFFSETFROM:-0600
TZOFFSETTO:-0500
TZNAME:CDT
DTSTART:20300310T080000
END:DAYLIGHT
BEGIN:STANDARD
TZOFFSETFROM:-0500
TZOFFSETTO:-0600
TZNAME:CST
DTSTART:20301103T070000
END:STANDARD
BEGIN:DAYLIGHT
TZOFFSETFROM:-0600
TZOFFSETTO:-0500
TZNAME:CDT
DTSTART:20310309T080000
END:DAYLIGHT
BEGIN:STANDARD
TZOFFSETFROM:-0500
TZOFFSETTO:-0600
TZNAME:CST
DTSTART:20311102T070000
END:STANDARD
BEGIN:DAYLIGHT
TZOFFSETFROM:-0600
TZOFFSETTO:-0500
TZNAME:CDT
DTSTART:20320314T080000
END:DAYLIGHT
BEGIN:STANDARD
TZOFFSETFROM:-0500
TZOFFSETTO:-0600
TZNAME:CST
DTSTART:20321107T070000
END:STANDARD
END:VTIMEZONE
BEGIN:VEVENT
DTSTART;TZID=America/Chicago:20300825T094500
DTEND;TZID=America/Chicago:20300825T103000
DTSTAMP:20260423T065627
CREATED:20220916T133244Z
LAST-MODIFIED:20260306T155654Z
UID:10019722-1913881500-1913884200@fpcjackson.org
SUMMARY:College Sunday School
DESCRIPTION:
URL:https://fpcjackson.org/event/college-sunday-school/2030-08-25/
LOCATION:FPC Jackson Campus\, 1390 North State Street\, Jackson\, MS\, 39202\, United States
CATEGORIES:College
END:VEVENT
BEGIN:VEVENT
DTSTART;TZID=America/Chicago:20300901T094500
DTEND;TZID=America/Chicago:20300901T103000
DTSTAMP:20260423T065627
CREATED:20220916T133244Z
LAST-MODIFIED:20260306T155654Z
UID:10019723-1914486300-1914489000@fpcjackson.org
SUMMARY:College Sunday School
DESCRIPTION:
URL:https://fpcjackson.org/event/college-sunday-school/2030-09-01/
LOCATION:FPC Jackson Campus\, 1390 North State Street\, Jackson\, MS\, 39202\, United States
CATEGORIES:College
END:VEVENT
BEGIN:VEVENT
DTSTART;TZID=America/Chicago:20300908T094500
DTEND;TZID=America/Chicago:20300908T103000
DTSTAMP:20260423T065627
CREATED:20220916T133244Z
LAST-MODIFIED:20260306T155654Z
UID:10019724-1915091100-1915093800@fpcjackson.org
SUMMARY:College Sunday School
DESCRIPTION:
URL:https://fpcjackson.org/event/college-sunday-school/2030-09-08/
LOCATION:FPC Jackson Campus\, 1390 North State Street\, Jackson\, MS\, 39202\, United States
CATEGORIES:College
END:VEVENT
BEGIN:VEVENT
DTSTART;TZID=America/Chicago:20300915T094500
DTEND;TZID=America/Chicago:20300915T103000
DTSTAMP:20260423T065627
CREATED:20220916T133244Z
LAST-MODIFIED:20260306T155654Z
UID:10019725-1915695900-1915698600@fpcjackson.org
SUMMARY:College Sunday School
DESCRIPTION:
URL:https://fpcjackson.org/event/college-sunday-school/2030-09-15/
LOCATION:FPC Jackson Campus\, 1390 North State Street\, Jackson\, MS\, 39202\, United States
CATEGORIES:College
END:VEVENT
BEGIN:VEVENT
DTSTART;TZID=America/Chicago:20300922T094500
DTEND;TZID=America/Chicago:20300922T103000
DTSTAMP:20260423T065627
CREATED:20220916T133244Z
LAST-MODIFIED:20260306T155654Z
UID:10019726-1916300700-1916303400@fpcjackson.org
SUMMARY:College Sunday School
DESCRIPTION:
URL:https://fpcjackson.org/event/college-sunday-school/2030-09-22/
LOCATION:FPC Jackson Campus\, 1390 North State Street\, Jackson\, MS\, 39202\, United States
CATEGORIES:College
END:VEVENT
BEGIN:VEVENT
DTSTART;TZID=America/Chicago:20300929T094500
DTEND;TZID=America/Chicago:20300929T103000
DTSTAMP:20260423T065627
CREATED:20220916T133244Z
LAST-MODIFIED:20260306T155654Z
UID:10019727-1916905500-1916908200@fpcjackson.org
SUMMARY:College Sunday School
DESCRIPTION:
URL:https://fpcjackson.org/event/college-sunday-school/2030-09-29/
LOCATION:FPC Jackson Campus\, 1390 North State Street\, Jackson\, MS\, 39202\, United States
CATEGORIES:College
END:VEVENT
BEGIN:VEVENT
DTSTART;TZID=America/Chicago:20301006T094500
DTEND;TZID=America/Chicago:20301006T103000
DTSTAMP:20260423T065627
CREATED:20220916T133244Z
LAST-MODIFIED:20260306T155654Z
UID:10019728-1917510300-1917513000@fpcjackson.org
SUMMARY:College Sunday School
DESCRIPTION:
URL:https://fpcjackson.org/event/college-sunday-school/2030-10-06/
LOCATION:FPC Jackson Campus\, 1390 North State Street\, Jackson\, MS\, 39202\, United States
CATEGORIES:College
END:VEVENT
BEGIN:VEVENT
DTSTART;TZID=America/Chicago:20301013T094500
DTEND;TZID=America/Chicago:20301013T103000
DTSTAMP:20260423T065627
CREATED:20220916T133244Z
LAST-MODIFIED:20260306T155654Z
UID:10019729-1918115100-1918117800@fpcjackson.org
SUMMARY:College Sunday School
DESCRIPTION:
URL:https://fpcjackson.org/event/college-sunday-school/2030-10-13/
LOCATION:FPC Jackson Campus\, 1390 North State Street\, Jackson\, MS\, 39202\, United States
CATEGORIES:College
END:VEVENT
BEGIN:VEVENT
DTSTART;TZID=America/Chicago:20301020T094500
DTEND;TZID=America/Chicago:20301020T103000
DTSTAMP:20260423T065627
CREATED:20220916T133244Z
LAST-MODIFIED:20260306T155654Z
UID:10019730-1918719900-1918722600@fpcjackson.org
SUMMARY:College Sunday School
DESCRIPTION:
URL:https://fpcjackson.org/event/college-sunday-school/2030-10-20/
LOCATION:FPC Jackson Campus\, 1390 North State Street\, Jackson\, MS\, 39202\, United States
CATEGORIES:College
END:VEVENT
BEGIN:VEVENT
DTSTART;TZID=America/Chicago:20301027T094500
DTEND;TZID=America/Chicago:20301027T103000
DTSTAMP:20260423T065627
CREATED:20220916T133244Z
LAST-MODIFIED:20260306T155654Z
UID:10019731-1919324700-1919327400@fpcjackson.org
SUMMARY:College Sunday School
DESCRIPTION:
URL:https://fpcjackson.org/event/college-sunday-school/2030-10-27/
LOCATION:FPC Jackson Campus\, 1390 North State Street\, Jackson\, MS\, 39202\, United States
CATEGORIES:College
END:VEVENT
BEGIN:VEVENT
DTSTART;TZID=America/Chicago:20301103T094500
DTEND;TZID=America/Chicago:20301103T103000
DTSTAMP:20260423T065627
CREATED:20220916T133244Z
LAST-MODIFIED:20260306T155654Z
UID:10019732-1919929500-1919932200@fpcjackson.org
SUMMARY:College Sunday School
DESCRIPTION:
URL:https://fpcjackson.org/event/college-sunday-school/2030-11-03/
LOCATION:FPC Jackson Campus\, 1390 North State Street\, Jackson\, MS\, 39202\, United States
CATEGORIES:College
END:VEVENT
BEGIN:VEVENT
DTSTART;TZID=America/Chicago:20301110T094500
DTEND;TZID=America/Chicago:20301110T103000
DTSTAMP:20260423T065627
CREATED:20220916T133244Z
LAST-MODIFIED:20260306T155654Z
UID:10019733-1920534300-1920537000@fpcjackson.org
SUMMARY:College Sunday School
DESCRIPTION:
URL:https://fpcjackson.org/event/college-sunday-school/2030-11-10/
LOCATION:FPC Jackson Campus\, 1390 North State Street\, Jackson\, MS\, 39202\, United States
CATEGORIES:College
END:VEVENT
BEGIN:VEVENT
DTSTART;TZID=America/Chicago:20301117T094500
DTEND;TZID=America/Chicago:20301117T103000
DTSTAMP:20260423T065627
CREATED:20220916T133244Z
LAST-MODIFIED:20260306T155654Z
UID:10019734-1921139100-1921141800@fpcjackson.org
SUMMARY:College Sunday School
DESCRIPTION:
URL:https://fpcjackson.org/event/college-sunday-school/2030-11-17/
LOCATION:FPC Jackson Campus\, 1390 North State Street\, Jackson\, MS\, 39202\, United States
CATEGORIES:College
END:VEVENT
BEGIN:VEVENT
DTSTART;TZID=America/Chicago:20301124T094500
DTEND;TZID=America/Chicago:20301124T103000
DTSTAMP:20260423T065627
CREATED:20220916T133244Z
LAST-MODIFIED:20260306T155654Z
UID:10019735-1921743900-1921746600@fpcjackson.org
SUMMARY:College Sunday School
DESCRIPTION:
URL:https://fpcjackson.org/event/college-sunday-school/2030-11-24/
LOCATION:FPC Jackson Campus\, 1390 North State Street\, Jackson\, MS\, 39202\, United States
CATEGORIES:College
END:VEVENT
BEGIN:VEVENT
DTSTART;TZID=America/Chicago:20301201T094500
DTEND;TZID=America/Chicago:20301201T103000
DTSTAMP:20260423T065627
CREATED:20220916T133244Z
LAST-MODIFIED:20260306T155654Z
UID:10019736-1922348700-1922351400@fpcjackson.org
SUMMARY:College Sunday School
DESCRIPTION:
URL:https://fpcjackson.org/event/college-sunday-school/2030-12-01/
LOCATION:FPC Jackson Campus\, 1390 North State Street\, Jackson\, MS\, 39202\, United States
CATEGORIES:College
END:VEVENT
BEGIN:VEVENT
DTSTART;TZID=America/Chicago:20301208T094500
DTEND;TZID=America/Chicago:20301208T103000
DTSTAMP:20260423T065627
CREATED:20220916T133244Z
LAST-MODIFIED:20260306T155654Z
UID:10019737-1922953500-1922956200@fpcjackson.org
SUMMARY:College Sunday School
DESCRIPTION:
URL:https://fpcjackson.org/event/college-sunday-school/2030-12-08/
LOCATION:FPC Jackson Campus\, 1390 North State Street\, Jackson\, MS\, 39202\, United States
CATEGORIES:College
END:VEVENT
BEGIN:VEVENT
DTSTART;TZID=America/Chicago:20301215T094500
DTEND;TZID=America/Chicago:20301215T103000
DTSTAMP:20260423T065627
CREATED:20220916T133244Z
LAST-MODIFIED:20260306T155654Z
UID:10019738-1923558300-1923561000@fpcjackson.org
SUMMARY:College Sunday School
DESCRIPTION:
URL:https://fpcjackson.org/event/college-sunday-school/2030-12-15/
LOCATION:FPC Jackson Campus\, 1390 North State Street\, Jackson\, MS\, 39202\, United States
CATEGORIES:College
END:VEVENT
BEGIN:VEVENT
DTSTART;TZID=America/Chicago:20301222T094500
DTEND;TZID=America/Chicago:20301222T103000
DTSTAMP:20260423T065627
CREATED:20220916T133244Z
LAST-MODIFIED:20260306T155654Z
UID:10020462-1924163100-1924165800@fpcjackson.org
SUMMARY:College Sunday School
DESCRIPTION:
URL:https://fpcjackson.org/event/college-sunday-school/2030-12-22/
LOCATION:FPC Jackson Campus\, 1390 North State Street\, Jackson\, MS\, 39202\, United States
CATEGORIES:College
END:VEVENT
BEGIN:VEVENT
DTSTART;TZID=America/Chicago:20301229T094500
DTEND;TZID=America/Chicago:20301229T103000
DTSTAMP:20260423T065627
CREATED:20220916T133244Z
LAST-MODIFIED:20260306T155654Z
UID:10020463-1924767900-1924770600@fpcjackson.org
SUMMARY:College Sunday School
DESCRIPTION:
URL:https://fpcjackson.org/event/college-sunday-school/2030-12-29/
LOCATION:FPC Jackson Campus\, 1390 North State Street\, Jackson\, MS\, 39202\, United States
CATEGORIES:College
END:VEVENT
BEGIN:VEVENT
DTSTART;TZID=America/Chicago:20310105T094500
DTEND;TZID=America/Chicago:20310105T103000
DTSTAMP:20260423T065627
CREATED:20220916T133244Z
LAST-MODIFIED:20260306T155654Z
UID:10020464-1925372700-1925375400@fpcjackson.org
SUMMARY:College Sunday School
DESCRIPTION:
URL:https://fpcjackson.org/event/college-sunday-school/2031-01-05/
LOCATION:FPC Jackson Campus\, 1390 North State Street\, Jackson\, MS\, 39202\, United States
CATEGORIES:College
END:VEVENT
BEGIN:VEVENT
DTSTART;TZID=America/Chicago:20310112T094500
DTEND;TZID=America/Chicago:20310112T103000
DTSTAMP:20260423T065627
CREATED:20220916T133244Z
LAST-MODIFIED:20260306T155654Z
UID:10020465-1925977500-1925980200@fpcjackson.org
SUMMARY:College Sunday School
DESCRIPTION:
URL:https://fpcjackson.org/event/college-sunday-school/2031-01-12/
LOCATION:FPC Jackson Campus\, 1390 North State Street\, Jackson\, MS\, 39202\, United States
CATEGORIES:College
END:VEVENT
BEGIN:VEVENT
DTSTART;TZID=America/Chicago:20310119T094500
DTEND;TZID=America/Chicago:20310119T103000
DTSTAMP:20260423T065627
CREATED:20220916T133244Z
LAST-MODIFIED:20260306T155654Z
UID:10020466-1926582300-1926585000@fpcjackson.org
SUMMARY:College Sunday School
DESCRIPTION:
URL:https://fpcjackson.org/event/college-sunday-school/2031-01-19/
LOCATION:FPC Jackson Campus\, 1390 North State Street\, Jackson\, MS\, 39202\, United States
CATEGORIES:College
END:VEVENT
BEGIN:VEVENT
DTSTART;TZID=America/Chicago:20310126T094500
DTEND;TZID=America/Chicago:20310126T103000
DTSTAMP:20260423T065627
CREATED:20220916T133244Z
LAST-MODIFIED:20260306T155654Z
UID:10020467-1927187100-1927189800@fpcjackson.org
SUMMARY:College Sunday School
DESCRIPTION:
URL:https://fpcjackson.org/event/college-sunday-school/2031-01-26/
LOCATION:FPC Jackson Campus\, 1390 North State Street\, Jackson\, MS\, 39202\, United States
CATEGORIES:College
END:VEVENT
BEGIN:VEVENT
DTSTART;TZID=America/Chicago:20310202T094500
DTEND;TZID=America/Chicago:20310202T103000
DTSTAMP:20260423T065627
CREATED:20220916T133244Z
LAST-MODIFIED:20260306T155654Z
UID:10020468-1927791900-1927794600@fpcjackson.org
SUMMARY:College Sunday School
DESCRIPTION:
URL:https://fpcjackson.org/event/college-sunday-school/2031-02-02/
LOCATION:FPC Jackson Campus\, 1390 North State Street\, Jackson\, MS\, 39202\, United States
CATEGORIES:College
END:VEVENT
BEGIN:VEVENT
DTSTART;TZID=America/Chicago:20310209T094500
DTEND;TZID=America/Chicago:20310209T103000
DTSTAMP:20260423T065627
CREATED:20220916T133244Z
LAST-MODIFIED:20260306T155654Z
UID:10020469-1928396700-1928399400@fpcjackson.org
SUMMARY:College Sunday School
DESCRIPTION:
URL:https://fpcjackson.org/event/college-sunday-school/2031-02-09/
LOCATION:FPC Jackson Campus\, 1390 North State Street\, Jackson\, MS\, 39202\, United States
CATEGORIES:College
END:VEVENT
BEGIN:VEVENT
DTSTART;TZID=America/Chicago:20310216T094500
DTEND;TZID=America/Chicago:20310216T103000
DTSTAMP:20260423T065627
CREATED:20220916T133244Z
LAST-MODIFIED:20260306T155654Z
UID:10020470-1929001500-1929004200@fpcjackson.org
SUMMARY:College Sunday School
DESCRIPTION:
URL:https://fpcjackson.org/event/college-sunday-school/2031-02-16/
LOCATION:FPC Jackson Campus\, 1390 North State Street\, Jackson\, MS\, 39202\, United States
CATEGORIES:College
END:VEVENT
BEGIN:VEVENT
DTSTART;TZID=America/Chicago:20310223T094500
DTEND;TZID=America/Chicago:20310223T103000
DTSTAMP:20260423T065627
CREATED:20220916T133244Z
LAST-MODIFIED:20260306T155654Z
UID:10020614-1929606300-1929609000@fpcjackson.org
SUMMARY:College Sunday School
DESCRIPTION:
URL:https://fpcjackson.org/event/college-sunday-school/2031-02-23/
LOCATION:FPC Jackson Campus\, 1390 North State Street\, Jackson\, MS\, 39202\, United States
CATEGORIES:College
END:VEVENT
BEGIN:VEVENT
DTSTART;TZID=America/Chicago:20310302T094500
DTEND;TZID=America/Chicago:20310302T103000
DTSTAMP:20260423T065627
CREATED:20220916T133244Z
LAST-MODIFIED:20260306T155654Z
UID:10020615-1930211100-1930213800@fpcjackson.org
SUMMARY:College Sunday School
DESCRIPTION:
URL:https://fpcjackson.org/event/college-sunday-school/2031-03-02/
LOCATION:FPC Jackson Campus\, 1390 North State Street\, Jackson\, MS\, 39202\, United States
CATEGORIES:College
END:VEVENT
BEGIN:VEVENT
DTSTART;TZID=America/Chicago:20310309T094500
DTEND;TZID=America/Chicago:20310309T103000
DTSTAMP:20260423T065627
CREATED:20220916T133244Z
LAST-MODIFIED:20260306T155654Z
UID:10020975-1930815900-1930818600@fpcjackson.org
SUMMARY:College Sunday School
DESCRIPTION:
URL:https://fpcjackson.org/event/college-sunday-school/2031-03-09/
LOCATION:FPC Jackson Campus\, 1390 North State Street\, Jackson\, MS\, 39202\, United States
CATEGORIES:College
END:VEVENT
BEGIN:VEVENT
DTSTART;TZID=America/Chicago:20310316T094500
DTEND;TZID=America/Chicago:20310316T103000
DTSTAMP:20260423T065627
CREATED:20220916T133244Z
LAST-MODIFIED:20260306T155654Z
UID:10021179-1931420700-1931423400@fpcjackson.org
SUMMARY:College Sunday School
DESCRIPTION:
URL:https://fpcjackson.org/event/college-sunday-school/2031-03-16/
LOCATION:FPC Jackson Campus\, 1390 North State Street\, Jackson\, MS\, 39202\, United States
CATEGORIES:College
END:VEVENT
END:VCALENDAR