BEGIN:VCALENDAR
VERSION:2.0
PRODID:-//First Presbyterian Church - ECPv6.15.20//NONSGML v1.0//EN
CALSCALE:GREGORIAN
METHOD:PUBLISH
X-ORIGINAL-URL:https://fpcjackson.org
X-WR-CALDESC:Events for First Presbyterian Church
REFRESH-INTERVAL;VALUE=DURATION:PT1H
X-Robots-Tag:noindex
X-PUBLISHED-TTL:PT1H
BEGIN:VTIMEZONE
TZID:America/Chicago
BEGIN:DAYLIGHT
TZOFFSETFROM:-0600
TZOFFSETTO:-0500
TZNAME:CDT
DTSTART:20240310T080000
END:DAYLIGHT
BEGIN:STANDARD
TZOFFSETFROM:-0500
TZOFFSETTO:-0600
TZNAME:CST
DTSTART:20241103T070000
END:STANDARD
BEGIN:DAYLIGHT
TZOFFSETFROM:-0600
TZOFFSETTO:-0500
TZNAME:CDT
DTSTART:20250309T080000
END:DAYLIGHT
BEGIN:STANDARD
TZOFFSETFROM:-0500
TZOFFSETTO:-0600
TZNAME:CST
DTSTART:20251102T070000
END:STANDARD
BEGIN:DAYLIGHT
TZOFFSETFROM:-0600
TZOFFSETTO:-0500
TZNAME:CDT
DTSTART:20260308T080000
END:DAYLIGHT
BEGIN:STANDARD
TZOFFSETFROM:-0500
TZOFFSETTO:-0600
TZNAME:CST
DTSTART:20261101T070000
END:STANDARD
BEGIN:DAYLIGHT
TZOFFSETFROM:-0600
TZOFFSETTO:-0500
TZNAME:CDT
DTSTART:20270314T080000
END:DAYLIGHT
BEGIN:STANDARD
TZOFFSETFROM:-0500
TZOFFSETTO:-0600
TZNAME:CST
DTSTART:20271107T070000
END:STANDARD
END:VTIMEZONE
BEGIN:VEVENT
DTSTART;TZID=America/Chicago:20260419T094500
DTEND;TZID=America/Chicago:20260419T103000
DTSTAMP:20260422T010958
CREATED:20220916T133244Z
LAST-MODIFIED:20260306T155654Z
UID:10001017-1776591900-1776594600@fpcjackson.org
SUMMARY:College Sunday School
DESCRIPTION:
URL:https://fpcjackson.org/event/college-sunday-school/2026-04-19/
LOCATION:FPC Jackson Campus\, 1390 North State Street\, Jackson\, MS\, 39202\, United States
CATEGORIES:College
END:VEVENT
BEGIN:VEVENT
DTSTART;TZID=America/Chicago:20260412T094500
DTEND;TZID=America/Chicago:20260412T103000
DTSTAMP:20260422T010958
CREATED:20220916T133244Z
LAST-MODIFIED:20260306T155654Z
UID:10001016-1775987100-1775989800@fpcjackson.org
SUMMARY:College Sunday School
DESCRIPTION:
URL:https://fpcjackson.org/event/college-sunday-school/2026-04-12/
LOCATION:FPC Jackson Campus\, 1390 North State Street\, Jackson\, MS\, 39202\, United States
CATEGORIES:College
END:VEVENT
BEGIN:VEVENT
DTSTART;TZID=America/Chicago:20260405T094500
DTEND;TZID=America/Chicago:20260405T103000
DTSTAMP:20260422T010958
CREATED:20220916T133244Z
LAST-MODIFIED:20260306T155654Z
UID:10001015-1775382300-1775385000@fpcjackson.org
SUMMARY:College Sunday School
DESCRIPTION:
URL:https://fpcjackson.org/event/college-sunday-school/2026-04-05/
LOCATION:FPC Jackson Campus\, 1390 North State Street\, Jackson\, MS\, 39202\, United States
CATEGORIES:College
END:VEVENT
BEGIN:VEVENT
DTSTART;TZID=America/Chicago:20260329T094500
DTEND;TZID=America/Chicago:20260329T103000
DTSTAMP:20260422T010958
CREATED:20220916T133244Z
LAST-MODIFIED:20260306T155654Z
UID:10001014-1774777500-1774780200@fpcjackson.org
SUMMARY:College Sunday School
DESCRIPTION:
URL:https://fpcjackson.org/event/college-sunday-school/2026-03-29/
LOCATION:FPC Jackson Campus\, 1390 North State Street\, Jackson\, MS\, 39202\, United States
CATEGORIES:College
END:VEVENT
BEGIN:VEVENT
DTSTART;TZID=America/Chicago:20260322T120000
DTEND;TZID=America/Chicago:20260322T140000
DTSTAMP:20260422T010958
CREATED:20251015T170947Z
LAST-MODIFIED:20260313T152753Z
UID:10018967-1774180800-1774188000@fpcjackson.org
SUMMARY:College Lunch
DESCRIPTION:College students\, join us for a free lunch on Sunday\, March 22\, at the Strain home (7 Pond Side Drive). Join us for worship at 11 a.m.\, and lunch will follow. Contact Peyton for more information or if you need a ride at 205-613-1059.
URL:https://fpcjackson.org/event/college-lunch-9/
LOCATION:Off-Site
CATEGORIES:College
ATTACH;FMTTYPE=image/png:https://fpcjackson.org/wp-content/uploads/2025/10/College-Lunch-Mar-2026.png
END:VEVENT
BEGIN:VEVENT
DTSTART;TZID=America/Chicago:20260322T094500
DTEND;TZID=America/Chicago:20260322T103000
DTSTAMP:20260422T010958
CREATED:20220916T133244Z
LAST-MODIFIED:20260306T155654Z
UID:10001013-1774172700-1774175400@fpcjackson.org
SUMMARY:College Sunday School
DESCRIPTION:
URL:https://fpcjackson.org/event/college-sunday-school/2026-03-22/
LOCATION:FPC Jackson Campus\, 1390 North State Street\, Jackson\, MS\, 39202\, United States
CATEGORIES:College
END:VEVENT
BEGIN:VEVENT
DTSTART;TZID=America/Chicago:20260321T113000
DTEND;TZID=America/Chicago:20260321T140000
DTSTAMP:20260422T010958
CREATED:20250307T173922Z
LAST-MODIFIED:20260306T161803Z
UID:10008892-1774092600-1774101600@fpcjackson.org
SUMMARY:College Spring Fling
DESCRIPTION:College Students\, you are invited to a SPRING FLING event\, Saturday\, March 21\, 11:30 a.m. – 2 p.m.\, at the Baird Center Gym at FPC. We’ll have a cookout with burgers and hotdogs at 11:30 a.m. and then all sorts of games! \n\n3 on 3 Basketball Tournament\nVolleyball\nSpikeball\nDodgeball\n\nDon’t like sports? Come and hang out! We’ll also have Mario Kart & board games. \nAll college students are invited. You don’t need to be a part of the FPC College Ministry to come. We can’t wait to see you!  Join us for free food\, fellowship\, & fun!
URL:https://fpcjackson.org/event/college-spring-fling/
LOCATION:Baird Center Gym\, 1390 North State Street\, Jackson\, MS\, 39202\, United States
CATEGORIES:College
ATTACH;FMTTYPE=image/png:https://fpcjackson.org/wp-content/uploads/2025/03/College-Spring-Fling-2026.png
END:VEVENT
BEGIN:VEVENT
DTSTART;TZID=America/Chicago:20260315T094500
DTEND;TZID=America/Chicago:20260315T103000
DTSTAMP:20260422T010958
CREATED:20220916T133244Z
LAST-MODIFIED:20260306T155654Z
UID:10001012-1773567900-1773570600@fpcjackson.org
SUMMARY:College Sunday School
DESCRIPTION:
URL:https://fpcjackson.org/event/college-sunday-school/2026-03-15/
LOCATION:FPC Jackson Campus\, 1390 North State Street\, Jackson\, MS\, 39202\, United States
CATEGORIES:College
END:VEVENT
BEGIN:VEVENT
DTSTART;TZID=America/Chicago:20260308T094500
DTEND;TZID=America/Chicago:20260308T103000
DTSTAMP:20260422T010958
CREATED:20220916T133244Z
LAST-MODIFIED:20260306T155654Z
UID:10001011-1772963100-1772965800@fpcjackson.org
SUMMARY:College Sunday School
DESCRIPTION:
URL:https://fpcjackson.org/event/college-sunday-school/2026-03-08/
LOCATION:FPC Jackson Campus\, 1390 North State Street\, Jackson\, MS\, 39202\, United States
CATEGORIES:College
END:VEVENT
BEGIN:VEVENT
DTSTART;TZID=America/Chicago:20260222T094500
DTEND;TZID=America/Chicago:20260222T103000
DTSTAMP:20260422T010958
CREATED:20220916T133244Z
LAST-MODIFIED:20260306T155654Z
UID:10001009-1771753500-1771756200@fpcjackson.org
SUMMARY:College Sunday School
DESCRIPTION:
URL:https://fpcjackson.org/event/college-sunday-school/2026-02-22/
LOCATION:FPC Jackson Campus\, 1390 North State Street\, Jackson\, MS\, 39202\, United States
CATEGORIES:College
END:VEVENT
BEGIN:VEVENT
DTSTART;TZID=America/Chicago:20260215T094500
DTEND;TZID=America/Chicago:20260215T103000
DTSTAMP:20260422T010958
CREATED:20220916T133244Z
LAST-MODIFIED:20260306T155654Z
UID:10001008-1771148700-1771151400@fpcjackson.org
SUMMARY:College Sunday School
DESCRIPTION:
URL:https://fpcjackson.org/event/college-sunday-school/2026-02-15/
LOCATION:FPC Jackson Campus\, 1390 North State Street\, Jackson\, MS\, 39202\, United States
CATEGORIES:College
END:VEVENT
BEGIN:VEVENT
DTSTART;TZID=America/Chicago:20260208T094500
DTEND;TZID=America/Chicago:20260208T103000
DTSTAMP:20260422T010958
CREATED:20220916T133244Z
LAST-MODIFIED:20260306T155654Z
UID:10001007-1770543900-1770546600@fpcjackson.org
SUMMARY:College Sunday School
DESCRIPTION:
URL:https://fpcjackson.org/event/college-sunday-school/2026-02-08/
LOCATION:FPC Jackson Campus\, 1390 North State Street\, Jackson\, MS\, 39202\, United States
CATEGORIES:College
END:VEVENT
BEGIN:VEVENT
DTSTART;TZID=America/Chicago:20260201T094500
DTEND;TZID=America/Chicago:20260201T103000
DTSTAMP:20260422T010958
CREATED:20220916T133244Z
LAST-MODIFIED:20260306T155654Z
UID:10001006-1769939100-1769941800@fpcjackson.org
SUMMARY:College Sunday School
DESCRIPTION:
URL:https://fpcjackson.org/event/college-sunday-school/2026-02-01/
LOCATION:FPC Jackson Campus\, 1390 North State Street\, Jackson\, MS\, 39202\, United States
CATEGORIES:College
END:VEVENT
BEGIN:VEVENT
DTSTART;TZID=America/Chicago:20260125T094500
DTEND;TZID=America/Chicago:20260125T103000
DTSTAMP:20260422T010958
CREATED:20220916T133244Z
LAST-MODIFIED:20260306T155654Z
UID:10001005-1769334300-1769337000@fpcjackson.org
SUMMARY:College Sunday School
DESCRIPTION:
URL:https://fpcjackson.org/event/college-sunday-school/2026-01-25/
LOCATION:FPC Jackson Campus\, 1390 North State Street\, Jackson\, MS\, 39202\, United States
CATEGORIES:College
END:VEVENT
BEGIN:VEVENT
DTSTART;TZID=America/Chicago:20260118T094500
DTEND;TZID=America/Chicago:20260118T103000
DTSTAMP:20260422T010958
CREATED:20220916T133244Z
LAST-MODIFIED:20260306T155654Z
UID:10001004-1768729500-1768732200@fpcjackson.org
SUMMARY:College Sunday School
DESCRIPTION:
URL:https://fpcjackson.org/event/college-sunday-school/2026-01-18/
LOCATION:FPC Jackson Campus\, 1390 North State Street\, Jackson\, MS\, 39202\, United States
CATEGORIES:College
END:VEVENT
BEGIN:VEVENT
DTSTART;TZID=America/Chicago:20260111T094500
DTEND;TZID=America/Chicago:20260111T103000
DTSTAMP:20260422T010958
CREATED:20220916T133244Z
LAST-MODIFIED:20260306T155654Z
UID:10001003-1768124700-1768127400@fpcjackson.org
SUMMARY:College Sunday School
DESCRIPTION:
URL:https://fpcjackson.org/event/college-sunday-school/2026-01-11/
LOCATION:FPC Jackson Campus\, 1390 North State Street\, Jackson\, MS\, 39202\, United States
CATEGORIES:College
END:VEVENT
BEGIN:VEVENT
DTSTART;TZID=America/Chicago:20260104T094500
DTEND;TZID=America/Chicago:20260104T103000
DTSTAMP:20260422T010958
CREATED:20220916T133244Z
LAST-MODIFIED:20260306T155654Z
UID:10001002-1767519900-1767522600@fpcjackson.org
SUMMARY:College Sunday School
DESCRIPTION:
URL:https://fpcjackson.org/event/college-sunday-school/2026-01-04/
LOCATION:FPC Jackson Campus\, 1390 North State Street\, Jackson\, MS\, 39202\, United States
CATEGORIES:College
END:VEVENT
BEGIN:VEVENT
DTSTART;TZID=America/Chicago:20251221T094500
DTEND;TZID=America/Chicago:20251221T103000
DTSTAMP:20260422T010958
CREATED:20220916T133244Z
LAST-MODIFIED:20260306T155654Z
UID:10001000-1766310300-1766313000@fpcjackson.org
SUMMARY:College Sunday School
DESCRIPTION:
URL:https://fpcjackson.org/event/college-sunday-school/2025-12-21/
LOCATION:FPC Jackson Campus\, 1390 North State Street\, Jackson\, MS\, 39202\, United States
CATEGORIES:College
END:VEVENT
BEGIN:VEVENT
DTSTART;TZID=America/Chicago:20251215T183000
DTEND;TZID=America/Chicago:20251215T203000
DTSTAMP:20260422T010958
CREATED:20251124T212223Z
LAST-MODIFIED:20251124T212223Z
UID:10018998-1765823400-1765830600@fpcjackson.org
SUMMARY:College Christmas Party
DESCRIPTION:College Christmas Party\nDecember 15 • 6:30 p.m. • The Oakley Home \nIf you’re back in town for Christmas break\, we’d love to see you! Come reconnect\, eat good food\, and catch up with old friends. Swing by for a relaxed night of Christmas cheer.
URL:https://fpcjackson.org/event/college-christmas-party-2/
LOCATION:Off-Site
CATEGORIES:Christmas,College
ATTACH;FMTTYPE=image/png:https://fpcjackson.org/wp-content/uploads/2025/11/College-Christmas-Party-2025.png
END:VEVENT
BEGIN:VEVENT
DTSTART;TZID=America/Chicago:20251214T094500
DTEND;TZID=America/Chicago:20251214T103000
DTSTAMP:20260422T010958
CREATED:20220916T133244Z
LAST-MODIFIED:20260306T155654Z
UID:10000999-1765705500-1765708200@fpcjackson.org
SUMMARY:College Sunday School
DESCRIPTION:
URL:https://fpcjackson.org/event/college-sunday-school/2025-12-14/
LOCATION:FPC Jackson Campus\, 1390 North State Street\, Jackson\, MS\, 39202\, United States
CATEGORIES:College
END:VEVENT
BEGIN:VEVENT
DTSTART;TZID=America/Chicago:20251207T094500
DTEND;TZID=America/Chicago:20251207T103000
DTSTAMP:20260422T010958
CREATED:20220916T133244Z
LAST-MODIFIED:20260306T155654Z
UID:10000998-1765100700-1765103400@fpcjackson.org
SUMMARY:College Sunday School
DESCRIPTION:
URL:https://fpcjackson.org/event/college-sunday-school/2025-12-07/
LOCATION:FPC Jackson Campus\, 1390 North State Street\, Jackson\, MS\, 39202\, United States
CATEGORIES:College
END:VEVENT
BEGIN:VEVENT
DTSTART;TZID=America/Chicago:20251130T094500
DTEND;TZID=America/Chicago:20251130T103000
DTSTAMP:20260422T010958
CREATED:20220916T133244Z
LAST-MODIFIED:20260306T155654Z
UID:10000997-1764495900-1764498600@fpcjackson.org
SUMMARY:College Sunday School
DESCRIPTION:
URL:https://fpcjackson.org/event/college-sunday-school/2025-11-30/
LOCATION:FPC Jackson Campus\, 1390 North State Street\, Jackson\, MS\, 39202\, United States
CATEGORIES:College
END:VEVENT
BEGIN:VEVENT
DTSTART;TZID=America/Chicago:20251123T094500
DTEND;TZID=America/Chicago:20251123T103000
DTSTAMP:20260422T010958
CREATED:20220916T133244Z
LAST-MODIFIED:20260306T155654Z
UID:10000996-1763891100-1763893800@fpcjackson.org
SUMMARY:College Sunday School
DESCRIPTION:
URL:https://fpcjackson.org/event/college-sunday-school/2025-11-23/
LOCATION:FPC Jackson Campus\, 1390 North State Street\, Jackson\, MS\, 39202\, United States
CATEGORIES:College
END:VEVENT
BEGIN:VEVENT
DTSTART;TZID=America/Chicago:20251116T094500
DTEND;TZID=America/Chicago:20251116T103000
DTSTAMP:20260422T010958
CREATED:20220916T133244Z
LAST-MODIFIED:20260306T155654Z
UID:10000995-1763286300-1763289000@fpcjackson.org
SUMMARY:College Sunday School
DESCRIPTION:
URL:https://fpcjackson.org/event/college-sunday-school/2025-11-16/
LOCATION:FPC Jackson Campus\, 1390 North State Street\, Jackson\, MS\, 39202\, United States
CATEGORIES:College
END:VEVENT
BEGIN:VEVENT
DTSTART;TZID=America/Chicago:20251109T094500
DTEND;TZID=America/Chicago:20251109T103000
DTSTAMP:20260422T010958
CREATED:20220916T133244Z
LAST-MODIFIED:20260306T155654Z
UID:10000994-1762681500-1762684200@fpcjackson.org
SUMMARY:College Sunday School
DESCRIPTION:
URL:https://fpcjackson.org/event/college-sunday-school/2025-11-09/
LOCATION:FPC Jackson Campus\, 1390 North State Street\, Jackson\, MS\, 39202\, United States
CATEGORIES:College
END:VEVENT
BEGIN:VEVENT
DTSTART;TZID=America/Chicago:20251102T094500
DTEND;TZID=America/Chicago:20251102T103000
DTSTAMP:20260422T010958
CREATED:20220916T133244Z
LAST-MODIFIED:20260306T155654Z
UID:10000993-1762076700-1762079400@fpcjackson.org
SUMMARY:College Sunday School
DESCRIPTION:
URL:https://fpcjackson.org/event/college-sunday-school/2025-11-02/
LOCATION:FPC Jackson Campus\, 1390 North State Street\, Jackson\, MS\, 39202\, United States
CATEGORIES:College
END:VEVENT
BEGIN:VEVENT
DTSTART;TZID=America/Chicago:20251026T094500
DTEND;TZID=America/Chicago:20251026T103000
DTSTAMP:20260422T010958
CREATED:20220916T133244Z
LAST-MODIFIED:20260306T155654Z
UID:10000992-1761471900-1761474600@fpcjackson.org
SUMMARY:College Sunday School
DESCRIPTION:
URL:https://fpcjackson.org/event/college-sunday-school/2025-10-26/
LOCATION:FPC Jackson Campus\, 1390 North State Street\, Jackson\, MS\, 39202\, United States
CATEGORIES:College
END:VEVENT
BEGIN:VEVENT
DTSTART;TZID=America/Chicago:20251019T094500
DTEND;TZID=America/Chicago:20251019T103000
DTSTAMP:20260422T010958
CREATED:20220916T133244Z
LAST-MODIFIED:20260306T155654Z
UID:10000991-1760867100-1760869800@fpcjackson.org
SUMMARY:College Sunday School
DESCRIPTION:
URL:https://fpcjackson.org/event/college-sunday-school/2025-10-19/
LOCATION:FPC Jackson Campus\, 1390 North State Street\, Jackson\, MS\, 39202\, United States
CATEGORIES:College
END:VEVENT
BEGIN:VEVENT
DTSTART;TZID=America/Chicago:20251012T094500
DTEND;TZID=America/Chicago:20251012T103000
DTSTAMP:20260422T010958
CREATED:20220916T133244Z
LAST-MODIFIED:20260306T155654Z
UID:10000990-1760262300-1760265000@fpcjackson.org
SUMMARY:College Sunday School
DESCRIPTION:
URL:https://fpcjackson.org/event/college-sunday-school/2025-10-12/
LOCATION:FPC Jackson Campus\, 1390 North State Street\, Jackson\, MS\, 39202\, United States
CATEGORIES:College
END:VEVENT
BEGIN:VEVENT
DTSTART;TZID=America/Chicago:20251005T094500
DTEND;TZID=America/Chicago:20251005T103000
DTSTAMP:20260422T010958
CREATED:20220916T133244Z
LAST-MODIFIED:20260306T155654Z
UID:10000989-1759657500-1759660200@fpcjackson.org
SUMMARY:College Sunday School
DESCRIPTION:
URL:https://fpcjackson.org/event/college-sunday-school/2025-10-05/
LOCATION:FPC Jackson Campus\, 1390 North State Street\, Jackson\, MS\, 39202\, United States
CATEGORIES:College
END:VEVENT
END:VCALENDAR