BEGIN:VCALENDAR
VERSION:2.0
PRODID:-//First Presbyterian Church - ECPv6.15.20//NONSGML v1.0//EN
CALSCALE:GREGORIAN
METHOD:PUBLISH
X-WR-CALNAME:First Presbyterian Church
X-ORIGINAL-URL:https://fpcjackson.org
X-WR-CALDESC:Events for First Presbyterian Church
REFRESH-INTERVAL;VALUE=DURATION:PT1H
X-Robots-Tag:noindex
X-PUBLISHED-TTL:PT1H
BEGIN:VTIMEZONE
TZID:America/Chicago
BEGIN:DAYLIGHT
TZOFFSETFROM:-0600
TZOFFSETTO:-0500
TZNAME:CDT
DTSTART:20250309T080000
END:DAYLIGHT
BEGIN:STANDARD
TZOFFSETFROM:-0500
TZOFFSETTO:-0600
TZNAME:CST
DTSTART:20251102T070000
END:STANDARD
BEGIN:DAYLIGHT
TZOFFSETFROM:-0600
TZOFFSETTO:-0500
TZNAME:CDT
DTSTART:20260308T080000
END:DAYLIGHT
BEGIN:STANDARD
TZOFFSETFROM:-0500
TZOFFSETTO:-0600
TZNAME:CST
DTSTART:20261101T070000
END:STANDARD
BEGIN:DAYLIGHT
TZOFFSETFROM:-0600
TZOFFSETTO:-0500
TZNAME:CDT
DTSTART:20270314T080000
END:DAYLIGHT
BEGIN:STANDARD
TZOFFSETFROM:-0500
TZOFFSETTO:-0600
TZNAME:CST
DTSTART:20271107T070000
END:STANDARD
END:VTIMEZONE
BEGIN:VEVENT
DTSTART;TZID=America/Chicago:20260308T094500
DTEND;TZID=America/Chicago:20260308T103000
DTSTAMP:20260422T005753
CREATED:20220916T133244Z
LAST-MODIFIED:20260306T155654Z
UID:10001011-1772963100-1772965800@fpcjackson.org
SUMMARY:College Sunday School
DESCRIPTION:
URL:https://fpcjackson.org/event/college-sunday-school/2026-03-08/
LOCATION:FPC Jackson Campus\, 1390 North State Street\, Jackson\, MS\, 39202\, United States
CATEGORIES:College
END:VEVENT
BEGIN:VEVENT
DTSTART;TZID=America/Chicago:20260315T094500
DTEND;TZID=America/Chicago:20260315T103000
DTSTAMP:20260422T005753
CREATED:20220916T133244Z
LAST-MODIFIED:20260306T155654Z
UID:10001012-1773567900-1773570600@fpcjackson.org
SUMMARY:College Sunday School
DESCRIPTION:
URL:https://fpcjackson.org/event/college-sunday-school/2026-03-15/
LOCATION:FPC Jackson Campus\, 1390 North State Street\, Jackson\, MS\, 39202\, United States
CATEGORIES:College
END:VEVENT
BEGIN:VEVENT
DTSTART;TZID=America/Chicago:20260321T113000
DTEND;TZID=America/Chicago:20260321T140000
DTSTAMP:20260422T005753
CREATED:20250307T173922Z
LAST-MODIFIED:20260306T161803Z
UID:10008892-1774092600-1774101600@fpcjackson.org
SUMMARY:College Spring Fling
DESCRIPTION:College Students\, you are invited to a SPRING FLING event\, Saturday\, March 21\, 11:30 a.m. – 2 p.m.\, at the Baird Center Gym at FPC. We’ll have a cookout with burgers and hotdogs at 11:30 a.m. and then all sorts of games! \n\n3 on 3 Basketball Tournament\nVolleyball\nSpikeball\nDodgeball\n\nDon’t like sports? Come and hang out! We’ll also have Mario Kart & board games. \nAll college students are invited. You don’t need to be a part of the FPC College Ministry to come. We can’t wait to see you!  Join us for free food\, fellowship\, & fun!
URL:https://fpcjackson.org/event/college-spring-fling/
LOCATION:Baird Center Gym\, 1390 North State Street\, Jackson\, MS\, 39202\, United States
CATEGORIES:College
ATTACH;FMTTYPE=image/png:https://fpcjackson.org/wp-content/uploads/2025/03/College-Spring-Fling-2026.png
END:VEVENT
BEGIN:VEVENT
DTSTART;TZID=America/Chicago:20260322T094500
DTEND;TZID=America/Chicago:20260322T103000
DTSTAMP:20260422T005753
CREATED:20220916T133244Z
LAST-MODIFIED:20260306T155654Z
UID:10001013-1774172700-1774175400@fpcjackson.org
SUMMARY:College Sunday School
DESCRIPTION:
URL:https://fpcjackson.org/event/college-sunday-school/2026-03-22/
LOCATION:FPC Jackson Campus\, 1390 North State Street\, Jackson\, MS\, 39202\, United States
CATEGORIES:College
END:VEVENT
BEGIN:VEVENT
DTSTART;TZID=America/Chicago:20260322T120000
DTEND;TZID=America/Chicago:20260322T140000
DTSTAMP:20260422T005753
CREATED:20251015T170947Z
LAST-MODIFIED:20260313T152753Z
UID:10018967-1774180800-1774188000@fpcjackson.org
SUMMARY:College Lunch
DESCRIPTION:College students\, join us for a free lunch on Sunday\, March 22\, at the Strain home (7 Pond Side Drive). Join us for worship at 11 a.m.\, and lunch will follow. Contact Peyton for more information or if you need a ride at 205-613-1059.
URL:https://fpcjackson.org/event/college-lunch-9/
LOCATION:Off-Site
CATEGORIES:College
ATTACH;FMTTYPE=image/png:https://fpcjackson.org/wp-content/uploads/2025/10/College-Lunch-Mar-2026.png
END:VEVENT
BEGIN:VEVENT
DTSTART;TZID=America/Chicago:20260329T094500
DTEND;TZID=America/Chicago:20260329T103000
DTSTAMP:20260422T005753
CREATED:20220916T133244Z
LAST-MODIFIED:20260306T155654Z
UID:10001014-1774777500-1774780200@fpcjackson.org
SUMMARY:College Sunday School
DESCRIPTION:
URL:https://fpcjackson.org/event/college-sunday-school/2026-03-29/
LOCATION:FPC Jackson Campus\, 1390 North State Street\, Jackson\, MS\, 39202\, United States
CATEGORIES:College
END:VEVENT
END:VCALENDAR