BEGIN:VCALENDAR
VERSION:2.0
PRODID:-//First Presbyterian Church - ECPv6.15.20//NONSGML v1.0//EN
CALSCALE:GREGORIAN
METHOD:PUBLISH
X-ORIGINAL-URL:https://fpcjackson.org
X-WR-CALDESC:Events for First Presbyterian Church
REFRESH-INTERVAL;VALUE=DURATION:PT1H
X-Robots-Tag:noindex
X-PUBLISHED-TTL:PT1H
BEGIN:VTIMEZONE
TZID:America/Chicago
BEGIN:DAYLIGHT
TZOFFSETFROM:-0600
TZOFFSETTO:-0500
TZNAME:CDT
DTSTART:20240310T080000
END:DAYLIGHT
BEGIN:STANDARD
TZOFFSETFROM:-0500
TZOFFSETTO:-0600
TZNAME:CST
DTSTART:20241103T070000
END:STANDARD
BEGIN:DAYLIGHT
TZOFFSETFROM:-0600
TZOFFSETTO:-0500
TZNAME:CDT
DTSTART:20250309T080000
END:DAYLIGHT
BEGIN:STANDARD
TZOFFSETFROM:-0500
TZOFFSETTO:-0600
TZNAME:CST
DTSTART:20251102T070000
END:STANDARD
BEGIN:DAYLIGHT
TZOFFSETFROM:-0600
TZOFFSETTO:-0500
TZNAME:CDT
DTSTART:20260308T080000
END:DAYLIGHT
BEGIN:STANDARD
TZOFFSETFROM:-0500
TZOFFSETTO:-0600
TZNAME:CST
DTSTART:20261101T070000
END:STANDARD
END:VTIMEZONE
BEGIN:VEVENT
DTSTART;TZID=America/Chicago:20250601T094500
DTEND;TZID=America/Chicago:20250601T104500
DTSTAMP:20260422T172223
CREATED:20250429T203804Z
LAST-MODIFIED:20250429T203804Z
UID:10009173-1748771100-1748774700@fpcjackson.org
SUMMARY:Membership Class
DESCRIPTION:The next offering of the Membership Class will begin June 1 and will meet on Sundays at 9:45 a.m. This is the place to begin if you are considering membership at FPC or would like to know more about our church and the basics of our faith and practice. During the class we will learn what we share in common with all Bible-believing Christians\, as well as about the distinctives of Presbyterianism. We will hear from ministry leaders about what’s taking place at First Pres\, while providing a great opportunity to meet others who have recently found a home here at FPC.
URL:https://fpcjackson.org/event/membership-class-5/
LOCATION:FPC Jackson Campus\, 1390 North State Street\, Jackson\, MS\, 39202\, United States
CATEGORIES:Class,New Members,Sunday School
ATTACH;FMTTYPE=image/png:https://fpcjackson.org/wp-content/uploads/2025/04/Membership-Class-Mar-2025-1.png
END:VEVENT
BEGIN:VEVENT
DTSTART;TZID=America/Chicago:20250608T094500
DTEND;TZID=America/Chicago:20250608T104500
DTSTAMP:20260422T172223
CREATED:20250429T203917Z
LAST-MODIFIED:20250429T203917Z
UID:10009175-1749375900-1749379500@fpcjackson.org
SUMMARY:Membership Class
DESCRIPTION:The next offering of the Membership Class will begin June 1 and will meet on Sundays at 9:45 a.m. This is the place to begin if you are considering membership at FPC or would like to know more about our church and the basics of our faith and practice. During the class we will learn what we share in common with all Bible-believing Christians\, as well as about the distinctives of Presbyterianism. We will hear from ministry leaders about what’s taking place at First Pres\, while providing a great opportunity to meet others who have recently found a home here at FPC.
URL:https://fpcjackson.org/event/membership-class-6/2025-06-08/
LOCATION:FPC Jackson Campus\, 1390 North State Street\, Jackson\, MS\, 39202\, United States
CATEGORIES:Class,New Members,Sunday School
ATTACH;FMTTYPE=image/png:https://fpcjackson.org/wp-content/uploads/2025/04/Membership-Class-Mar-2025-1.png
END:VEVENT
BEGIN:VEVENT
DTSTART;TZID=America/Chicago:20250611T180000
DTEND;TZID=America/Chicago:20250611T190000
DTSTAMP:20260422T172223
CREATED:20241204T213629Z
LAST-MODIFIED:20260306T160529Z
UID:10002030-1749664800-1749668400@fpcjackson.org
SUMMARY:Midweek Adult Programs
DESCRIPTION:
URL:https://fpcjackson.org/event/midweek-adult-programs-2/2025-06-11/
LOCATION:Various\, 1390 North State Street\, Jackson\, MS\, 39202\, United States
CATEGORIES:Bible Study,Class,Discipleship,Midweek,Teaching
END:VEVENT
BEGIN:VEVENT
DTSTART;TZID=America/Chicago:20250611T180000
DTEND;TZID=America/Chicago:20250611T190000
DTSTAMP:20260422T172223
CREATED:20250529T203840Z
LAST-MODIFIED:20250529T203840Z
UID:10010136-1749664800-1749668400@fpcjackson.org
SUMMARY:Story and Song: Six Hymns that Shaped the Family of Christ
DESCRIPTION:Every family has its favorite songs. Jesus’ family is no different\, and the songs we sing together have shaped us as a church. This summer we want to spend time opening the family scrapbook\, and rejoicing in the truths behind some favorite hymns. These songs are a part of our inheritance\, and one day we will pass them on to our children. As we learn their stories\, and the stories of those who first sung them\, we hope to grow in love for the Triune God whose praises they sound. \n\n6/11 – William Cowper – Stephen Biggs\n6/18 – “Of the Father’s Love Begotten” – Ligon Duncan\n6/25 – “Jesus I My Cross Have Taken” – Jennings Duncan\n7/9 – Samuel Rutherford/Anne Cousin “The Sands of Time are Sinking” -Scott Miller\n7/16 – John Newton – Paul Forster\n7/23 – “A Mighty Fortress” – Ryan Miller
URL:https://fpcjackson.org/event/story-and-song-six-hymns-that-shaped-the-family-of-christ/
LOCATION:FPC Jackson Campus\, 1390 North State Street\, Jackson\, MS\, 39202\, United States
CATEGORIES:Class
ATTACH;FMTTYPE=image/png:https://fpcjackson.org/wp-content/uploads/2025/05/Story-and-Song-Midweek-1.png
END:VEVENT
BEGIN:VEVENT
DTSTART;TZID=America/Chicago:20250615T094500
DTEND;TZID=America/Chicago:20250615T104500
DTSTAMP:20260422T172223
CREATED:20250429T203917Z
LAST-MODIFIED:20250429T203917Z
UID:10009176-1749980700-1749984300@fpcjackson.org
SUMMARY:Membership Class
DESCRIPTION:The next offering of the Membership Class will begin June 1 and will meet on Sundays at 9:45 a.m. This is the place to begin if you are considering membership at FPC or would like to know more about our church and the basics of our faith and practice. During the class we will learn what we share in common with all Bible-believing Christians\, as well as about the distinctives of Presbyterianism. We will hear from ministry leaders about what’s taking place at First Pres\, while providing a great opportunity to meet others who have recently found a home here at FPC.
URL:https://fpcjackson.org/event/membership-class-6/2025-06-15/
LOCATION:FPC Jackson Campus\, 1390 North State Street\, Jackson\, MS\, 39202\, United States
CATEGORIES:Class,New Members,Sunday School
ATTACH;FMTTYPE=image/png:https://fpcjackson.org/wp-content/uploads/2025/04/Membership-Class-Mar-2025-1.png
END:VEVENT
BEGIN:VEVENT
DTSTART;TZID=America/Chicago:20250618T180000
DTEND;TZID=America/Chicago:20250618T190000
DTSTAMP:20260422T172223
CREATED:20241204T213629Z
LAST-MODIFIED:20260306T160529Z
UID:10002031-1750269600-1750273200@fpcjackson.org
SUMMARY:Midweek Adult Programs
DESCRIPTION:
URL:https://fpcjackson.org/event/midweek-adult-programs-2/2025-06-18/
LOCATION:Various\, 1390 North State Street\, Jackson\, MS\, 39202\, United States
CATEGORIES:Bible Study,Class,Discipleship,Midweek,Teaching
END:VEVENT
BEGIN:VEVENT
DTSTART;TZID=America/Chicago:20250618T180000
DTEND;TZID=America/Chicago:20250618T190000
DTSTAMP:20260422T172223
CREATED:20250529T204028Z
LAST-MODIFIED:20250529T205120Z
UID:10010138-1750269600-1750273200@fpcjackson.org
SUMMARY:Story and Song: Six Hymns that Shaped the Family of Christ
DESCRIPTION:Every family has its favorite songs. Jesus’ family is no different\, and the songs we sing together have shaped us as a church. This summer we want to spend time opening the family scrapbook\, and rejoicing in the truths behind some favorite hymns. These songs are a part of our inheritance\, and one day we will pass them on to our children. As we learn their stories\, and the stories of those who first sung them\, we hope to grow in love for the Triune God whose praises they sound. \n\n6/11 – William Cowper – Stephen Biggs\n6/18 – “Of the Father’s Love Begotten” – Ligon Duncan\n6/25 – “Jesus I My Cross Have Taken” – Jennings Duncan\n7/9 – Samuel Rutherford/Anne Cousin “The Sands of Time are Sinking” -Scott Miller\n7/16 – John Newton – Paul Forster\n7/23 – “A Mighty Fortress” – Ryan Miller
URL:https://fpcjackson.org/event/story-and-song-six-hymns-that-shaped-the-family-of-christ-2/2025-06-18/
LOCATION:FPC Jackson Campus\, 1390 North State Street\, Jackson\, MS\, 39202\, United States
CATEGORIES:Class
ATTACH;FMTTYPE=image/png:https://fpcjackson.org/wp-content/uploads/2025/05/Story-and-Song-Midweek-1.png
END:VEVENT
BEGIN:VEVENT
DTSTART;TZID=America/Chicago:20250622T094500
DTEND;TZID=America/Chicago:20250622T104500
DTSTAMP:20260422T172223
CREATED:20250429T203917Z
LAST-MODIFIED:20250429T203917Z
UID:10009177-1750585500-1750589100@fpcjackson.org
SUMMARY:Membership Class
DESCRIPTION:The next offering of the Membership Class will begin June 1 and will meet on Sundays at 9:45 a.m. This is the place to begin if you are considering membership at FPC or would like to know more about our church and the basics of our faith and practice. During the class we will learn what we share in common with all Bible-believing Christians\, as well as about the distinctives of Presbyterianism. We will hear from ministry leaders about what’s taking place at First Pres\, while providing a great opportunity to meet others who have recently found a home here at FPC.
URL:https://fpcjackson.org/event/membership-class-6/2025-06-22/
LOCATION:FPC Jackson Campus\, 1390 North State Street\, Jackson\, MS\, 39202\, United States
CATEGORIES:Class,New Members,Sunday School
ATTACH;FMTTYPE=image/png:https://fpcjackson.org/wp-content/uploads/2025/04/Membership-Class-Mar-2025-1.png
END:VEVENT
BEGIN:VEVENT
DTSTART;TZID=America/Chicago:20250625T180000
DTEND;TZID=America/Chicago:20250625T190000
DTSTAMP:20260422T172223
CREATED:20241204T213629Z
LAST-MODIFIED:20260306T160529Z
UID:10002032-1750874400-1750878000@fpcjackson.org
SUMMARY:Midweek Adult Programs
DESCRIPTION:
URL:https://fpcjackson.org/event/midweek-adult-programs-2/2025-06-25/
LOCATION:Various\, 1390 North State Street\, Jackson\, MS\, 39202\, United States
CATEGORIES:Bible Study,Class,Discipleship,Midweek,Teaching
END:VEVENT
BEGIN:VEVENT
DTSTART;TZID=America/Chicago:20250625T180000
DTEND;TZID=America/Chicago:20250625T190000
DTSTAMP:20260422T172223
CREATED:20250529T204028Z
LAST-MODIFIED:20250529T205120Z
UID:10010139-1750874400-1750878000@fpcjackson.org
SUMMARY:Story and Song: Six Hymns that Shaped the Family of Christ
DESCRIPTION:Every family has its favorite songs. Jesus’ family is no different\, and the songs we sing together have shaped us as a church. This summer we want to spend time opening the family scrapbook\, and rejoicing in the truths behind some favorite hymns. These songs are a part of our inheritance\, and one day we will pass them on to our children. As we learn their stories\, and the stories of those who first sung them\, we hope to grow in love for the Triune God whose praises they sound. \n\n6/11 – William Cowper – Stephen Biggs\n6/18 – “Of the Father’s Love Begotten” – Ligon Duncan\n6/25 – “Jesus I My Cross Have Taken” – Jennings Duncan\n7/9 – Samuel Rutherford/Anne Cousin “The Sands of Time are Sinking” -Scott Miller\n7/16 – John Newton – Paul Forster\n7/23 – “A Mighty Fortress” – Ryan Miller
URL:https://fpcjackson.org/event/story-and-song-six-hymns-that-shaped-the-family-of-christ-2/2025-06-25/
LOCATION:FPC Jackson Campus\, 1390 North State Street\, Jackson\, MS\, 39202\, United States
CATEGORIES:Class
ATTACH;FMTTYPE=image/png:https://fpcjackson.org/wp-content/uploads/2025/05/Story-and-Song-Midweek-1.png
END:VEVENT
BEGIN:VEVENT
DTSTART;TZID=America/Chicago:20250629T094500
DTEND;TZID=America/Chicago:20250629T104500
DTSTAMP:20260422T172223
CREATED:20250429T203917Z
LAST-MODIFIED:20250429T203917Z
UID:10009178-1751190300-1751193900@fpcjackson.org
SUMMARY:Membership Class
DESCRIPTION:The next offering of the Membership Class will begin June 1 and will meet on Sundays at 9:45 a.m. This is the place to begin if you are considering membership at FPC or would like to know more about our church and the basics of our faith and practice. During the class we will learn what we share in common with all Bible-believing Christians\, as well as about the distinctives of Presbyterianism. We will hear from ministry leaders about what’s taking place at First Pres\, while providing a great opportunity to meet others who have recently found a home here at FPC.
URL:https://fpcjackson.org/event/membership-class-6/2025-06-29/
LOCATION:FPC Jackson Campus\, 1390 North State Street\, Jackson\, MS\, 39202\, United States
CATEGORIES:Class,New Members,Sunday School
ATTACH;FMTTYPE=image/png:https://fpcjackson.org/wp-content/uploads/2025/04/Membership-Class-Mar-2025-1.png
END:VEVENT
END:VCALENDAR