BEGIN:VCALENDAR
VERSION:2.0
PRODID:-//First Presbyterian Church - ECPv6.15.20//NONSGML v1.0//EN
CALSCALE:GREGORIAN
METHOD:PUBLISH
X-WR-CALNAME:First Presbyterian Church
X-ORIGINAL-URL:https://fpcjackson.org
X-WR-CALDESC:Events for First Presbyterian Church
REFRESH-INTERVAL;VALUE=DURATION:PT1H
X-Robots-Tag:noindex
X-PUBLISHED-TTL:PT1H
BEGIN:VTIMEZONE
TZID:America/Chicago
BEGIN:DAYLIGHT
TZOFFSETFROM:-0600
TZOFFSETTO:-0500
TZNAME:CDT
DTSTART:20240310T080000
END:DAYLIGHT
BEGIN:STANDARD
TZOFFSETFROM:-0500
TZOFFSETTO:-0600
TZNAME:CST
DTSTART:20241103T070000
END:STANDARD
BEGIN:DAYLIGHT
TZOFFSETFROM:-0600
TZOFFSETTO:-0500
TZNAME:CDT
DTSTART:20250309T080000
END:DAYLIGHT
BEGIN:STANDARD
TZOFFSETFROM:-0500
TZOFFSETTO:-0600
TZNAME:CST
DTSTART:20251102T070000
END:STANDARD
BEGIN:DAYLIGHT
TZOFFSETFROM:-0600
TZOFFSETTO:-0500
TZNAME:CDT
DTSTART:20260308T080000
END:DAYLIGHT
BEGIN:STANDARD
TZOFFSETFROM:-0500
TZOFFSETTO:-0600
TZNAME:CST
DTSTART:20261101T070000
END:STANDARD
END:VTIMEZONE
BEGIN:VEVENT
DTSTART;TZID=America/Chicago:20250817T180000
DTEND;TZID=America/Chicago:20250817T190000
DTSTAMP:20260425T091227
CREATED:20230608T165824Z
LAST-MODIFIED:20260417T164622Z
UID:10003516-1755453600-1755457200@fpcjackson.org
SUMMARY:Catechism Crew
DESCRIPTION:Sunday Night Classes for Kids \nFirst through Third grades \nDismissed from the Evening Worship Service
URL:https://fpcjackson.org/event/catechism-crew/2025-08-17/
LOCATION:FPC Jackson Campus\, 1390 North State Street\, Jackson\, MS\, 39202\, United States
CATEGORIES:Children
ATTACH;FMTTYPE=image/png:https://fpcjackson.org/wp-content/uploads/2023/06/Catechism-Crew-Logo.png
END:VEVENT
BEGIN:VEVENT
DTSTART;TZID=America/Chicago:20250817T094500
DTEND;TZID=America/Chicago:20250817T105000
DTSTAMP:20260425T091227
CREATED:20230607T195344Z
LAST-MODIFIED:20260306T155904Z
UID:10002861-1755423900-1755427800@fpcjackson.org
SUMMARY:Special Friends Sunday School
DESCRIPTION:
URL:https://fpcjackson.org/event/special-friends-sunday-school/2025-08-17/
LOCATION:M120 (Main Building)\, 1390 North State Street\, Jackson\, MS\, 39202\, United States
CATEGORIES:Children,Sunday School
END:VEVENT
BEGIN:VEVENT
DTSTART;TZID=America/Chicago:20250810T180000
DTEND;TZID=America/Chicago:20250810T190000
DTSTAMP:20260425T091227
CREATED:20230608T170051Z
LAST-MODIFIED:20260417T164712Z
UID:10003778-1754848800-1754852400@fpcjackson.org
SUMMARY:Covenant Kids
DESCRIPTION:Sunday Night Classes for Kids \nAge 4 and 5 \nDismissed from the Evening Worship Service
URL:https://fpcjackson.org/event/covenant-kids/2025-08-10/
LOCATION:FPC Jackson Campus\, 1390 North State Street\, Jackson\, MS\, 39202\, United States
CATEGORIES:Children
ATTACH;FMTTYPE=image/png:https://fpcjackson.org/wp-content/uploads/2023/06/Covenant-Kids-Logo.png
END:VEVENT
BEGIN:VEVENT
DTSTART;TZID=America/Chicago:20250810T180000
DTEND;TZID=America/Chicago:20250810T190000
DTSTAMP:20260425T091227
CREATED:20230608T165824Z
LAST-MODIFIED:20260417T164622Z
UID:10003515-1754848800-1754852400@fpcjackson.org
SUMMARY:Catechism Crew
DESCRIPTION:Sunday Night Classes for Kids \nFirst through Third grades \nDismissed from the Evening Worship Service
URL:https://fpcjackson.org/event/catechism-crew/2025-08-10/
LOCATION:FPC Jackson Campus\, 1390 North State Street\, Jackson\, MS\, 39202\, United States
CATEGORIES:Children
ATTACH;FMTTYPE=image/png:https://fpcjackson.org/wp-content/uploads/2023/06/Catechism-Crew-Logo.png
END:VEVENT
BEGIN:VEVENT
DTSTART;TZID=America/Chicago:20250810T094500
DTEND;TZID=America/Chicago:20250810T105000
DTSTAMP:20260425T091227
CREATED:20230607T195344Z
LAST-MODIFIED:20260306T155904Z
UID:10002860-1754819100-1754823000@fpcjackson.org
SUMMARY:Special Friends Sunday School
DESCRIPTION:
URL:https://fpcjackson.org/event/special-friends-sunday-school/2025-08-10/
LOCATION:M120 (Main Building)\, 1390 North State Street\, Jackson\, MS\, 39202\, United States
CATEGORIES:Children,Sunday School
END:VEVENT
BEGIN:VEVENT
DTSTART;TZID=America/Chicago:20250803T180000
DTEND;TZID=America/Chicago:20250803T190000
DTSTAMP:20260425T091227
CREATED:20230608T170051Z
LAST-MODIFIED:20260417T164712Z
UID:10003777-1754244000-1754247600@fpcjackson.org
SUMMARY:Covenant Kids
DESCRIPTION:Sunday Night Classes for Kids \nAge 4 and 5 \nDismissed from the Evening Worship Service
URL:https://fpcjackson.org/event/covenant-kids/2025-08-03/
LOCATION:FPC Jackson Campus\, 1390 North State Street\, Jackson\, MS\, 39202\, United States
CATEGORIES:Children
ATTACH;FMTTYPE=image/png:https://fpcjackson.org/wp-content/uploads/2023/06/Covenant-Kids-Logo.png
END:VEVENT
BEGIN:VEVENT
DTSTART;TZID=America/Chicago:20250803T180000
DTEND;TZID=America/Chicago:20250803T190000
DTSTAMP:20260425T091227
CREATED:20230608T165824Z
LAST-MODIFIED:20260417T164622Z
UID:10003514-1754244000-1754247600@fpcjackson.org
SUMMARY:Catechism Crew
DESCRIPTION:Sunday Night Classes for Kids \nFirst through Third grades \nDismissed from the Evening Worship Service
URL:https://fpcjackson.org/event/catechism-crew/2025-08-03/
LOCATION:FPC Jackson Campus\, 1390 North State Street\, Jackson\, MS\, 39202\, United States
CATEGORIES:Children
ATTACH;FMTTYPE=image/png:https://fpcjackson.org/wp-content/uploads/2023/06/Catechism-Crew-Logo.png
END:VEVENT
BEGIN:VEVENT
DTSTART;TZID=America/Chicago:20250803T094500
DTEND;TZID=America/Chicago:20250803T105000
DTSTAMP:20260425T091227
CREATED:20230607T195344Z
LAST-MODIFIED:20260306T155904Z
UID:10002859-1754214300-1754218200@fpcjackson.org
SUMMARY:Special Friends Sunday School
DESCRIPTION:
URL:https://fpcjackson.org/event/special-friends-sunday-school/2025-08-03/
LOCATION:M120 (Main Building)\, 1390 North State Street\, Jackson\, MS\, 39202\, United States
CATEGORIES:Children,Sunday School
END:VEVENT
BEGIN:VEVENT
DTSTART;TZID=America/Chicago:20250801T100000
DTEND;TZID=America/Chicago:20250801T120000
DTSTAMP:20260425T091227
CREATED:20250717T164725Z
LAST-MODIFIED:20250717T164725Z
UID:10018132-1754042400-1754049600@fpcjackson.org
SUMMARY:Children's Day Out
DESCRIPTION:We are rounding out the end of Summer Midweek with a celebration! Parents\, your children are invited to the Children’s Ministry Day Out\, Friday\, August 1\, 10 a.m. – noon. Bring your children to Defy Trampoline Park in Flowood for a fun morning for ages four through fifth grade (and siblings are welcome to join as well). One parent must come in to register and pay. We ask that if you are not staying for the event to please coordinate with another parent to be responsible for your child during the event. Contact Mikayla Hallbach with questions at 704-763-4948.
URL:https://fpcjackson.org/event/childrens-day-out/
LOCATION:FPC Jackson Campus\, 1390 North State Street\, Jackson\, MS\, 39202\, United States
CATEGORIES:Children
ATTACH;FMTTYPE=image/png:https://fpcjackson.org/wp-content/uploads/2025/07/Childrens-Summer-Day-Out.png
END:VEVENT
BEGIN:VEVENT
DTSTART;TZID=America/Chicago:20250801T083000
DTEND;TZID=America/Chicago:20250801T113000
DTSTAMP:20260425T091227
CREATED:20250717T165231Z
LAST-MODIFIED:20250717T165231Z
UID:10018133-1754037000-1754047800@fpcjackson.org
SUMMARY:Pop Up Nursery
DESCRIPTION:Nursery Parents\, we have planned a Pop-Up Nursery for you Friday\, August 1\, 8:30-11:30 a.m. for babies age three and younger. Whether you need some time to do back to school shopping\, grab a coffee with another parent\, or have a morning with your spouse\, the FPC Nursery is here for you! We would love to have your child play with us. Please bring a water cup and a snack for your child along with diapers and a change of clothes. With questions or for more information\, contact Tina Oates at tinao@fpcjackson.org or 601-506-0111.
URL:https://fpcjackson.org/event/pop-up-nursery-2/
LOCATION:FPC Jackson Campus\, 1390 North State Street\, Jackson\, MS\, 39202\, United States
CATEGORIES:Children
ATTACH;FMTTYPE=image/png:https://fpcjackson.org/wp-content/uploads/2025/07/Pop-Up-Nursery-Summer-2025.png
END:VEVENT
BEGIN:VEVENT
DTSTART;TZID=America/Chicago:20250727T180000
DTEND;TZID=America/Chicago:20250727T190000
DTSTAMP:20260425T091227
CREATED:20230608T170051Z
LAST-MODIFIED:20260417T164712Z
UID:10003776-1753639200-1753642800@fpcjackson.org
SUMMARY:Covenant Kids
DESCRIPTION:Sunday Night Classes for Kids \nAge 4 and 5 \nDismissed from the Evening Worship Service
URL:https://fpcjackson.org/event/covenant-kids/2025-07-27/
LOCATION:FPC Jackson Campus\, 1390 North State Street\, Jackson\, MS\, 39202\, United States
CATEGORIES:Children
ATTACH;FMTTYPE=image/png:https://fpcjackson.org/wp-content/uploads/2023/06/Covenant-Kids-Logo.png
END:VEVENT
BEGIN:VEVENT
DTSTART;TZID=America/Chicago:20250727T180000
DTEND;TZID=America/Chicago:20250727T190000
DTSTAMP:20260425T091227
CREATED:20230608T165824Z
LAST-MODIFIED:20260417T164622Z
UID:10003513-1753639200-1753642800@fpcjackson.org
SUMMARY:Catechism Crew
DESCRIPTION:Sunday Night Classes for Kids \nFirst through Third grades \nDismissed from the Evening Worship Service
URL:https://fpcjackson.org/event/catechism-crew/2025-07-27/
LOCATION:FPC Jackson Campus\, 1390 North State Street\, Jackson\, MS\, 39202\, United States
CATEGORIES:Children
ATTACH;FMTTYPE=image/png:https://fpcjackson.org/wp-content/uploads/2023/06/Catechism-Crew-Logo.png
END:VEVENT
BEGIN:VEVENT
DTSTART;TZID=America/Chicago:20250727T094500
DTEND;TZID=America/Chicago:20250727T105000
DTSTAMP:20260425T091227
CREATED:20230607T195344Z
LAST-MODIFIED:20260306T155904Z
UID:10002858-1753609500-1753613400@fpcjackson.org
SUMMARY:Special Friends Sunday School
DESCRIPTION:
URL:https://fpcjackson.org/event/special-friends-sunday-school/2025-07-27/
LOCATION:M120 (Main Building)\, 1390 North State Street\, Jackson\, MS\, 39202\, United States
CATEGORIES:Children,Sunday School
END:VEVENT
BEGIN:VEVENT
DTSTART;TZID=America/Chicago:20250723T180000
DTEND;TZID=America/Chicago:20250723T190000
DTSTAMP:20260425T091227
CREATED:20250529T205004Z
LAST-MODIFIED:20250529T205004Z
UID:10010201-1753293600-1753297200@fpcjackson.org
SUMMARY:Names of God
DESCRIPTION:This summer during Midweek\, we are learning the Names of God\, focusing on one name for the Lord each Wednesday night during the summer. By learning the Names of God\, our children learn what God is called\, and more importantly they learn about His character! When you are in town this summer\, we hope you will make Midweek a part of your routine. Children age 4 (by Sept. 1 2024) through the current fifth grade meet on the playground (at 5:30) following Midweek dinner (5-6)\, and our program is from 6-7 p.m. in the following locations:\n4’s and 5’s – MB 135 (Kipps’ Class)\n1st and 2nd grade – MB 133 (Tree House)\n3rd-5th grade – Hutton Chapel\n\nSchedule\n\n\nJune 11 – Yahweh\, I AM\nJune 18 – El Shaddai\, God Almighty\nJune 25 – Adonai\, Lord\, Master\nJuly 9 – The Word\nJuly 16  – High Priest\, Mediator\nJuly 23 – Alpha and Omega
URL:https://fpcjackson.org/event/names-of-god-2/2025-07-23/
LOCATION:FPC Jackson Campus\, 1390 North State Street\, Jackson\, MS\, 39202\, United States
CATEGORIES:Children
ATTACH;FMTTYPE=image/png:https://fpcjackson.org/wp-content/uploads/2025/05/Names-of-God-Summer-2025.png
END:VEVENT
BEGIN:VEVENT
DTSTART;TZID=America/Chicago:20250720T180000
DTEND;TZID=America/Chicago:20250720T190000
DTSTAMP:20260425T091227
CREATED:20230608T170051Z
LAST-MODIFIED:20260417T164712Z
UID:10003775-1753034400-1753038000@fpcjackson.org
SUMMARY:Covenant Kids
DESCRIPTION:Sunday Night Classes for Kids \nAge 4 and 5 \nDismissed from the Evening Worship Service
URL:https://fpcjackson.org/event/covenant-kids/2025-07-20/
LOCATION:FPC Jackson Campus\, 1390 North State Street\, Jackson\, MS\, 39202\, United States
CATEGORIES:Children
ATTACH;FMTTYPE=image/png:https://fpcjackson.org/wp-content/uploads/2023/06/Covenant-Kids-Logo.png
END:VEVENT
BEGIN:VEVENT
DTSTART;TZID=America/Chicago:20250720T180000
DTEND;TZID=America/Chicago:20250720T190000
DTSTAMP:20260425T091227
CREATED:20230608T165824Z
LAST-MODIFIED:20260417T164622Z
UID:10003512-1753034400-1753038000@fpcjackson.org
SUMMARY:Catechism Crew
DESCRIPTION:Sunday Night Classes for Kids \nFirst through Third grades \nDismissed from the Evening Worship Service
URL:https://fpcjackson.org/event/catechism-crew/2025-07-20/
LOCATION:FPC Jackson Campus\, 1390 North State Street\, Jackson\, MS\, 39202\, United States
CATEGORIES:Children
ATTACH;FMTTYPE=image/png:https://fpcjackson.org/wp-content/uploads/2023/06/Catechism-Crew-Logo.png
END:VEVENT
BEGIN:VEVENT
DTSTART;TZID=America/Chicago:20250720T094500
DTEND;TZID=America/Chicago:20250720T105000
DTSTAMP:20260425T091227
CREATED:20230607T195344Z
LAST-MODIFIED:20260306T155904Z
UID:10002857-1753004700-1753008600@fpcjackson.org
SUMMARY:Special Friends Sunday School
DESCRIPTION:
URL:https://fpcjackson.org/event/special-friends-sunday-school/2025-07-20/
LOCATION:M120 (Main Building)\, 1390 North State Street\, Jackson\, MS\, 39202\, United States
CATEGORIES:Children,Sunday School
END:VEVENT
BEGIN:VEVENT
DTSTART;TZID=America/Chicago:20250716T180000
DTEND;TZID=America/Chicago:20250716T190000
DTSTAMP:20260425T091227
CREATED:20250529T205004Z
LAST-MODIFIED:20250529T205004Z
UID:10010200-1752688800-1752692400@fpcjackson.org
SUMMARY:Names of God
DESCRIPTION:This summer during Midweek\, we are learning the Names of God\, focusing on one name for the Lord each Wednesday night during the summer. By learning the Names of God\, our children learn what God is called\, and more importantly they learn about His character! When you are in town this summer\, we hope you will make Midweek a part of your routine. Children age 4 (by Sept. 1 2024) through the current fifth grade meet on the playground (at 5:30) following Midweek dinner (5-6)\, and our program is from 6-7 p.m. in the following locations:\n4’s and 5’s – MB 135 (Kipps’ Class)\n1st and 2nd grade – MB 133 (Tree House)\n3rd-5th grade – Hutton Chapel\n\nSchedule\n\n\nJune 11 – Yahweh\, I AM\nJune 18 – El Shaddai\, God Almighty\nJune 25 – Adonai\, Lord\, Master\nJuly 9 – The Word\nJuly 16  – High Priest\, Mediator\nJuly 23 – Alpha and Omega
URL:https://fpcjackson.org/event/names-of-god-2/2025-07-16/
LOCATION:FPC Jackson Campus\, 1390 North State Street\, Jackson\, MS\, 39202\, United States
CATEGORIES:Children
ATTACH;FMTTYPE=image/png:https://fpcjackson.org/wp-content/uploads/2025/05/Names-of-God-Summer-2025.png
END:VEVENT
BEGIN:VEVENT
DTSTART;TZID=America/Chicago:20250713T180000
DTEND;TZID=America/Chicago:20250713T190000
DTSTAMP:20260425T091227
CREATED:20230608T170051Z
LAST-MODIFIED:20260417T164712Z
UID:10003774-1752429600-1752433200@fpcjackson.org
SUMMARY:Covenant Kids
DESCRIPTION:Sunday Night Classes for Kids \nAge 4 and 5 \nDismissed from the Evening Worship Service
URL:https://fpcjackson.org/event/covenant-kids/2025-07-13/
LOCATION:FPC Jackson Campus\, 1390 North State Street\, Jackson\, MS\, 39202\, United States
CATEGORIES:Children
ATTACH;FMTTYPE=image/png:https://fpcjackson.org/wp-content/uploads/2023/06/Covenant-Kids-Logo.png
END:VEVENT
BEGIN:VEVENT
DTSTART;TZID=America/Chicago:20250713T180000
DTEND;TZID=America/Chicago:20250713T190000
DTSTAMP:20260425T091227
CREATED:20230608T165824Z
LAST-MODIFIED:20260417T164622Z
UID:10003511-1752429600-1752433200@fpcjackson.org
SUMMARY:Catechism Crew
DESCRIPTION:Sunday Night Classes for Kids \nFirst through Third grades \nDismissed from the Evening Worship Service
URL:https://fpcjackson.org/event/catechism-crew/2025-07-13/
LOCATION:FPC Jackson Campus\, 1390 North State Street\, Jackson\, MS\, 39202\, United States
CATEGORIES:Children
ATTACH;FMTTYPE=image/png:https://fpcjackson.org/wp-content/uploads/2023/06/Catechism-Crew-Logo.png
END:VEVENT
BEGIN:VEVENT
DTSTART;TZID=America/Chicago:20250713T094500
DTEND;TZID=America/Chicago:20250713T105000
DTSTAMP:20260425T091227
CREATED:20230607T195344Z
LAST-MODIFIED:20260306T155904Z
UID:10002856-1752399900-1752403800@fpcjackson.org
SUMMARY:Special Friends Sunday School
DESCRIPTION:
URL:https://fpcjackson.org/event/special-friends-sunday-school/2025-07-13/
LOCATION:M120 (Main Building)\, 1390 North State Street\, Jackson\, MS\, 39202\, United States
CATEGORIES:Children,Sunday School
END:VEVENT
BEGIN:VEVENT
DTSTART;TZID=America/Chicago:20250709T180000
DTEND;TZID=America/Chicago:20250709T190000
DTSTAMP:20260425T091227
CREATED:20250529T205004Z
LAST-MODIFIED:20250529T205004Z
UID:10010199-1752084000-1752087600@fpcjackson.org
SUMMARY:Names of God
DESCRIPTION:This summer during Midweek\, we are learning the Names of God\, focusing on one name for the Lord each Wednesday night during the summer. By learning the Names of God\, our children learn what God is called\, and more importantly they learn about His character! When you are in town this summer\, we hope you will make Midweek a part of your routine. Children age 4 (by Sept. 1 2024) through the current fifth grade meet on the playground (at 5:30) following Midweek dinner (5-6)\, and our program is from 6-7 p.m. in the following locations:\n4’s and 5’s – MB 135 (Kipps’ Class)\n1st and 2nd grade – MB 133 (Tree House)\n3rd-5th grade – Hutton Chapel\n\nSchedule\n\n\nJune 11 – Yahweh\, I AM\nJune 18 – El Shaddai\, God Almighty\nJune 25 – Adonai\, Lord\, Master\nJuly 9 – The Word\nJuly 16  – High Priest\, Mediator\nJuly 23 – Alpha and Omega
URL:https://fpcjackson.org/event/names-of-god-2/2025-07-09/
LOCATION:FPC Jackson Campus\, 1390 North State Street\, Jackson\, MS\, 39202\, United States
CATEGORIES:Children
ATTACH;FMTTYPE=image/png:https://fpcjackson.org/wp-content/uploads/2025/05/Names-of-God-Summer-2025.png
END:VEVENT
BEGIN:VEVENT
DTSTART;TZID=America/Chicago:20250706T180000
DTEND;TZID=America/Chicago:20250706T190000
DTSTAMP:20260425T091227
CREATED:20230608T170051Z
LAST-MODIFIED:20260417T164712Z
UID:10003773-1751824800-1751828400@fpcjackson.org
SUMMARY:Covenant Kids
DESCRIPTION:Sunday Night Classes for Kids \nAge 4 and 5 \nDismissed from the Evening Worship Service
URL:https://fpcjackson.org/event/covenant-kids/2025-07-06/
LOCATION:FPC Jackson Campus\, 1390 North State Street\, Jackson\, MS\, 39202\, United States
CATEGORIES:Children
ATTACH;FMTTYPE=image/png:https://fpcjackson.org/wp-content/uploads/2023/06/Covenant-Kids-Logo.png
END:VEVENT
BEGIN:VEVENT
DTSTART;TZID=America/Chicago:20250706T180000
DTEND;TZID=America/Chicago:20250706T190000
DTSTAMP:20260425T091227
CREATED:20230608T165824Z
LAST-MODIFIED:20260417T164622Z
UID:10003510-1751824800-1751828400@fpcjackson.org
SUMMARY:Catechism Crew
DESCRIPTION:Sunday Night Classes for Kids \nFirst through Third grades \nDismissed from the Evening Worship Service
URL:https://fpcjackson.org/event/catechism-crew/2025-07-06/
LOCATION:FPC Jackson Campus\, 1390 North State Street\, Jackson\, MS\, 39202\, United States
CATEGORIES:Children
ATTACH;FMTTYPE=image/png:https://fpcjackson.org/wp-content/uploads/2023/06/Catechism-Crew-Logo.png
END:VEVENT
BEGIN:VEVENT
DTSTART;TZID=America/Chicago:20250706T094500
DTEND;TZID=America/Chicago:20250706T105000
DTSTAMP:20260425T091227
CREATED:20230607T195344Z
LAST-MODIFIED:20260306T155904Z
UID:10002855-1751795100-1751799000@fpcjackson.org
SUMMARY:Special Friends Sunday School
DESCRIPTION:
URL:https://fpcjackson.org/event/special-friends-sunday-school/2025-07-06/
LOCATION:M120 (Main Building)\, 1390 North State Street\, Jackson\, MS\, 39202\, United States
CATEGORIES:Children,Sunday School
END:VEVENT
BEGIN:VEVENT
DTSTART;TZID=America/Chicago:20250629T180000
DTEND;TZID=America/Chicago:20250629T190000
DTSTAMP:20260425T091227
CREATED:20230608T170051Z
LAST-MODIFIED:20260417T164712Z
UID:10003772-1751220000-1751223600@fpcjackson.org
SUMMARY:Covenant Kids
DESCRIPTION:Sunday Night Classes for Kids \nAge 4 and 5 \nDismissed from the Evening Worship Service
URL:https://fpcjackson.org/event/covenant-kids/2025-06-29/
LOCATION:FPC Jackson Campus\, 1390 North State Street\, Jackson\, MS\, 39202\, United States
CATEGORIES:Children
ATTACH;FMTTYPE=image/png:https://fpcjackson.org/wp-content/uploads/2023/06/Covenant-Kids-Logo.png
END:VEVENT
BEGIN:VEVENT
DTSTART;TZID=America/Chicago:20250629T180000
DTEND;TZID=America/Chicago:20250629T190000
DTSTAMP:20260425T091227
CREATED:20230608T165824Z
LAST-MODIFIED:20260417T164622Z
UID:10003509-1751220000-1751223600@fpcjackson.org
SUMMARY:Catechism Crew
DESCRIPTION:Sunday Night Classes for Kids \nFirst through Third grades \nDismissed from the Evening Worship Service
URL:https://fpcjackson.org/event/catechism-crew/2025-06-29/
LOCATION:FPC Jackson Campus\, 1390 North State Street\, Jackson\, MS\, 39202\, United States
CATEGORIES:Children
ATTACH;FMTTYPE=image/png:https://fpcjackson.org/wp-content/uploads/2023/06/Catechism-Crew-Logo.png
END:VEVENT
BEGIN:VEVENT
DTSTART;TZID=America/Chicago:20250629T094500
DTEND;TZID=America/Chicago:20250629T105000
DTSTAMP:20260425T091227
CREATED:20230607T195344Z
LAST-MODIFIED:20260306T155904Z
UID:10002854-1751190300-1751194200@fpcjackson.org
SUMMARY:Special Friends Sunday School
DESCRIPTION:
URL:https://fpcjackson.org/event/special-friends-sunday-school/2025-06-29/
LOCATION:M120 (Main Building)\, 1390 North State Street\, Jackson\, MS\, 39202\, United States
CATEGORIES:Children,Sunday School
END:VEVENT
BEGIN:VEVENT
DTSTART;TZID=America/Chicago:20250625T180000
DTEND;TZID=America/Chicago:20250625T190000
DTSTAMP:20260425T091227
CREATED:20250529T205004Z
LAST-MODIFIED:20250529T205004Z
UID:10010198-1750874400-1750878000@fpcjackson.org
SUMMARY:Names of God
DESCRIPTION:This summer during Midweek\, we are learning the Names of God\, focusing on one name for the Lord each Wednesday night during the summer. By learning the Names of God\, our children learn what God is called\, and more importantly they learn about His character! When you are in town this summer\, we hope you will make Midweek a part of your routine. Children age 4 (by Sept. 1 2024) through the current fifth grade meet on the playground (at 5:30) following Midweek dinner (5-6)\, and our program is from 6-7 p.m. in the following locations:\n4’s and 5’s – MB 135 (Kipps’ Class)\n1st and 2nd grade – MB 133 (Tree House)\n3rd-5th grade – Hutton Chapel\n\nSchedule\n\n\nJune 11 – Yahweh\, I AM\nJune 18 – El Shaddai\, God Almighty\nJune 25 – Adonai\, Lord\, Master\nJuly 9 – The Word\nJuly 16  – High Priest\, Mediator\nJuly 23 – Alpha and Omega
URL:https://fpcjackson.org/event/names-of-god-2/2025-06-25/
LOCATION:FPC Jackson Campus\, 1390 North State Street\, Jackson\, MS\, 39202\, United States
CATEGORIES:Children
ATTACH;FMTTYPE=image/png:https://fpcjackson.org/wp-content/uploads/2025/05/Names-of-God-Summer-2025.png
END:VEVENT
BEGIN:VEVENT
DTSTART;TZID=America/Chicago:20250622T180000
DTEND;TZID=America/Chicago:20250622T190000
DTSTAMP:20260425T091228
CREATED:20230608T170051Z
LAST-MODIFIED:20260417T164712Z
UID:10003771-1750615200-1750618800@fpcjackson.org
SUMMARY:Covenant Kids
DESCRIPTION:Sunday Night Classes for Kids \nAge 4 and 5 \nDismissed from the Evening Worship Service
URL:https://fpcjackson.org/event/covenant-kids/2025-06-22/
LOCATION:FPC Jackson Campus\, 1390 North State Street\, Jackson\, MS\, 39202\, United States
CATEGORIES:Children
ATTACH;FMTTYPE=image/png:https://fpcjackson.org/wp-content/uploads/2023/06/Covenant-Kids-Logo.png
END:VEVENT
END:VCALENDAR