BEGIN:VCALENDAR
VERSION:2.0
PRODID:-//First Presbyterian Church - ECPv6.15.20//NONSGML v1.0//EN
CALSCALE:GREGORIAN
METHOD:PUBLISH
X-ORIGINAL-URL:https://fpcjackson.org
X-WR-CALDESC:Events for First Presbyterian Church
REFRESH-INTERVAL;VALUE=DURATION:PT1H
X-Robots-Tag:noindex
X-PUBLISHED-TTL:PT1H
BEGIN:VTIMEZONE
TZID:America/Chicago
BEGIN:DAYLIGHT
TZOFFSETFROM:-0600
TZOFFSETTO:-0500
TZNAME:CDT
DTSTART:20240310T080000
END:DAYLIGHT
BEGIN:STANDARD
TZOFFSETFROM:-0500
TZOFFSETTO:-0600
TZNAME:CST
DTSTART:20241103T070000
END:STANDARD
BEGIN:DAYLIGHT
TZOFFSETFROM:-0600
TZOFFSETTO:-0500
TZNAME:CDT
DTSTART:20250309T080000
END:DAYLIGHT
BEGIN:STANDARD
TZOFFSETFROM:-0500
TZOFFSETTO:-0600
TZNAME:CST
DTSTART:20251102T070000
END:STANDARD
BEGIN:DAYLIGHT
TZOFFSETFROM:-0600
TZOFFSETTO:-0500
TZNAME:CDT
DTSTART:20260308T080000
END:DAYLIGHT
BEGIN:STANDARD
TZOFFSETFROM:-0500
TZOFFSETTO:-0600
TZNAME:CST
DTSTART:20261101T070000
END:STANDARD
END:VTIMEZONE
BEGIN:VEVENT
DTSTART;TZID=America/Chicago:20251026T180000
DTEND;TZID=America/Chicago:20251026T190000
DTSTAMP:20260425T113017
CREATED:20230608T165824Z
LAST-MODIFIED:20260417T164622Z
UID:10003526-1761501600-1761505200@fpcjackson.org
SUMMARY:Catechism Crew
DESCRIPTION:Sunday Night Classes for Kids \nFirst through Third grades \nDismissed from the Evening Worship Service
URL:https://fpcjackson.org/event/catechism-crew/2025-10-26/
LOCATION:FPC Jackson Campus\, 1390 North State Street\, Jackson\, MS\, 39202\, United States
CATEGORIES:Children
ATTACH;FMTTYPE=image/png:https://fpcjackson.org/wp-content/uploads/2023/06/Catechism-Crew-Logo.png
END:VEVENT
BEGIN:VEVENT
DTSTART;TZID=America/Chicago:20251026T110000
DTEND;TZID=America/Chicago:20251026T120000
DTSTAMP:20260425T113017
CREATED:20250827T193631Z
LAST-MODIFIED:20251218T220806Z
UID:10018301-1761476400-1761480000@fpcjackson.org
SUMMARY:Children's Churchtime
DESCRIPTION:Sundays offer many opportunities for our children to grow in their faith. In addition to Sunday School\, on Sunday mornings in Children’s Churchtime they learn the Bible and how to worship. Children’s Churchtime is for ages 3 & 4 and is held during the 11 a.m. service September-May in room 135 (Threes Sunday School class). Questions? Email kimberlyw@fpcjackson.org or mikaylan@fpcjackson.org.
URL:https://fpcjackson.org/event/childrens-churchtime-4/2025-10-26/
LOCATION:FPC Jackson Campus\, 1390 North State Street\, Jackson\, MS\, 39202\, United States
CATEGORIES:Children
ATTACH;FMTTYPE=image/png:https://fpcjackson.org/wp-content/uploads/2025/08/Childrens-Churchtime-scaled.png
END:VEVENT
BEGIN:VEVENT
DTSTART;TZID=America/Chicago:20251026T094500
DTEND;TZID=America/Chicago:20251026T223000
DTSTAMP:20260425T113017
CREATED:20251015T165638Z
LAST-MODIFIED:20251015T165638Z
UID:10018966-1761471900-1761517800@fpcjackson.org
SUMMARY:Communicant Fall Meet and Greet
DESCRIPTION:The Communicant Fall Meet and Greet will be held Sunday October 26 at 9:45 in Lowe Hall. This informational meeting is for sixth\, seventh\, and eighth grade students and their parents who would like to learn more about becoming a Communing Member of our church. Please contact kimberlyw@fpcjackson.org or 769-230-3626 to register. For more info about the whole process\, visit fpcjackson.org/communicant.
URL:https://fpcjackson.org/event/communicant-fall-meet-and-greet/
LOCATION:FPC Jackson Campus\, 1390 North State Street\, Jackson\, MS\, 39202\, United States
CATEGORIES:Children
ATTACH;FMTTYPE=image/png:https://fpcjackson.org/wp-content/uploads/2025/10/Communicant-Meet-and-Greet-2025-scaled.png
END:VEVENT
BEGIN:VEVENT
DTSTART;TZID=America/Chicago:20251026T094500
DTEND;TZID=America/Chicago:20251026T105000
DTSTAMP:20260425T113017
CREATED:20230607T195344Z
LAST-MODIFIED:20260306T155904Z
UID:10002871-1761471900-1761475800@fpcjackson.org
SUMMARY:Special Friends Sunday School
DESCRIPTION:
URL:https://fpcjackson.org/event/special-friends-sunday-school/2025-10-26/
LOCATION:M120 (Main Building)\, 1390 North State Street\, Jackson\, MS\, 39202\, United States
CATEGORIES:Children,Sunday School
END:VEVENT
BEGIN:VEVENT
DTSTART;TZID=America/Chicago:20251019T180000
DTEND;TZID=America/Chicago:20251019T190000
DTSTAMP:20260425T113017
CREATED:20230608T170051Z
LAST-MODIFIED:20260417T164712Z
UID:10003788-1760896800-1760900400@fpcjackson.org
SUMMARY:Covenant Kids
DESCRIPTION:Sunday Night Classes for Kids \nAge 4 and 5 \nDismissed from the Evening Worship Service
URL:https://fpcjackson.org/event/covenant-kids/2025-10-19/
LOCATION:FPC Jackson Campus\, 1390 North State Street\, Jackson\, MS\, 39202\, United States
CATEGORIES:Children
ATTACH;FMTTYPE=image/png:https://fpcjackson.org/wp-content/uploads/2023/06/Covenant-Kids-Logo.png
END:VEVENT
BEGIN:VEVENT
DTSTART;TZID=America/Chicago:20251019T180000
DTEND;TZID=America/Chicago:20251019T190000
DTSTAMP:20260425T113017
CREATED:20230608T165824Z
LAST-MODIFIED:20260417T164622Z
UID:10003525-1760896800-1760900400@fpcjackson.org
SUMMARY:Catechism Crew
DESCRIPTION:Sunday Night Classes for Kids \nFirst through Third grades \nDismissed from the Evening Worship Service
URL:https://fpcjackson.org/event/catechism-crew/2025-10-19/
LOCATION:FPC Jackson Campus\, 1390 North State Street\, Jackson\, MS\, 39202\, United States
CATEGORIES:Children
ATTACH;FMTTYPE=image/png:https://fpcjackson.org/wp-content/uploads/2023/06/Catechism-Crew-Logo.png
END:VEVENT
BEGIN:VEVENT
DTSTART;TZID=America/Chicago:20251019T110000
DTEND;TZID=America/Chicago:20251019T120000
DTSTAMP:20260425T113017
CREATED:20250827T193631Z
LAST-MODIFIED:20251218T220806Z
UID:10018300-1760871600-1760875200@fpcjackson.org
SUMMARY:Children's Churchtime
DESCRIPTION:Sundays offer many opportunities for our children to grow in their faith. In addition to Sunday School\, on Sunday mornings in Children’s Churchtime they learn the Bible and how to worship. Children’s Churchtime is for ages 3 & 4 and is held during the 11 a.m. service September-May in room 135 (Threes Sunday School class). Questions? Email kimberlyw@fpcjackson.org or mikaylan@fpcjackson.org.
URL:https://fpcjackson.org/event/childrens-churchtime-4/2025-10-19/
LOCATION:FPC Jackson Campus\, 1390 North State Street\, Jackson\, MS\, 39202\, United States
CATEGORIES:Children
ATTACH;FMTTYPE=image/png:https://fpcjackson.org/wp-content/uploads/2025/08/Childrens-Churchtime-scaled.png
END:VEVENT
BEGIN:VEVENT
DTSTART;TZID=America/Chicago:20251019T094500
DTEND;TZID=America/Chicago:20251019T105000
DTSTAMP:20260425T113017
CREATED:20230607T195344Z
LAST-MODIFIED:20260306T155904Z
UID:10002870-1760867100-1760871000@fpcjackson.org
SUMMARY:Special Friends Sunday School
DESCRIPTION:
URL:https://fpcjackson.org/event/special-friends-sunday-school/2025-10-19/
LOCATION:M120 (Main Building)\, 1390 North State Street\, Jackson\, MS\, 39202\, United States
CATEGORIES:Children,Sunday School
END:VEVENT
BEGIN:VEVENT
DTSTART;TZID=America/Chicago:20251012T180000
DTEND;TZID=America/Chicago:20251012T190000
DTSTAMP:20260425T113017
CREATED:20230608T170051Z
LAST-MODIFIED:20260417T164712Z
UID:10003787-1760292000-1760295600@fpcjackson.org
SUMMARY:Covenant Kids
DESCRIPTION:Sunday Night Classes for Kids \nAge 4 and 5 \nDismissed from the Evening Worship Service
URL:https://fpcjackson.org/event/covenant-kids/2025-10-12/
LOCATION:FPC Jackson Campus\, 1390 North State Street\, Jackson\, MS\, 39202\, United States
CATEGORIES:Children
ATTACH;FMTTYPE=image/png:https://fpcjackson.org/wp-content/uploads/2023/06/Covenant-Kids-Logo.png
END:VEVENT
BEGIN:VEVENT
DTSTART;TZID=America/Chicago:20251012T180000
DTEND;TZID=America/Chicago:20251012T190000
DTSTAMP:20260425T113017
CREATED:20230608T165824Z
LAST-MODIFIED:20260417T164622Z
UID:10003524-1760292000-1760295600@fpcjackson.org
SUMMARY:Catechism Crew
DESCRIPTION:Sunday Night Classes for Kids \nFirst through Third grades \nDismissed from the Evening Worship Service
URL:https://fpcjackson.org/event/catechism-crew/2025-10-12/
LOCATION:FPC Jackson Campus\, 1390 North State Street\, Jackson\, MS\, 39202\, United States
CATEGORIES:Children
ATTACH;FMTTYPE=image/png:https://fpcjackson.org/wp-content/uploads/2023/06/Catechism-Crew-Logo.png
END:VEVENT
BEGIN:VEVENT
DTSTART;TZID=America/Chicago:20251012T110000
DTEND;TZID=America/Chicago:20251012T120000
DTSTAMP:20260425T113017
CREATED:20250827T193631Z
LAST-MODIFIED:20251218T220806Z
UID:10018299-1760266800-1760270400@fpcjackson.org
SUMMARY:Children's Churchtime
DESCRIPTION:Sundays offer many opportunities for our children to grow in their faith. In addition to Sunday School\, on Sunday mornings in Children’s Churchtime they learn the Bible and how to worship. Children’s Churchtime is for ages 3 & 4 and is held during the 11 a.m. service September-May in room 135 (Threes Sunday School class). Questions? Email kimberlyw@fpcjackson.org or mikaylan@fpcjackson.org.
URL:https://fpcjackson.org/event/childrens-churchtime-4/2025-10-12/
LOCATION:FPC Jackson Campus\, 1390 North State Street\, Jackson\, MS\, 39202\, United States
CATEGORIES:Children
ATTACH;FMTTYPE=image/png:https://fpcjackson.org/wp-content/uploads/2025/08/Childrens-Churchtime-scaled.png
END:VEVENT
BEGIN:VEVENT
DTSTART;TZID=America/Chicago:20251012T094500
DTEND;TZID=America/Chicago:20251012T105000
DTSTAMP:20260425T113017
CREATED:20230607T195344Z
LAST-MODIFIED:20260306T155904Z
UID:10002869-1760262300-1760266200@fpcjackson.org
SUMMARY:Special Friends Sunday School
DESCRIPTION:
URL:https://fpcjackson.org/event/special-friends-sunday-school/2025-10-12/
LOCATION:M120 (Main Building)\, 1390 North State Street\, Jackson\, MS\, 39202\, United States
CATEGORIES:Children,Sunday School
END:VEVENT
BEGIN:VEVENT
DTSTART;TZID=America/Chicago:20251005T180000
DTEND;TZID=America/Chicago:20251005T190000
DTSTAMP:20260425T113017
CREATED:20230608T170051Z
LAST-MODIFIED:20260417T164712Z
UID:10003786-1759687200-1759690800@fpcjackson.org
SUMMARY:Covenant Kids
DESCRIPTION:Sunday Night Classes for Kids \nAge 4 and 5 \nDismissed from the Evening Worship Service
URL:https://fpcjackson.org/event/covenant-kids/2025-10-05/
LOCATION:FPC Jackson Campus\, 1390 North State Street\, Jackson\, MS\, 39202\, United States
CATEGORIES:Children
ATTACH;FMTTYPE=image/png:https://fpcjackson.org/wp-content/uploads/2023/06/Covenant-Kids-Logo.png
END:VEVENT
BEGIN:VEVENT
DTSTART;TZID=America/Chicago:20251005T180000
DTEND;TZID=America/Chicago:20251005T190000
DTSTAMP:20260425T113017
CREATED:20230608T165824Z
LAST-MODIFIED:20260417T164622Z
UID:10003523-1759687200-1759690800@fpcjackson.org
SUMMARY:Catechism Crew
DESCRIPTION:Sunday Night Classes for Kids \nFirst through Third grades \nDismissed from the Evening Worship Service
URL:https://fpcjackson.org/event/catechism-crew/2025-10-05/
LOCATION:FPC Jackson Campus\, 1390 North State Street\, Jackson\, MS\, 39202\, United States
CATEGORIES:Children
ATTACH;FMTTYPE=image/png:https://fpcjackson.org/wp-content/uploads/2023/06/Catechism-Crew-Logo.png
END:VEVENT
BEGIN:VEVENT
DTSTART;TZID=America/Chicago:20251005T110000
DTEND;TZID=America/Chicago:20251005T120000
DTSTAMP:20260425T113017
CREATED:20250827T193631Z
LAST-MODIFIED:20251218T220806Z
UID:10018298-1759662000-1759665600@fpcjackson.org
SUMMARY:Children's Churchtime
DESCRIPTION:Sundays offer many opportunities for our children to grow in their faith. In addition to Sunday School\, on Sunday mornings in Children’s Churchtime they learn the Bible and how to worship. Children’s Churchtime is for ages 3 & 4 and is held during the 11 a.m. service September-May in room 135 (Threes Sunday School class). Questions? Email kimberlyw@fpcjackson.org or mikaylan@fpcjackson.org.
URL:https://fpcjackson.org/event/childrens-churchtime-4/2025-10-05/
LOCATION:FPC Jackson Campus\, 1390 North State Street\, Jackson\, MS\, 39202\, United States
CATEGORIES:Children
ATTACH;FMTTYPE=image/png:https://fpcjackson.org/wp-content/uploads/2025/08/Childrens-Churchtime-scaled.png
END:VEVENT
BEGIN:VEVENT
DTSTART;TZID=America/Chicago:20251005T094500
DTEND;TZID=America/Chicago:20251005T105000
DTSTAMP:20260425T113017
CREATED:20230607T195344Z
LAST-MODIFIED:20260306T155904Z
UID:10002868-1759657500-1759661400@fpcjackson.org
SUMMARY:Special Friends Sunday School
DESCRIPTION:
URL:https://fpcjackson.org/event/special-friends-sunday-school/2025-10-05/
LOCATION:M120 (Main Building)\, 1390 North State Street\, Jackson\, MS\, 39202\, United States
CATEGORIES:Children,Sunday School
END:VEVENT
BEGIN:VEVENT
DTSTART;TZID=America/Chicago:20250928T180000
DTEND;TZID=America/Chicago:20250928T190000
DTSTAMP:20260425T113017
CREATED:20230608T170051Z
LAST-MODIFIED:20260417T164712Z
UID:10003785-1759082400-1759086000@fpcjackson.org
SUMMARY:Covenant Kids
DESCRIPTION:Sunday Night Classes for Kids \nAge 4 and 5 \nDismissed from the Evening Worship Service
URL:https://fpcjackson.org/event/covenant-kids/2025-09-28/
LOCATION:FPC Jackson Campus\, 1390 North State Street\, Jackson\, MS\, 39202\, United States
CATEGORIES:Children
ATTACH;FMTTYPE=image/png:https://fpcjackson.org/wp-content/uploads/2023/06/Covenant-Kids-Logo.png
END:VEVENT
BEGIN:VEVENT
DTSTART;TZID=America/Chicago:20250928T180000
DTEND;TZID=America/Chicago:20250928T190000
DTSTAMP:20260425T113017
CREATED:20230608T165824Z
LAST-MODIFIED:20260417T164622Z
UID:10003522-1759082400-1759086000@fpcjackson.org
SUMMARY:Catechism Crew
DESCRIPTION:Sunday Night Classes for Kids \nFirst through Third grades \nDismissed from the Evening Worship Service
URL:https://fpcjackson.org/event/catechism-crew/2025-09-28/
LOCATION:FPC Jackson Campus\, 1390 North State Street\, Jackson\, MS\, 39202\, United States
CATEGORIES:Children
ATTACH;FMTTYPE=image/png:https://fpcjackson.org/wp-content/uploads/2023/06/Catechism-Crew-Logo.png
END:VEVENT
BEGIN:VEVENT
DTSTART;TZID=America/Chicago:20250928T110000
DTEND;TZID=America/Chicago:20250928T120000
DTSTAMP:20260425T113017
CREATED:20250827T193631Z
LAST-MODIFIED:20251218T220806Z
UID:10018297-1759057200-1759060800@fpcjackson.org
SUMMARY:Children's Churchtime
DESCRIPTION:Sundays offer many opportunities for our children to grow in their faith. In addition to Sunday School\, on Sunday mornings in Children’s Churchtime they learn the Bible and how to worship. Children’s Churchtime is for ages 3 & 4 and is held during the 11 a.m. service September-May in room 135 (Threes Sunday School class). Questions? Email kimberlyw@fpcjackson.org or mikaylan@fpcjackson.org.
URL:https://fpcjackson.org/event/childrens-churchtime-4/2025-09-28/
LOCATION:FPC Jackson Campus\, 1390 North State Street\, Jackson\, MS\, 39202\, United States
CATEGORIES:Children
ATTACH;FMTTYPE=image/png:https://fpcjackson.org/wp-content/uploads/2025/08/Childrens-Churchtime-scaled.png
END:VEVENT
BEGIN:VEVENT
DTSTART;TZID=America/Chicago:20250928T094500
DTEND;TZID=America/Chicago:20250928T105000
DTSTAMP:20260425T113017
CREATED:20230607T195344Z
LAST-MODIFIED:20260306T155904Z
UID:10002867-1759052700-1759056600@fpcjackson.org
SUMMARY:Special Friends Sunday School
DESCRIPTION:
URL:https://fpcjackson.org/event/special-friends-sunday-school/2025-09-28/
LOCATION:M120 (Main Building)\, 1390 North State Street\, Jackson\, MS\, 39202\, United States
CATEGORIES:Children,Sunday School
END:VEVENT
BEGIN:VEVENT
DTSTART;TZID=America/Chicago:20250921T180000
DTEND;TZID=America/Chicago:20250921T190000
DTSTAMP:20260425T113017
CREATED:20230608T170051Z
LAST-MODIFIED:20260417T164712Z
UID:10003784-1758477600-1758481200@fpcjackson.org
SUMMARY:Covenant Kids
DESCRIPTION:Sunday Night Classes for Kids \nAge 4 and 5 \nDismissed from the Evening Worship Service
URL:https://fpcjackson.org/event/covenant-kids/2025-09-21/
LOCATION:FPC Jackson Campus\, 1390 North State Street\, Jackson\, MS\, 39202\, United States
CATEGORIES:Children
ATTACH;FMTTYPE=image/png:https://fpcjackson.org/wp-content/uploads/2023/06/Covenant-Kids-Logo.png
END:VEVENT
BEGIN:VEVENT
DTSTART;TZID=America/Chicago:20250921T180000
DTEND;TZID=America/Chicago:20250921T190000
DTSTAMP:20260425T113017
CREATED:20230608T165824Z
LAST-MODIFIED:20260417T164622Z
UID:10003521-1758477600-1758481200@fpcjackson.org
SUMMARY:Catechism Crew
DESCRIPTION:Sunday Night Classes for Kids \nFirst through Third grades \nDismissed from the Evening Worship Service
URL:https://fpcjackson.org/event/catechism-crew/2025-09-21/
LOCATION:FPC Jackson Campus\, 1390 North State Street\, Jackson\, MS\, 39202\, United States
CATEGORIES:Children
ATTACH;FMTTYPE=image/png:https://fpcjackson.org/wp-content/uploads/2023/06/Catechism-Crew-Logo.png
END:VEVENT
BEGIN:VEVENT
DTSTART;TZID=America/Chicago:20250921T110000
DTEND;TZID=America/Chicago:20250921T120000
DTSTAMP:20260425T113017
CREATED:20250827T193631Z
LAST-MODIFIED:20251218T220806Z
UID:10018296-1758452400-1758456000@fpcjackson.org
SUMMARY:Children's Churchtime
DESCRIPTION:Sundays offer many opportunities for our children to grow in their faith. In addition to Sunday School\, on Sunday mornings in Children’s Churchtime they learn the Bible and how to worship. Children’s Churchtime is for ages 3 & 4 and is held during the 11 a.m. service September-May in room 135 (Threes Sunday School class). Questions? Email kimberlyw@fpcjackson.org or mikaylan@fpcjackson.org.
URL:https://fpcjackson.org/event/childrens-churchtime-4/2025-09-21/
LOCATION:FPC Jackson Campus\, 1390 North State Street\, Jackson\, MS\, 39202\, United States
CATEGORIES:Children
ATTACH;FMTTYPE=image/png:https://fpcjackson.org/wp-content/uploads/2025/08/Childrens-Churchtime-scaled.png
END:VEVENT
BEGIN:VEVENT
DTSTART;TZID=America/Chicago:20250921T094500
DTEND;TZID=America/Chicago:20250921T105000
DTSTAMP:20260425T113017
CREATED:20230607T195344Z
LAST-MODIFIED:20260306T155904Z
UID:10002866-1758447900-1758451800@fpcjackson.org
SUMMARY:Special Friends Sunday School
DESCRIPTION:
URL:https://fpcjackson.org/event/special-friends-sunday-school/2025-09-21/
LOCATION:M120 (Main Building)\, 1390 North State Street\, Jackson\, MS\, 39202\, United States
CATEGORIES:Children,Sunday School
END:VEVENT
BEGIN:VEVENT
DTSTART;TZID=America/Chicago:20250914T180000
DTEND;TZID=America/Chicago:20250914T190000
DTSTAMP:20260425T113017
CREATED:20230608T170051Z
LAST-MODIFIED:20260417T164712Z
UID:10003783-1757872800-1757876400@fpcjackson.org
SUMMARY:Covenant Kids
DESCRIPTION:Sunday Night Classes for Kids \nAge 4 and 5 \nDismissed from the Evening Worship Service
URL:https://fpcjackson.org/event/covenant-kids/2025-09-14/
LOCATION:FPC Jackson Campus\, 1390 North State Street\, Jackson\, MS\, 39202\, United States
CATEGORIES:Children
ATTACH;FMTTYPE=image/png:https://fpcjackson.org/wp-content/uploads/2023/06/Covenant-Kids-Logo.png
END:VEVENT
BEGIN:VEVENT
DTSTART;TZID=America/Chicago:20250914T180000
DTEND;TZID=America/Chicago:20250914T190000
DTSTAMP:20260425T113017
CREATED:20230608T165824Z
LAST-MODIFIED:20260417T164622Z
UID:10003520-1757872800-1757876400@fpcjackson.org
SUMMARY:Catechism Crew
DESCRIPTION:Sunday Night Classes for Kids \nFirst through Third grades \nDismissed from the Evening Worship Service
URL:https://fpcjackson.org/event/catechism-crew/2025-09-14/
LOCATION:FPC Jackson Campus\, 1390 North State Street\, Jackson\, MS\, 39202\, United States
CATEGORIES:Children
ATTACH;FMTTYPE=image/png:https://fpcjackson.org/wp-content/uploads/2023/06/Catechism-Crew-Logo.png
END:VEVENT
BEGIN:VEVENT
DTSTART;TZID=America/Chicago:20250914T110000
DTEND;TZID=America/Chicago:20250914T120000
DTSTAMP:20260425T113017
CREATED:20250827T193631Z
LAST-MODIFIED:20251218T220806Z
UID:10018295-1757847600-1757851200@fpcjackson.org
SUMMARY:Children's Churchtime
DESCRIPTION:Sundays offer many opportunities for our children to grow in their faith. In addition to Sunday School\, on Sunday mornings in Children’s Churchtime they learn the Bible and how to worship. Children’s Churchtime is for ages 3 & 4 and is held during the 11 a.m. service September-May in room 135 (Threes Sunday School class). Questions? Email kimberlyw@fpcjackson.org or mikaylan@fpcjackson.org.
URL:https://fpcjackson.org/event/childrens-churchtime-4/2025-09-14/
LOCATION:FPC Jackson Campus\, 1390 North State Street\, Jackson\, MS\, 39202\, United States
CATEGORIES:Children
ATTACH;FMTTYPE=image/png:https://fpcjackson.org/wp-content/uploads/2025/08/Childrens-Churchtime-scaled.png
END:VEVENT
BEGIN:VEVENT
DTSTART;TZID=America/Chicago:20250914T094500
DTEND;TZID=America/Chicago:20250914T105000
DTSTAMP:20260425T113017
CREATED:20230607T195344Z
LAST-MODIFIED:20260306T155904Z
UID:10002865-1757843100-1757847000@fpcjackson.org
SUMMARY:Special Friends Sunday School
DESCRIPTION:
URL:https://fpcjackson.org/event/special-friends-sunday-school/2025-09-14/
LOCATION:M120 (Main Building)\, 1390 North State Street\, Jackson\, MS\, 39202\, United States
CATEGORIES:Children,Sunday School
END:VEVENT
BEGIN:VEVENT
DTSTART;TZID=America/Chicago:20250907T180000
DTEND;TZID=America/Chicago:20250907T190000
DTSTAMP:20260425T113017
CREATED:20230608T170051Z
LAST-MODIFIED:20260417T164712Z
UID:10003782-1757268000-1757271600@fpcjackson.org
SUMMARY:Covenant Kids
DESCRIPTION:Sunday Night Classes for Kids \nAge 4 and 5 \nDismissed from the Evening Worship Service
URL:https://fpcjackson.org/event/covenant-kids/2025-09-07/
LOCATION:FPC Jackson Campus\, 1390 North State Street\, Jackson\, MS\, 39202\, United States
CATEGORIES:Children
ATTACH;FMTTYPE=image/png:https://fpcjackson.org/wp-content/uploads/2023/06/Covenant-Kids-Logo.png
END:VEVENT
BEGIN:VEVENT
DTSTART;TZID=America/Chicago:20250907T180000
DTEND;TZID=America/Chicago:20250907T190000
DTSTAMP:20260425T113017
CREATED:20230608T165824Z
LAST-MODIFIED:20260417T164622Z
UID:10003519-1757268000-1757271600@fpcjackson.org
SUMMARY:Catechism Crew
DESCRIPTION:Sunday Night Classes for Kids \nFirst through Third grades \nDismissed from the Evening Worship Service
URL:https://fpcjackson.org/event/catechism-crew/2025-09-07/
LOCATION:FPC Jackson Campus\, 1390 North State Street\, Jackson\, MS\, 39202\, United States
CATEGORIES:Children
ATTACH;FMTTYPE=image/png:https://fpcjackson.org/wp-content/uploads/2023/06/Catechism-Crew-Logo.png
END:VEVENT
END:VCALENDAR